BEGIN:VCALENDAR
VERSION:2.0
PRODID:-//Virtuelle PH - ECPv6.6.4.2//NONSGML v1.0//EN
CALSCALE:GREGORIAN
METHOD:PUBLISH
X-WR-CALNAME:Virtuelle PH
X-ORIGINAL-URL:https://www.virtuelle-ph.at
X-WR-CALDESC:Veranstaltungen für Virtuelle PH
REFRESH-INTERVAL;VALUE=DURATION:PT1H
X-Robots-Tag:noindex
X-PUBLISHED-TTL:PT1H
BEGIN:VTIMEZONE
TZID:Europe/Berlin
BEGIN:DAYLIGHT
TZOFFSETFROM:+0100
TZOFFSETTO:+0200
TZNAME:CEST
DTSTART:20160327T010000
END:DAYLIGHT
BEGIN:STANDARD
TZOFFSETFROM:+0200
TZOFFSETTO:+0100
TZNAME:CET
DTSTART:20161030T010000
END:STANDARD
END:VTIMEZONE
BEGIN:VEVENT
DTSTART;TZID=Europe/Berlin:20160412T170000
DTEND;TZID=Europe/Berlin:20160412T180000
DTSTAMP:20260420T112115
CREATED:20160419T102157Z
LAST-MODIFIED:20160419T102157Z
UID:10002222-1460480400-1460484000@www.virtuelle-ph.at
SUMMARY:eLecture zum Schwerpunkt Flüchtlingskinder: Erfahrungswerte zur Integration und Förderung von Flüchtlingen des Schulstandortes Antonkriegergasse
DESCRIPTION:Fachexpert/innen: Stefanie Schermann und Agnes Lörnitzo\, Antonkriegergasse\nCo-Moderation: Angelika Güttl-Strahlhofer \nBedingt durch aktuelle Migrationsbewegungen stehen viele Schulen vor neuen Herausforderungen. Der Umgang damit erweist sich oft als schwierig\, da es diesbezüglich wenig Erfahrungswerte gibt. Die antonkriegergasse als Schule im 23. Wiener Gemeindebezirk versucht einen Weg zu finden\, Flüchtlingskinder bestmöglich zu integrieren.\nIm Rahmen dieses Vortrages wird eine kurze Einführung zum Standort und ein Überblick zur Situation der Flüchtlinge an der Schule gegeben.\nZusätzlich wird darauf eingegangen\, welche verschiedenen Maßnahmen der Förderung und Integration probiert\, umgesetzt und beibehalten\n–  oder auch verworfen wurden. Dies geschieht zum Teil auch in Zusammenarbeit mit externen Betreuer_innen und Organisationen. Anschauliche Beispiele und Tipps aus dem Praxisalltag der antonkriegergasse sollen anderen Lehrenden und Schulen Ideen und Anregungen bieten. \n[Themenschwerpunkt: Flüchtlingskinder] \n\n			\n				\n			\n			Teilnahmekriterien & Info\n		 \n		\n			Lernziele\n		 \n		\n			Voraussetzungen\n		\n		 \n		\n			\n				\n					\n			Technische Voraussetzungen: Grundlegende Computerkenntnisse\, gute Internetverbindung\, empfehlenswert: Headset. \nBitte finden Sie sich etwa 10 Minuten vor Start der eLecture im virtuellen Seminarraum unter diesem Link ein: virtuelle-ph.adobeconnect.com/electures_flucht \nWichtige Hinweise zum Besuch einer eLecture unter: www.virtuelle-ph.at/electures-info \nÜber diesen Link können Sie testen\, ob Ihr Computer optimal für den eLectures-Besuch vorbereitet ist\, und vorgeschlagene Aktualisierungen vornehmen: admin.adobeconnect.com/common/help/de/support/meeting_test.htm \nWenn Sie ein Headset besitzen\, stecken Sie es bitte an bevor Sie den Adobe Connect-Raum betreten. \nDie Teilnahme an allen eLectures der Virtuellen PH ist für österreichische Lehrkräfte und Studierende eines Lehramts kostenlos.\n		 \n		\n			Anregungen anhand bereits gesammelter Erfahrungswerte im Umgang mit der Flüchtlingssituation erhalten; Ideen und Tipps für die Umsetzung am eigenen Schulstandort bekommen;
URL:https://www.virtuelle-ph.at/veranstaltung/electure-zum-schwerpunkt-fluechtlingskinder-erfahrungswerte-zur-integration-und-foerderung-von-fluechtlingen-des-schulstandortes-antonkriegergasse/
CATEGORIES:eLecture
END:VEVENT
END:VCALENDAR