BEGIN:VCALENDAR
VERSION:2.0
PRODID:-//Virtuelle PH - ECPv6.6.4.2//NONSGML v1.0//EN
CALSCALE:GREGORIAN
METHOD:PUBLISH
X-WR-CALNAME:Virtuelle PH
X-ORIGINAL-URL:https://www.virtuelle-ph.at
X-WR-CALDESC:Veranstaltungen für Virtuelle PH
REFRESH-INTERVAL;VALUE=DURATION:PT1H
X-Robots-Tag:noindex
X-PUBLISHED-TTL:PT1H
BEGIN:VTIMEZONE
TZID:Europe/Berlin
BEGIN:DAYLIGHT
TZOFFSETFROM:+0100
TZOFFSETTO:+0200
TZNAME:CEST
DTSTART:20190331T010000
END:DAYLIGHT
BEGIN:STANDARD
TZOFFSETFROM:+0200
TZOFFSETTO:+0100
TZNAME:CET
DTSTART:20191027T010000
END:STANDARD
END:VTIMEZONE
BEGIN:VEVENT
DTSTART;TZID=Europe/Berlin:20190613T193000
DTEND;TZID=Europe/Berlin:20190613T203000
DTSTAMP:20260420T141226
CREATED:20190514T104133Z
LAST-MODIFIED:20190614T083129Z
UID:10003315-1560454200-1560457800@www.virtuelle-ph.at
SUMMARY:eLecture: Fritz Wotruba - Skulpturen in der Volksschule
DESCRIPTION:zur Aufzeichnung\n\n\n						Ein ganzheitlich und digitales Lernerlebnis in Kunst- Deutsch und Geometrieunterricht für Kids von 6-15 Jahre in der I- Padklasse! Kunst- und Persönlichkeitsbildung ist die Basis meiner Arbeit mit PflichtschülerInnen\, Die Vernetzung von sogenannten Unterrichtsfächern ist der Grundstein für ganzheitliches Lernen. \n*Kunst und Deutschunterricht: Die Skulptur als mein zweites Ich\, \n* Digitale Kompetenzen anwenden\n* Räumlichkeit: Fritz Wotruba und das 21 er Haus Depot als Lehrausgang \n* Mathematik: Flächen und Kanten in Lernplattform sofatutor + screenshot von Wotruba Skulptur in App Procreate in Ebenen bearbeiten\n* Ebenen ein und ausblenden* Hintergrundbild selbst auswählen und einrichten\n* I Book als Projektbuch anlegen \n* Lehrziele\, Dauer\, Fortsetzungsideen\, Rahmenbedingungen \nDiese eLecture ist für Sie geeignet wenn: \n….Sie gerne kreativ ganzheitlich mit Ihren SchülerInnen digital mit Tablets( I – Pads ) arbeiten und schulfächerfübergreifende Ideen anwenden wollen. \n….wenn Sie andere Pfade des Lernens und aktiven Tuns mit Tablets ( I Pad) Klassen kennenlernen wollen \n…wenn Sie Ideen suchen\, die Sie in Ihren Unterricht auf Ihre Weise umsetzen wollen. \n————————————- \nBei dieser eLecture handelt es sich um ein begleitetes OTA Praktikum. Mehr zur OTA unter www.virtuelle-ph.at/ota \nCoModeration: Walter Fikisz \n\n			\n				\n			\n			Teilnahmekriterien & Info\n		 \n		\n			Lernziele\n		 \n		\n			Voraussetzungen\n		\n		 \n		\n			\n				\n					\n			Technische Voraussetzungen: Grundlegende Computerkenntnisse\, gute Internetverbindung; optional: Headset. \nSo treten Sie der eLecture im virtuellen Lernraum bei:  \n1. Rufen Sie 10 min vor Terminstart folgende Seite auf:  \nvph.adobeconnect.com/vier/ \n2. Geben Sie bitte Ihren Vor- und Nachnamen ein und „Betreten Sie den Raum“ mit Klick auf den Button. \n3. Folgen Sie den Anweisungen auf dem Bildschirm. Sie werden in Kürze eingelassen. \nWenn Sie noch an keiner eLecture teilgenommen haben\, finden Sie alle Infos zum Einstieg unter: www.virtuelle-ph.at/electures/#einstieg \nDie Teilnahme an allen eLectures der Virtuellen PH ist für österreichische Lehrkräfte und Studierende eines Lehramts kostenlos.\n		 \n		\n			* Die Lernenden übertragen Einzelfächerlehrinhalte in einen ganzheitlichen Unterrichtsansatz. \n* Die Lernenden ziehen  aus dem vorgestellten Konzept Schlüsse für Ihren eigenen Unterrichtsansatz und die Anwendung digitaler Grundkompetenzen mit SchülerInnen. \n* Die Lernenden sind fähig neue Ideen und Ansätze im räumlichen Erfassen und digitalen Umsetzen in Geometrie\, Deutsch und Kunst zu reflektieren und in ihrer Lehrer auszuprobieren.
URL:https://www.virtuelle-ph.at/veranstaltung/electure-fritz-wotruba-skulpturen-in-der-volksschule/
CATEGORIES:eLecture
END:VEVENT
END:VCALENDAR