BEGIN:VCALENDAR
VERSION:2.0
PRODID:-//Virtuelle PH - ECPv6.6.4.2//NONSGML v1.0//EN
CALSCALE:GREGORIAN
METHOD:PUBLISH
X-ORIGINAL-URL:https://www.virtuelle-ph.at
X-WR-CALDESC:Veranstaltungen für Virtuelle PH
REFRESH-INTERVAL;VALUE=DURATION:PT1H
X-Robots-Tag:noindex
X-PUBLISHED-TTL:PT1H
BEGIN:VTIMEZONE
TZID:Europe/Berlin
BEGIN:DAYLIGHT
TZOFFSETFROM:+0100
TZOFFSETTO:+0200
TZNAME:CEST
DTSTART:20200329T010000
END:DAYLIGHT
BEGIN:STANDARD
TZOFFSETFROM:+0200
TZOFFSETTO:+0100
TZNAME:CET
DTSTART:20201025T010000
END:STANDARD
END:VTIMEZONE
BEGIN:VEVENT
DTSTART;TZID=Europe/Berlin:20201020T170000
DTEND;TZID=Europe/Berlin:20201020T180000
DTSTAMP:20260420T185439
CREATED:20200917T110800Z
LAST-MODIFIED:20220214T091848Z
UID:10003756-1603213200-1603216800@www.virtuelle-ph.at
SUMMARY:eLecture: Endlich be-greifbar: Künstliche Intelligenz - Anregungen für den Unterricht
DESCRIPTION:zur Aufzeichnung\n\n\n						Künstliche Intelligenz ist seit ein paar Jahren allgegenwärtig und wird (un)bewusst tagein\, tagaus genutzt. Welche technologischen Möglichkeiten und Herausforderungen\, ergeben sich durch selbstlernende Systeme und mit welchen gesellschaftlichen Auswirkungen gehen sie einher? Diese und ähnliche Fragen sollen auch im Schulkontext in den Vordergrund gerückt werden. \nAlina Natmessnig und ihre Kolleg*innen sind seit über acht Jahren im Rahmen der „Endlich be-greifbar Serie“ intensiv in die Aufbereitung und Vermittlung von zukunftsorientieren Themen für den Schulkontext involviert. In diesem Zusammenhang haben sie bereits in ganz Österreich Fortbildungen zu sogenannten FTI-Themen (u.a. Weltraum\, Mobilität und Produktion der Zukunft) geleitet und themenbezogene Aktivitäten für den Schulunterricht entwickelt. \nEin kurzer Fachinput von Jakob Reiter (the ventury) wird ins Thema einstimmen. Danach werden ausgewählte diskussionsanregende Materialien (Spiele\, Videos etc.) vorgestellt und die Nutzung im Schulkontext besprochen. Weiters bietet diese eLecture auch Raum eigene Erfahrungen und Ideen zu teilen. \n\nDiese eLecture ist für Sie interessant\, wenn\n# Sie Ideen und Anregungen\, wie sie das interdisziplinäre Thema Künstliche Intelligenz für Jugendliche in ihrem Unterricht vermitteln können\, suchen.\n# Sie mit Ihren Schüler_innen über KI und damit verbundene gesellschaftliche Chancen und Herausforderungen ins Gespräch kommen wollen\n# Sie konkrete Materialien zu KI für den Unterricht suchen \n\nExpert_in: Alina NatmessnigNetzwerk Science Center \n\n\n			\n				\n			\n			Teilnahmekriterien & Info\n		 \n		\n			Lernziele\n		 \n		\n			Voraussetzungen\n		\n		 \n		\n			\n				\n					\n			So treten Sie der Veranstaltung im virtuellen Lernraum bei:  \n        1. Rufen Sie 5 min vor Terminstart den Link zum Virtuellen Lernraum auf: \nzoom.us/my/virtuelleph.electure2 \n         2. Geben Sie bitte Ihre Email-Adresse und Ihren vollen Namen ein und klicken Sie den Button\n             „Dem Webinar beitreten“. \n         3. Klicken Sie den grünen Button „Per Computer dem Audio beitreten“ an.\n             Das bewirkt\, dass Sie uns hören und sehen können. Sie werden in Kürze eingelassen. \nDie Teilnahme an allen eLectures der Virtuellen PH ist für österreichische Hochschullehrende\, Lehrkräfte und Studierende eines Lehramts kostenlos.\n		 \n		\n			Ein Basisverständnis für KI-Technologien und Anwendungen entwickeln \nKennengelernte partizipative Methoden im Unterricht nutzen
URL:https://www.virtuelle-ph.at/veranstaltung/electure-endlich-be-greifbar-kuenstliche-intelligenz-anregungen-fuer-den-unterricht/
CATEGORIES:eLecture
END:VEVENT
END:VCALENDAR