BEGIN:VCALENDAR
VERSION:2.0
PRODID:-//Virtuelle PH - ECPv6.6.4.2//NONSGML v1.0//EN
CALSCALE:GREGORIAN
METHOD:PUBLISH
X-ORIGINAL-URL:https://www.virtuelle-ph.at
X-WR-CALDESC:Veranstaltungen für Virtuelle PH
REFRESH-INTERVAL;VALUE=DURATION:PT1H
X-Robots-Tag:noindex
X-PUBLISHED-TTL:PT1H
BEGIN:VTIMEZONE
TZID:Europe/Berlin
BEGIN:DAYLIGHT
TZOFFSETFROM:+0100
TZOFFSETTO:+0200
TZNAME:CEST
DTSTART:20190331T010000
END:DAYLIGHT
BEGIN:STANDARD
TZOFFSETFROM:+0200
TZOFFSETTO:+0100
TZNAME:CET
DTSTART:20191027T010000
END:STANDARD
END:VTIMEZONE
BEGIN:VEVENT
DTSTART;TZID=Europe/Berlin:20190409T180000
DTEND;TZID=Europe/Berlin:20190409T190000
DTSTAMP:20260420T065308
CREATED:20190319T124933Z
LAST-MODIFIED:20190410T064152Z
UID:10003361-1554832800-1554836400@www.virtuelle-ph.at
SUMMARY:eLecture: Open Source und Creative Commons
DESCRIPTION:zur Aufzeichnung\n\n\n\n\nZiel dieser eLecture von Andreas Denner ist es\, dem Publikum das Thema Open Source und Creative Commons näherzubringen. \nZuerst werden die Begriffe kurz definiert und auf die Geschichte\, die OSI (Open Source Initiative) sowie die FSF (Free Software Foundation) eingegangen. Ein wichtiger Teil werden die Bereiche (Open Data\, Creative Commons\, Open Software\, Open Hardware) sowie die Lizenzmodelle sein. Abschließend werde ich auf Commons Creatives eingehen. Dieser Bereich ist für die tägliche Arbeit der Lehrer besonders relevant \nIm zweiten Teil möchte ich große Initiativen vorstellen zB Linux bzw. WordPress. Weiters möchte ich Non-Profit Organisationen vorstellen\, die sich in dem Bereich engagieren. \nZu guter Letzt möchte ich zeigen wie man sich im Bereich Open Source engagieren kann. Hier werde ich nochmals auf einige lokale Organisationen eingehen. \n\n			\n				\n			\n			Teilnahmekriterien & Info\n		 \n		\n			Lernziele\n		 \n		\n			Voraussetzungen\n		\n		 \n		\n			\n				\n					\n			Technische Voraussetzungen: Grundlegende Computerkenntnisse\, gute Internetverbindung; optional: Headset. \nSo treten Sie der eLecture im virtuellen Lernraum bei: \n1. Rufen Sie 10 min vor Terminstart folgende Seite auf: \nvph.adobeconnect.com/zwei/ \n2. Geben Sie bitte Ihren Vor- und Nachnamen ein und „Betreten Sie den Raum“ mit Klick auf den Button. \n3. Folgen Sie den Anweisungen auf dem Bildschirm. Sie werden in Kürze eingelassen. \nWenn Sie noch an keiner eLecture teilgenommen haben\, finden Sie alle Infos zum Einstieg unter: www.virtuelle-ph.at/electures/#einstieg \nDie Teilnahme an allen eLectures der Virtuellen PH ist für österreichische Lehrkräfte und Studierende eines Lehramts kostenlos.\n		 \n		\n			\nSie können die\nunterschiedlichen Lizenzmodelle bei Open Source unterscheiden.\nSie könne die\nunterschiedlichen Lizenzmodelle im Bereich Common Creatives\nunterscheiden.\nSie wissen welche\nMaterialien Sie im Unterricht einsetzen dürfen.\nSie kennen die Vor-\nund Nachteile von Open Source & Common Creatives.\nSie wissen wo sie\nsich eingehender zum Thema Open Source und Common Creatives\ninformieren können.
URL:https://www.virtuelle-ph.at/veranstaltung/electure-open-source-und-creative-commons/
CATEGORIES:eLecture
END:VEVENT
END:VCALENDAR