BEGIN:VCALENDAR
VERSION:2.0
PRODID:-//Virtuelle PH - ECPv6.6.4.2//NONSGML v1.0//EN
CALSCALE:GREGORIAN
METHOD:PUBLISH
X-WR-CALNAME:Virtuelle PH
X-ORIGINAL-URL:https://www.virtuelle-ph.at
X-WR-CALDESC:Veranstaltungen für Virtuelle PH
REFRESH-INTERVAL;VALUE=DURATION:PT1H
X-Robots-Tag:noindex
X-PUBLISHED-TTL:PT1H
BEGIN:VTIMEZONE
TZID:Europe/Berlin
BEGIN:DAYLIGHT
TZOFFSETFROM:+0100
TZOFFSETTO:+0200
TZNAME:CEST
DTSTART:20200329T010000
END:DAYLIGHT
BEGIN:STANDARD
TZOFFSETFROM:+0200
TZOFFSETTO:+0100
TZNAME:CET
DTSTART:20201025T010000
END:STANDARD
END:VTIMEZONE
BEGIN:VEVENT
DTSTART;TZID=Europe/Berlin:20200420T180000
DTEND;TZID=Europe/Berlin:20200420T190000
DTSTAMP:20260420T155232
CREATED:20190927T075325Z
LAST-MODIFIED:20200421T112928Z
UID:10003484-1587405600-1587409200@www.virtuelle-ph.at
SUMMARY:electure #digiGruBi: Tipps und Tricks für Digitale Grundbildung im Schulalltag
DESCRIPTION:zur Aufzeichnung\n\n\n						Die Impelmentierung der digitalen Grundbildung stellt für viele Schulen und LehrerInnen eine große Herausforderung dar. \nIn dieser eLecuture erfahren sie welche Möglichkeiten es gibt\, die digitale Grundbildung umzusetzten. Der Fokus liegt dabei bei der integrativen Umsetzung der digitalen Grundbildung. Die Tipps beziehen sich auf Infrastruktur\, technische Voraussetzungen und organisatorische Strukturen. Es werden Tools und Materialsammlungen für die digitale Grundbildung vorgestellt. \nDiese eLecture ist besonders dann geeignet\, wenn Sie mit der Implementierung der digitalen Grundbildung an ihrer Schule beauftragt wurden.\n—————- \nDiese eLecture ist Teil einer Reihe zur Digitalen Grundbildung in Kooperation mit der PH Wien. Vertiefend können Sie an einer Ringveranstaltung der Virtuellen PH teilnehmen\, wenn Sie weiter zu den aufgeworfenen Themen arbeiten wollen! Mehr dazu finden Sie unter: www.virtuelle-ph.at/digigrubi \nCoModeration: Gerlinde Schwabl \n\n			\n				\n			\n			Teilnahmekriterien & Info\n		 \n		\n			Lernziele\n		 \n		\n			Voraussetzungen\n		\n		 \n		\n			\n				\n					\n			Diese Veranstaltung wird via Zoom abgehalten (siehe Voraussetzungen). So treten Sie der eLecture im virtuellen Lernraum bei:  \n1. Rufen Sie 10 min vor Terminstart folgende Seite auf: \nzoom.us/j/684979517 \n2. Geben Sie bitte Ihren vollen Namen und eine Email-Adresse ein und klicken Sie „Dem Webinar beitreten“ an. Bitte klicken Sie im nächsten Schritt auch „Per Computer dem Audio beitreten“ an: das bewirkt\, dass Sie uns hören und sehen können. \n3. Folgen Sie den Anweisungen auf dem Bildschirm. Sie werden in Kürze eingelassen. \nDie Teilnahme an allen eLectures der Virtuellen PH ist für österreichische Hochschullehrende\, Lehrkräfte und Studierende eines Lehramts kostenlos. \nSie können sich via Audio (Headset mit Mikrofon) in einigen Teilen der eLecture zuschalten und mitdiskutieren!\nInfos dazu unter: https://www.virtuelle-ph.at/digigrubi/#el\n		 \n		\n			TeilnehmerInnen … \n#     bekommen einen Überblick\, welche Bausteine (Infrastruktur\, technische Voraussetzungen\, organisatorische Strukturen) sich für die Umsetzung digitale Grundbildung eignen. \n#     wissen\, welche Möglichkeiten der Umsetzung es gibt und was es zu beachten gibt. \n#     kennen Tools\, die bei in der Umsetzung der digitalen Grundbildung eingesetzt werden können. \n#     erhalten eine Quellenübersicht\, über Materialien zur digitalen Grundbildung.
URL:https://www.virtuelle-ph.at/veranstaltung/electure-digigrubi-tipps-und-tricks-fuer-digitale-grundbildung-im-schulalltag/
CATEGORIES:eLecture,Reihe Digitale Grundbildung
END:VEVENT
END:VCALENDAR