BEGIN:VCALENDAR
VERSION:2.0
PRODID:-//Virtuelle PH - ECPv6.6.4.2//NONSGML v1.0//EN
CALSCALE:GREGORIAN
METHOD:PUBLISH
X-WR-CALNAME:Virtuelle PH
X-ORIGINAL-URL:https://www.virtuelle-ph.at
X-WR-CALDESC:Veranstaltungen für Virtuelle PH
REFRESH-INTERVAL;VALUE=DURATION:PT1H
X-Robots-Tag:noindex
X-PUBLISHED-TTL:PT1H
BEGIN:VTIMEZONE
TZID:Europe/Vienna
BEGIN:DAYLIGHT
TZOFFSETFROM:+0100
TZOFFSETTO:+0200
TZNAME:CEST
DTSTART:20230326T010000
END:DAYLIGHT
BEGIN:STANDARD
TZOFFSETFROM:+0200
TZOFFSETTO:+0100
TZNAME:CET
DTSTART:20231029T010000
END:STANDARD
BEGIN:DAYLIGHT
TZOFFSETFROM:+0100
TZOFFSETTO:+0200
TZNAME:CEST
DTSTART:20240331T010000
END:DAYLIGHT
BEGIN:STANDARD
TZOFFSETFROM:+0200
TZOFFSETTO:+0100
TZNAME:CET
DTSTART:20241027T010000
END:STANDARD
END:VTIMEZONE
BEGIN:VEVENT
DTSTART;TZID=Europe/Vienna:20241106T170000
DTEND;TZID=Europe/Vienna:20241106T183000
DTSTAMP:20260420T182231
CREATED:20241107T033132Z
LAST-MODIFIED:20241107T033132Z
UID:10005508-1730912400-1730917800@www.virtuelle-ph.at
SUMMARY:Die  abschließende Arbeit an AHS (vormals VWA) – Was ist neu?
DESCRIPTION:Zur Anmeldung \n\n						Zum virtuellen Lernraum\n						\n\n						Im Juli 2024 wurden im Parlament Änderungen bei den abschließenden Arbeiten an AHS und BMS beschlossen und mit BGBl. I Nr. 121/2024 veröffentlicht.  Was sich dadurch ab dem Schuljahr 2024/25 für die AHS ändert und welche neuen Möglichkeiten damit verbunden sind\, ist Inhalt dieser eLecture.\nAnna Lasselsberger leitet die Abteilung I/3 (AHS-Abteilung) des BMBWF und ist Auftraggeberin der Arbeitsgruppe „Abschließende Arbeit an AHS“\, die u.a. für die Bereitstellung aktueller Informationen und die Entwicklung unterstützender Materialien auf der Website www.ahs-vwa.at/ verantwortlich ist.\nAusgehend von einem Überblick über die gesetzlichen Grundlagen werden neue Möglichkeiten der Umsetzung ausgelotet und mit den Teilnehmenden diskutiert. Dabei entsteht Raum für Vernetzung. Unterstützende Materialien für die Arbeit am Standort und die Betreuungstätigkeit werden vorgestellt. \nDiese eLecture ist für Sie interessant\, wenn\n– Sie Genaueres über die abschließende Arbeit an AHS wissen möchten. \n– Sie an Ihrem Schulstandort Prozesse in Zusammenhang mit der abschließenden Arbeit gestalten und koordinieren.\n– Sie als Betreuerin/als Betreuer Schülerinnen und Schüler beim Erstellen abschließender Arbeiten begleiten oder dies beabsichtigen. \nExpertinnen und Experten: \nAnna Lasselsberger (BMBWF)\, Christoph Heher\, Martin Peichl\, Adelheid Schreilechner\, Helga Simmerl\, Annemarie Strauß (Arbeitsgruppe „Abschließende Arbeit an AHS“) \n\nExpert_in: Anna Lasselsberger \n\n\n			\n				\n			\n			Teilnahmekriterien & Info\n		 \n		\n			Lernziele\n		 \n		\n			Voraussetzungen\n		\n		 \n		\n			\n				\n					\n			So treten Sie der Veranstaltung im virtuellen Lernraum bei: \n1. Rufen Sie 5 min vor Terminstart den Link zum Virtuellen Lernraum auf: \nvirtuelle-ph-at.zoom.us/my/electures2 \n2. Geben Sie bitte Ihren vollen Namen ein und klicken Sie den Button „Einem Meeting Beitreten“.                              \n3. Klicken Sie den grünen Button „Per Computer dem Audio beitreten“ an. \nDas bewirkt\, dass Sie uns hören und sehen können. Sie werden in Kürze eingelassen. \nDie Teilnahme an allen eLectures der Virtuellen PH ist für österreichische Hochschullehrende\, Lehrkräfte und Studierende eines Lehramts kostenlos.\n		 \n		\n			Die gesetzlichen Grundlagen und Umsetzungsvarianten der abschließenden Arbeit an AHS kennen.\nUnterstützungsangebote für die eigene Koordinations- und/oder Betreuungstätigkeit kennen und nutzen.\n		 \n		\n			–
URL:https://www.virtuelle-ph.at/veranstaltung/die-abschliessende-arbeit-an-ahs-vormals-vwa-was-ist-neu-4/
CATEGORIES:eLecture
END:VEVENT
BEGIN:VEVENT
DTSTART;TZID=Europe/Vienna:20241106T170000
DTEND;TZID=Europe/Vienna:20241106T183000
DTSTAMP:20260420T182232
CREATED:20241004T033201Z
LAST-MODIFIED:20241106T033130Z
UID:10005392-1730912400-1730917800@www.virtuelle-ph.at
SUMMARY:Die  abschließende Arbeit an AHS (vormals VWA) – Was ist neu?
DESCRIPTION:Zur Anmeldung \n\n						Zum virtuellen Lernraum\n						\n\n						Im Juli 2024 wurden im Parlament Änderungen bei den abschließenden Arbeiten an AHS und BMS beschlossen und mit BGBl. I Nr. 121/2024 veröffentlicht.  Was sich dadurch ab dem Schuljahr 2024/25 für die AHS ändert und welche neuen Möglichkeiten damit verbunden sind\, ist Inhalt dieser eLecture.\nAnna Lasselsberger leitet die Abteilung I/3 (AHS-Abteilung) des BMBWF und ist Auftraggeberin der Arbeitsgruppe „Abschließende Arbeit an AHS“\, die u.a. für die Bereitstellung aktueller Informationen und die Entwicklung unterstützender Materialien auf der Website www.ahs-vwa.at/ verantwortlich ist.\nAusgehend von einem Überblick über die gesetzlichen Grundlagen werden neue Möglichkeiten der Umsetzung ausgelotet und mit den Teilnehmenden diskutiert. Dabei entsteht Raum für Vernetzung. Unterstützende Materialien für die Arbeit am Standort und die Betreuungstätigkeit werden vorgestellt. \nDiese eLecture ist für Sie interessant\, wenn\n– Sie Genaueres über die abschließende Arbeit an AHS wissen möchten. \n– Sie an Ihrem Schulstandort Prozesse in Zusammenhang mit der abschließenden Arbeit gestalten und koordinieren.\n– Sie als Betreuerin/als Betreuer Schülerinnen und Schüler beim Erstellen abschließender Arbeiten begleiten oder dies beabsichtigen. \nExpertinnen und Experten: \nAnna Lasselsberger (BMBWF)\, Christoph Heher\, Martin Peichl\, Adelheid Schreilechner\, Helga Simmerl\, Annemarie Strauß (Arbeitsgruppe „Abschließende Arbeit an AHS“) \n\nExpert_in: Anna Lasselsberger \n\n\n			\n				\n			\n			Teilnahmekriterien & Info\n		 \n		\n			Lernziele\n		 \n		\n			Voraussetzungen\n		\n		 \n		\n			\n				\n					\n			So treten Sie der Veranstaltung im virtuellen Lernraum bei: \n1. Rufen Sie 5 min vor Terminstart den Link zum Virtuellen Lernraum auf: \nvirtuelle-ph-at.zoom.us/my/electures2 \n2. Geben Sie bitte Ihren vollen Namen ein und klicken Sie den Button „Einem Meeting Beitreten“.                              \n3. Klicken Sie den grünen Button „Per Computer dem Audio beitreten“ an. \nDas bewirkt\, dass Sie uns hören und sehen können. Sie werden in Kürze eingelassen. \nDie Teilnahme an allen eLectures der Virtuellen PH ist für österreichische Hochschullehrende\, Lehrkräfte und Studierende eines Lehramts kostenlos.\n		 \n		\n			Die gesetzlichen Grundlagen und Umsetzungsvarianten der abschließenden Arbeit an AHS kennen.\nUnterstützungsangebote für die eigene Koordinations- und/oder Betreuungstätigkeit kennen und nutzen.\n		 \n		\n			–
URL:https://www.virtuelle-ph.at/veranstaltung/die-abschliessende-arbeit-an-ahs-vormals-vwa-was-ist-neu-2/
CATEGORIES:eLecture
END:VEVENT
BEGIN:VEVENT
DTSTART;TZID=Europe/Vienna:20241021T170000
DTEND;TZID=Europe/Vienna:20241021T183000
DTSTAMP:20260420T182232
CREATED:20241022T033119Z
LAST-MODIFIED:20241022T033119Z
UID:10005452-1729530000-1729535400@www.virtuelle-ph.at
SUMMARY:Die  abschließende Arbeit an AHS (vormals VWA) – Was ist neu?
DESCRIPTION:Zur Anmeldung \n\n						Zum virtuellen Lernraum\n						\n\n						Im Juli 2024 wurden im Parlament Änderungen bei den abschließenden Arbeiten an AHS und BMS beschlossen und mit BGBl. I Nr. 121/2024 veröffentlicht.  Was sich dadurch ab dem Schuljahr 2024/25 für die AHS ändert und welche neuen Möglichkeiten damit verbunden sind\, ist Inhalt dieser eLecture.\nAnna Lasselsberger leitet die Abteilung I/3 (AHS-Abteilung) des BMBWF und ist Auftraggeberin der Arbeitsgruppe „Abschließende Arbeit an AHS“\, die u.a. für die Bereitstellung aktueller Informationen und die Entwicklung unterstützender Materialien auf der Website www.ahs-vwa.at/ verantwortlich ist.\nAusgehend von einem Überblick über die gesetzlichen Grundlagen werden neue Möglichkeiten der Umsetzung ausgelotet und mit den Teilnehmenden diskutiert. Dabei entsteht Raum für Vernetzung. Unterstützende Materialien für die Arbeit am Standort und die Betreuungstätigkeit werden vorgestellt. \nDiese eLecture ist für Sie interessant\, wenn\n– Sie Genaueres über die abschließende Arbeit an AHS wissen möchten. \n– Sie an Ihrem Schulstandort Prozesse in Zusammenhang mit der abschließenden Arbeit gestalten und koordinieren.\n– Sie als Betreuerin/als Betreuer Schülerinnen und Schüler beim Erstellen abschließender Arbeiten begleiten oder dies beabsichtigen. \nExpertinnen und Experten: \nAnna Lasselsberger (BMBWF)\, Christoph Heher\, Martin Peichl\, Adelheid Schreilechner\, Helga Simmerl\, Annemarie Strauß (Arbeitsgruppe „Abschließende Arbeit an AHS“) \n\nExpert_in: Anna Lasselsberger \n\n\n			\n				\n			\n			Teilnahmekriterien & Info\n		 \n		\n			Lernziele\n		 \n		\n			Voraussetzungen\n		\n		 \n		\n			\n				\n					\n			So treten Sie der Veranstaltung im virtuellen Lernraum bei: \n1. Rufen Sie 5 min vor Terminstart den Link zum Virtuellen Lernraum auf: \nvirtuelle-ph-at.zoom.us/my/electures2 \n2. Geben Sie bitte Ihren vollen Namen ein und klicken Sie den Button „Einem Meeting Beitreten“.                              \n3. Klicken Sie den grünen Button „Per Computer dem Audio beitreten“ an. \nDas bewirkt\, dass Sie uns hören und sehen können. Sie werden in Kürze eingelassen. \nDie Teilnahme an allen eLectures der Virtuellen PH ist für österreichische Hochschullehrende\, Lehrkräfte und Studierende eines Lehramts kostenlos.\n		 \n		\n			Die gesetzlichen Grundlagen und Umsetzungsvarianten der abschließenden Arbeit an AHS kennen.\nUnterstützungsangebote für die eigene Koordinations- und/oder Betreuungstätigkeit kennen und nutzen.\n		 \n		\n			–
URL:https://www.virtuelle-ph.at/veranstaltung/die-abschliessende-arbeit-an-ahs-vormals-vwa-was-ist-neu-3/
CATEGORIES:eLecture
END:VEVENT
BEGIN:VEVENT
DTSTART;TZID=Europe/Vienna:20241021T170000
DTEND;TZID=Europe/Vienna:20241021T183000
DTSTAMP:20260420T182232
CREATED:20241004T033200Z
LAST-MODIFIED:20241021T033117Z
UID:10005391-1729530000-1729535400@www.virtuelle-ph.at
SUMMARY:Die  abschließende Arbeit an AHS (vormals VWA) – Was ist neu?
DESCRIPTION:Zur Anmeldung \n\n						Zum virtuellen Lernraum\n						\n\n						Im Juli 2024 wurden im Parlament Änderungen bei den abschließenden Arbeiten an AHS und BMS beschlossen und mit BGBl. I Nr. 121/2024 veröffentlicht.  Was sich dadurch ab dem Schuljahr 2024/25 für die AHS ändert und welche neuen Möglichkeiten damit verbunden sind\, ist Inhalt dieser eLecture.\nAnna Lasselsberger leitet die Abteilung I/3 (AHS-Abteilung) des BMBWF und ist Auftraggeberin der Arbeitsgruppe „Abschließende Arbeit an AHS“\, die u.a. für die Bereitstellung aktueller Informationen und die Entwicklung unterstützender Materialien auf der Website www.ahs-vwa.at/ verantwortlich ist.\nAusgehend von einem Überblick über die gesetzlichen Grundlagen werden neue Möglichkeiten der Umsetzung ausgelotet und mit den Teilnehmenden diskutiert. Dabei entsteht Raum für Vernetzung. Unterstützende Materialien für die Arbeit am Standort und die Betreuungstätigkeit werden vorgestellt. \nDiese eLecture ist für Sie interessant\, wenn\n– Sie Genaueres über die abschließende Arbeit an AHS wissen möchten. \n– Sie an Ihrem Schulstandort Prozesse in Zusammenhang mit der abschließenden Arbeit gestalten und koordinieren.\n– Sie als Betreuerin/als Betreuer Schülerinnen und Schüler beim Erstellen abschließender Arbeiten begleiten oder dies beabsichtigen. \nExpertinnen und Experten: \nAnna Lasselsberger (BMBWF)\, Christoph Heher\, Martin Peichl\, Adelheid Schreilechner\, Helga Simmerl\, Annemarie Strauß (Arbeitsgruppe „Abschließende Arbeit an AHS“) \n\nExpert_in: Anna Lasselsberger \n\n\n			\n				\n			\n			Teilnahmekriterien & Info\n		 \n		\n			Lernziele\n		 \n		\n			Voraussetzungen\n		\n		 \n		\n			\n				\n					\n			So treten Sie der Veranstaltung im virtuellen Lernraum bei: \n1. Rufen Sie 5 min vor Terminstart den Link zum Virtuellen Lernraum auf: \nvirtuelle-ph-at.zoom.us/my/electures2 \n2. Geben Sie bitte Ihren vollen Namen ein und klicken Sie den Button „Einem Meeting Beitreten“.                              \n3. Klicken Sie den grünen Button „Per Computer dem Audio beitreten“ an. \nDas bewirkt\, dass Sie uns hören und sehen können. Sie werden in Kürze eingelassen. \nDie Teilnahme an allen eLectures der Virtuellen PH ist für österreichische Hochschullehrende\, Lehrkräfte und Studierende eines Lehramts kostenlos.\n		 \n		\n			Die gesetzlichen Grundlagen und Umsetzungsvarianten der abschließenden Arbeit an AHS kennen.\nUnterstützungsangebote für die eigene Koordinations- und/oder Betreuungstätigkeit kennen und nutzen.\n		 \n		\n			–
URL:https://www.virtuelle-ph.at/veranstaltung/die-abschliessende-arbeit-an-ahs-vormals-vwa-was-ist-neu/
CATEGORIES:eLecture
END:VEVENT
BEGIN:VEVENT
DTSTART;TZID=Europe/Vienna:20230424T170000
DTEND;TZID=Europe/Vienna:20230424T183000
DTSTAMP:20260420T182232
CREATED:20230408T033047Z
LAST-MODIFIED:20230424T033040Z
UID:10004154-1682355600-1682361000@www.virtuelle-ph.at
SUMMARY:Sprechstunde #1 zum MOOC Lehrpläne NEU – Unterricht mit neuen Lehrplänen\, Kompetenzrastern und beispielhaften Lernaufgaben
DESCRIPTION:Zur Anmeldung \n\n						Zum virtuellen Lernraum\n						\n\n						Diese MOOC-Sprechstunden bieten den Teilnehmer/innen die Möglichkeit\, Antworten auf die in den eTivities aufgetauchten Fragen zu den neuen Lehrplänen und den Kompetenzrastern zu erhalten. \n\nExpert_in: Anna Lasselsberger\, Ursula Fritz \n\n\n			\n				\n			\n			Teilnahmekriterien & Info\n		 \n		\n			Lernziele\n		 \n		\n			Voraussetzungen\n		\n		 \n		\n			\n				\n					\n			So treten Sie der Veranstaltung im virtuellen Lernraum bei: \n1. Rufen Sie 5 min vor Terminstart den Link zum Virtuellen Lernraum auf: \nvirtuelle-ph-at.zoom.us/my/lehrplanmooc \n2. Geben Sie bitte Ihren vollen Namen ein und klicken Sie den Button „Einem Meeting Beitreten“.                              \n3. Klicken Sie den grünen Button „Per Computer dem Audio beitreten“ an. \nDas bewirkt\, dass Sie uns hören und sehen können. Sie werden in Kürze eingelassen. \nDie Teilnahme an allen eLectures der Virtuellen PH ist für österreichische Hochschullehrende\, Lehrkräfte und Studierende eines Lehramts kostenlos.\n		 \n		\n			Die Teilnehmer/innen \n•	erhalten Antworten auf spezifische Fragen\, die im Zuge der Absolvierung des MOOCs Lehrpläne NEU – Unterricht mit neuen Lehrplänen\, Kompetenzrastern und beispielhaften Lernaufgaben aufgetreten sind; \n•	setzen sich vertieft mit den neuen Lehrplänen und den Kompetenzrastern auseinander; \n•	tauschen sich zu unterschiedlichen Fragestellungen aus\, um ihr Gesamtbild zu den neuen Lehrplänen und den Kompetenzrastern zu vervollständigen\n		 \n		\n			Teilnahme am MOOC Lehrpläne NEU – Unterricht mit neuen Lehrplänen\, Kompetenzrastern und beispielhaften Lernaufgaben
URL:https://www.virtuelle-ph.at/veranstaltung/sprechstunde-1-zum-mooc-lehrplaene-neu-unterricht-mit-neuen-lehrplaenen-kompetenzrastern-und-beispielhaften-lernaufgaben/
CATEGORIES:eLecture
END:VEVENT
END:VCALENDAR