BEGIN:VCALENDAR
VERSION:2.0
PRODID:-//Virtuelle PH - ECPv6.6.4.2//NONSGML v1.0//EN
CALSCALE:GREGORIAN
METHOD:PUBLISH
X-WR-CALNAME:Virtuelle PH
X-ORIGINAL-URL:https://www.virtuelle-ph.at
X-WR-CALDESC:Veranstaltungen für Virtuelle PH
REFRESH-INTERVAL;VALUE=DURATION:PT1H
X-Robots-Tag:noindex
X-PUBLISHED-TTL:PT1H
BEGIN:VTIMEZONE
TZID:Europe/Berlin
BEGIN:DAYLIGHT
TZOFFSETFROM:+0100
TZOFFSETTO:+0200
TZNAME:CEST
DTSTART:20160327T010000
END:DAYLIGHT
BEGIN:STANDARD
TZOFFSETFROM:+0200
TZOFFSETTO:+0100
TZNAME:CET
DTSTART:20161030T010000
END:STANDARD
END:VTIMEZONE
BEGIN:VEVENT
DTSTART;VALUE=DATE:20160613
DTEND;VALUE=DATE:20160704
DTSTAMP:20260420T132533
CREATED:20160509T124340Z
LAST-MODIFIED:20160612T033424Z
UID:10002254-1465776000-1467590399@www.virtuelle-ph.at
SUMMARY:Deutsch als Fremdsprache – Deutsch als Zweitsprache
DESCRIPTION:Lehrer/innen sind im Schulalltag immer wieder mit der Herausforderung konfrontiert\, dass Schüler/innen mit nichtdeutscher Muttersprache ihren Unterricht besuchen und gezielt gefördert bzw. gefordert werden sollen\, damit sie schnellstmöglich die Inhalte verstehen und sich am Unterrichtsgeschehen beteiligen können. Zeitgemäße Förderung von Schüler/innen mit nichtdeutscher Muttersprache geht dabei integrativ vor und lässt die Kinder sich gemeinsam mit ihren Klassenkolleg/innen entwickeln\, als sie etwa in separate Kurse zu schicken\, sobald sie über gewisse Basiskenntnisse verfügen. \nIm Onlineseminar „Deutsch als Fremdsprache“ beschäftigen Sie sich damit\, wie Sie Schüler/innen mit nichtdeutscher Muttersprache am besten zur Seite stehen können. Dabei geht es einerseits um praktische Dinge\, wie das Erstellen von spezifischen Unterrichtsmaterialien oder das Entwickeln von Lernaktivitäten\, aber auch um Reflexionen und Diskussionen zur Methodik des Fremdspracherwerbs. Ausdrücklich sind Kolleg/innen aller Fächer eingeladen\, an diesem Seminar teilzunehmen – denn die Förderung von Schüler/innen mit nichtdeutscher Muttersprache kann nicht nur im Deutschunterricht erfolgen\, sondern erfordert die Zusammenarbeit aller. \n\n			\n				\n			\n			Teilnahmekriterien & Info\n		 \n		\n			Lernziele\n		 \n		\n			Voraussetzungen\n		\n		 \n		\n			\n				\n					\n			Die Teilnahme an allen im Rahmen des Online-Programms angebotenen Online-Seminaren der Virtuellen PH ist für österreichische Lehrkräfte und Studierende eines Lehramts kostenlos. Die Seminarplätze werden nach dem Prinzip first come\, first served – also chronologisch nach dem Zeitpunkt Ihrer Seminarbuchung über PH-Online – vergeben. Bis Mittwoch vor Beginn des jeweiligen Online-Seminars können Sie über PH-Online Ihr gebuchtes Online-Seminar selber kostenlos stornieren. Für ein allfälliges Storno zu einem späteren Zeitpunkt wenden Sie sich bitte an: info@virtuelle-ph.at\n		 \n		\n			Zeitgemäße Förderung von SchülerInnen mit nichtdeutscher Muttersprache geht dabei integrativ vor und lässt die Kinder sich gemeinsam mit ihren KlassenkollegInnen entwickeln\, als sie etwa in separate Kurse zu schicken\, sobald sie über gewisse Basiskenntnisse verfügen. Die Fertigkeit\, Methoden zu entwickeln Schwierigkeiten und Probleme im Bezug auf Sprachbarrieren entgegenzuwirken. (Nachqualifizierung-M4)\n		 \n		\n			Dieses Seminar richtet sich an Kolleg/innen sämtlicher Schularten und –formen bis einschließlich Sekundarstufe 1. Nicht nur Deutschlehrer/innen sind gefragt\, sondern auch Kolleg/innen anderer Gegenstände. Keine Grundkenntnisse erforderlich; lediglich die Lust am gemeinsamen Erfahrungsaustausch\, Entdecken und Reflektieren.
URL:https://www.virtuelle-ph.at/veranstaltung/deutsch-als-fremdsprache-deutsch-als-zweitsprache-5/
CATEGORIES:Online-Programm Sommerprogramm,Online-Seminar
END:VEVENT
BEGIN:VEVENT
DTSTART;VALUE=DATE:20160613
DTEND;VALUE=DATE:20160704
DTSTAMP:20260420T132533
CREATED:20160509T124333Z
LAST-MODIFIED:20160612T033418Z
UID:10002264-1465776000-1467590399@www.virtuelle-ph.at
SUMMARY:Deutsch als Fremdsprache – Deutsch als Zweitsprache
DESCRIPTION:Lehrer/innen sind im Schulalltag immer wieder mit der Herausforderung konfrontiert\, dass Schüler/innen mit nichtdeutscher Muttersprache ihren Unterricht besuchen und gezielt gefördert bzw. gefordert werden sollen\, damit sie schnellstmöglich die Inhalte verstehen und sich am Unterrichtsgeschehen beteiligen können. Zeitgemäße Förderung von Schüler/innen mit nichtdeutscher Muttersprache geht dabei integrativ vor und lässt die Kinder sich gemeinsam mit ihren Klassenkolleg/innen entwickeln\, als sie etwa in separate Kurse zu schicken\, sobald sie über gewisse Basiskenntnisse verfügen. \nIm Onlineseminar „Deutsch als Fremdsprache“ beschäftigen Sie sich damit\, wie Sie Schüler/innen mit nichtdeutscher Muttersprache am besten zur Seite stehen können. Dabei geht es einerseits um praktische Dinge\, wie das Erstellen von spezifischen Unterrichtsmaterialien oder das Entwickeln von Lernaktivitäten\, aber auch um Reflexionen und Diskussionen zur Methodik des Fremdspracherwerbs. Ausdrücklich sind Kolleg/innen aller Fächer eingeladen\, an diesem Seminar teilzunehmen – denn die Förderung von Schüler/innen mit nichtdeutscher Muttersprache kann nicht nur im Deutschunterricht erfolgen\, sondern erfordert die Zusammenarbeit aller. \n\n			\n				\n			\n			Teilnahmekriterien & Info\n		 \n		\n			Lernziele\n		 \n		\n			Voraussetzungen\n		\n		 \n		\n			\n				\n					\n			Die Teilnahme an allen im Rahmen des Online-Programms angebotenen Online-Seminaren der Virtuellen PH ist für österreichische Lehrkräfte und Studierende eines Lehramts kostenlos. Die Seminarplätze werden nach dem Prinzip first come\, first served – also chronologisch nach dem Zeitpunkt Ihrer Seminarbuchung über PH-Online – vergeben. Bis Mittwoch vor Beginn des jeweiligen Online-Seminars können Sie über PH-Online Ihr gebuchtes Online-Seminar selber kostenlos stornieren. Für ein allfälliges Storno zu einem späteren Zeitpunkt wenden Sie sich bitte an: info@virtuelle-ph.at\n		 \n		\n			Zeitgemäße Förderung von SchülerInnen mit nichtdeutscher Muttersprache geht dabei integrativ vor und lässt die Kinder sich gemeinsam mit ihren KlassenkollegInnen entwickeln\, als sie etwa in separate Kurse zu schicken\, sobald sie über gewisse Basiskenntnisse verfügen. Die Fertigkeit\, Methoden zu entwickeln Schwierigkeiten und Probleme im Bezug auf Sprachbarrieren entgegenzuwirken. (Nachqualifizierung-M4)\n		 \n		\n			Dieses Seminar richtet sich an Kolleg/innen sämtlicher Schularten und –formen bis einschließlich Sekundarstufe 1. Nicht nur Deutschlehrer/innen sind gefragt\, sondern auch Kolleg/innen anderer Gegenstände. Keine Grundkenntnisse erforderlich; lediglich die Lust am gemeinsamen Erfahrungsaustausch\, Entdecken und Reflektieren.
URL:https://www.virtuelle-ph.at/veranstaltung/deutsch-als-fremdsprache-deutsch-als-zweitsprache-4/
CATEGORIES:Online-Programm Sommerprogramm,Online-Seminar
END:VEVENT
BEGIN:VEVENT
DTSTART;TZID=Europe/Berlin:20160511T180000
DTEND;TZID=Europe/Berlin:20160511T190000
DTSTAMP:20260420T132533
CREATED:20160418T185831Z
LAST-MODIFIED:20160511T033618Z
UID:10002102-1462989600-1462993200@www.virtuelle-ph.at
SUMMARY:eLecture Schwerpunkt Flüchtlingskinder: Geeignete DaZ- Materialien und Methoden für die Arbeit in sprachlich heterogenen Gruppen
DESCRIPTION:Fachexpertin: Anne Pritchard-Smith\nCo-Moderator: Raphael Foltyn \nGeflüchtete Kinder freuen sich meistens sehr\, wenn sie in Österreich in die Schule kommen. Schule bedeutet ein großes Stück Normalität und die Möglichkeit\, Gleichaltrige zu treffen. Lehrende und Mitschüler/innen heißen sie herzlich willkommen und sind meist hoch motiviert\, wenn es darum geht\, die neuen Klassenkolleg/innen zu unterstützen. \nIn der Praxis stehen Sie dabei allerdings oft vor Herausforderungen: Wie kann man Kinder in den Unterricht integrieren\, die die Unterrichtssprache noch nicht oder nur wenig beherrschen? Wie kann man sie bestmöglich fördern\, ohne dabei die anderen zu vernachlässigen? Welche der vielen online angebotenen Materialien sind wirklich sinnvoll? Welche Methoden helfen dabei\, allen Kindern passende Angebote zu machen und dabei auch das Lernen von- und miteinander zu fördern? Wie kann man die Erstsprachen der Kinder produktiv miteinbeziehen? Diese Fragen werden in der eLecture anhand konkreter Unterrichtsbeispiele diskutiert. \n\n			\n				\n			\n			Teilnahmekriterien & Info\n		 \n		\n			Lernziele\n		 \n		\n			Voraussetzungen\n		\n		 \n		\n			\n				\n					\n			Technische Voraussetzungen: Grundlegende Computerkenntnisse\, gute Internetverbindung\, empfehlenswert: Headset. \nBitte finden Sie sich etwa 10 Minuten vor Start der eLecture im virtuellen Seminarraum unter diesem Link ein: virtuelle-ph.adobeconnect.com/electures_flucht \nWichtige Hinweise zum Besuch einer eLecture unter: www.virtuelle-ph.at/electures-info \nÜber diesen Link können Sie testen\, ob Ihr Computer optimal für den eLectures-Besuch vorbereitet ist\, und vorgeschlagene Aktualisierungen vornehmen: admin.adobeconnect.com/common/help/de/support/meeting_test.htm \nWenn Sie ein Headset besitzen\, stecken Sie es bitte an bevor Sie den Adobe Connect-Raum betreten. \nDie Teilnahme an allen eLectures der Virtuellen PH ist für österreichische Lehrkräfte und Studierende eines Lehramts kostenlos.\n		 \n		\n			Mit Kinder im Unterricht richtig interagieren lernen\, die die Unterrichtssprache noch kaum oder gar nicht beherrschen.\nKinder bestmöglich fördern lernen ohne andere Kinder dabei zu vernachlässigen.\nDie Erstsprache der Kinder in den Unterricht miteinbeziehen lernen.\nMethoden zur passenden Unterrichtsgestaltung gestalten lernen.
URL:https://www.virtuelle-ph.at/veranstaltung/electure-schwerpunkt-fluechtlingskinder-geeignete-daz-materialien-und-methoden-fuer-die-arbeit-in-sprachlich-heterogenen-gruppen/
CATEGORIES:eLecture,Themenschwerpunkt Flüchtlingskinder
END:VEVENT
BEGIN:VEVENT
DTSTART;VALUE=DATE:20160425
DTEND;VALUE=DATE:20160516
DTSTAMP:20260420T132533
CREATED:20160422T033414Z
LAST-MODIFIED:20160424T033511Z
UID:10002273-1461542400-1463356799@www.virtuelle-ph.at
SUMMARY:Deutsch als Fremdsprache — Deutsch als Zweitsprache
DESCRIPTION:Lehrer/innen sind im Schulalltag immer wieder mit der Herausforderung konfrontiert\, dass Schüler/innen mit nichtdeutscher Muttersprache ihren Unterricht besuchen und gezielt gefördert bzw. gefordert werden sollen\, damit sie schnellstmöglich die Inhalte verstehen und sich am Unterrichtsgeschehen beteiligen können. Zeitgemäße Förderung von Schüler/innen mit nichtdeutscher Muttersprache geht dabei integrativ vor und lässt die Kinder sich gemeinsam mit ihren Klassenkolleg/innen entwickeln\, als sie etwa in separate Kurse zu schicken\, sobald sie über gewisse Basiskenntnisse verfügen. \nIm Onlineseminar „Deutsch als Fremdsprache“ beschäftigen Sie sich damit\, wie Sie Schüler/innen mit nichtdeutscher Muttersprache am besten zur Seite stehen können. Dabei geht es einerseits um praktische Dinge\, wie das Erstellen von spezifischen Unterrichtsmaterialien oder das Entwickeln von Lernaktivitäten\, aber auch um Reflexionen und Diskussionen zur Methodik des Fremdspracherwerbs. Ausdrücklich sind Kolleg/innen aller Fächer eingeladen\, an diesem Seminar teilzunehmen – denn die Förderung von Schüler/innen mit nichtdeutscher Muttersprache kann nicht nur im Deutschunterricht erfolgen\, sondern erfordert die Zusammenarbeit aller. \n\n			\n				\n			\n			Teilnahmekriterien & Info\n		 \n		\n			Lernziele\n		 \n		\n			Voraussetzungen\n		\n		 \n		\n			\n				\n					\n			Die Teilnahme an allen im Rahmen des Online-Programms angebotenen Online-Seminaren der Virtuellen PH ist für österreichische Lehrkräfte und Studierende eines Lehramts kostenlos. Die Seminarplätze werden nach dem Prinzip first come\, first served – also chronologisch nach dem Zeitpunkt Ihrer Seminarbuchung über PH-Online – vergeben. Bis Mittwoch vor Beginn des jeweiligen Online-Seminars können Sie über PH-Online Ihr gebuchtes Online-Seminar selber kostenlos stornieren. Für ein allfälliges Storno zu einem späteren Zeitpunkt wenden Sie sich bitte an: info@virtuelle-ph.at\n		 \n		\n			Zeitgemäße Förderung von SchülerInnen mit nichtdeutscher Muttersprache geht dabei integrativ vor und lässt die Kinder sich gemeinsam mit ihren KlassenkollegInnen entwickeln\, als sie etwa in separate Kurse zu schicken\, sobald sie über gewisse Basiskenntnisse verfügen. Die Fertigkeit\, Methoden zu entwickeln Schwierigkeiten und Probleme im Bezug auf Sprachbarrieren entgegenzuwirken. (Nachqualifizierung-M4)\n		 \n		\n			Dieses Seminar richtet sich an Kolleg/innen sämtlicher Schularten und –formen bis einschließlich Sekundarstufe 1. Nicht nur Deutschlehrer/innen sind gefragt\, sondern auch Kolleg/innen anderer Gegenstände. Keine Grundkenntnisse erforderlich; lediglich die Lust am gemeinsamen Erfahrungsaustausch\, Entdecken und Reflektieren.
URL:https://www.virtuelle-ph.at/veranstaltung/deutsch-als-fremdsprache-deutsch-als-zweitsprache-3/
CATEGORIES:Online-Seminar,Themenschwerpunkt Flüchtlingskinder
END:VEVENT
BEGIN:VEVENT
DTSTART;VALUE=DATE:20160425
DTEND;VALUE=DATE:20160516
DTSTAMP:20260420T132533
CREATED:20160422T033407Z
LAST-MODIFIED:20160424T033504Z
UID:10002272-1461542400-1463356799@www.virtuelle-ph.at
SUMMARY:Deutsch als Fremdsprache — Deutsch als Zweitsprache
DESCRIPTION:Lehrer/innen sind im Schulalltag immer wieder mit der Herausforderung konfrontiert\, dass Schüler/innen mit nichtdeutscher Muttersprache ihren Unterricht besuchen und gezielt gefördert bzw. gefordert werden sollen\, damit sie schnellstmöglich die Inhalte verstehen und sich am Unterrichtsgeschehen beteiligen können. Zeitgemäße Förderung von Schüler/innen mit nichtdeutscher Muttersprache geht dabei integrativ vor und lässt die Kinder sich gemeinsam mit ihren Klassenkolleg/innen entwickeln\, als sie etwa in separate Kurse zu schicken\, sobald sie über gewisse Basiskenntnisse verfügen. \nIm Onlineseminar „Deutsch als Fremdsprache“ beschäftigen Sie sich damit\, wie Sie Schüler/innen mit nichtdeutscher Muttersprache am besten zur Seite stehen können. Dabei geht es einerseits um praktische Dinge\, wie das Erstellen von spezifischen Unterrichtsmaterialien oder das Entwickeln von Lernaktivitäten\, aber auch um Reflexionen und Diskussionen zur Methodik des Fremdspracherwerbs. Ausdrücklich sind Kolleg/innen aller Fächer eingeladen\, an diesem Seminar teilzunehmen – denn die Förderung von Schüler/innen mit nichtdeutscher Muttersprache kann nicht nur im Deutschunterricht erfolgen\, sondern erfordert die Zusammenarbeit aller. \n\n			\n				\n			\n			Teilnahmekriterien & Info\n		 \n		\n			Lernziele\n		 \n		\n			Voraussetzungen\n		\n		 \n		\n			\n				\n					\n			Die Teilnahme an allen im Rahmen des Online-Programms angebotenen Online-Seminaren der Virtuellen PH ist für österreichische Lehrkräfte und Studierende eines Lehramts kostenlos. Die Seminarplätze werden nach dem Prinzip first come\, first served – also chronologisch nach dem Zeitpunkt Ihrer Seminarbuchung über PH-Online – vergeben. Bis Mittwoch vor Beginn des jeweiligen Online-Seminars können Sie über PH-Online Ihr gebuchtes Online-Seminar selber kostenlos stornieren. Für ein allfälliges Storno zu einem späteren Zeitpunkt wenden Sie sich bitte an: info@virtuelle-ph.at\n		 \n		\n			Zeitgemäße Förderung von SchülerInnen mit nichtdeutscher Muttersprache geht dabei integrativ vor und lässt die Kinder sich gemeinsam mit ihren KlassenkollegInnen entwickeln\, als sie etwa in separate Kurse zu schicken\, sobald sie über gewisse Basiskenntnisse verfügen. Die Fertigkeit\, Methoden zu entwickeln Schwierigkeiten und Probleme im Bezug auf Sprachbarrieren entgegenzuwirken. (Nachqualifizierung-M4)\n		 \n		\n			Dieses Seminar richtet sich an Kolleg/innen sämtlicher Schularten und –formen bis einschließlich Sekundarstufe 1. Nicht nur Deutschlehrer/innen sind gefragt\, sondern auch Kolleg/innen anderer Gegenstände. Keine Grundkenntnisse erforderlich; lediglich die Lust am gemeinsamen Erfahrungsaustausch\, Entdecken und Reflektieren.
URL:https://www.virtuelle-ph.at/veranstaltung/deutsch-als-fremdsprache-deutsch-als-zweitsprache-2/
CATEGORIES:Online-Seminar,Themenschwerpunkt Flüchtlingskinder
END:VEVENT
BEGIN:VEVENT
DTSTART;VALUE=DATE:20160425
DTEND;VALUE=DATE:20160516
DTSTAMP:20260420T132533
CREATED:20160418T185824Z
LAST-MODIFIED:20160424T033457Z
UID:10002099-1461542400-1463356799@www.virtuelle-ph.at
SUMMARY:Deutsch als Fremdsprache — Deutsch als Zweitsprache
DESCRIPTION:Lehrer/innen sind im Schulalltag immer wieder mit der Herausforderung konfrontiert\, dass Schüler/innen mit nichtdeutscher Muttersprache ihren Unterricht besuchen und gezielt gefördert bzw. gefordert werden sollen\, damit sie schnellstmöglich die Inhalte verstehen und sich am Unterrichtsgeschehen beteiligen können. Zeitgemäße Förderung von Schüler/innen mit nichtdeutscher Muttersprache geht dabei integrativ vor und lässt die Kinder sich gemeinsam mit ihren Klassenkolleg/innen entwickeln\, als sie etwa in separate Kurse zu schicken\, sobald sie über gewisse Basiskenntnisse verfügen. \nIm Onlineseminar „Deutsch als Fremdsprache“ beschäftigen Sie sich damit\, wie Sie Schüler/innen mit nichtdeutscher Muttersprache am besten zur Seite stehen können. Dabei geht es einerseits um praktische Dinge\, wie das Erstellen von spezifischen Unterrichtsmaterialien oder das Entwickeln von Lernaktivitäten\, aber auch um Reflexionen und Diskussionen zur Methodik des Fremdspracherwerbs. Ausdrücklich sind Kolleg/innen aller Fächer eingeladen\, an diesem Seminar teilzunehmen – denn die Förderung von Schüler/innen mit nichtdeutscher Muttersprache kann nicht nur im Deutschunterricht erfolgen\, sondern erfordert die Zusammenarbeit aller. \n\n			\n				\n			\n			Teilnahmekriterien & Info\n		 \n		\n			Lernziele\n		 \n		\n			Voraussetzungen\n		\n		 \n		\n			\n				\n					\n			Die Teilnahme an allen im Rahmen des Online-Programms angebotenen Online-Seminaren der Virtuellen PH ist für österreichische Lehrkräfte und Studierende eines Lehramts kostenlos. Die Seminarplätze werden nach dem Prinzip first come\, first served – also chronologisch nach dem Zeitpunkt Ihrer Seminarbuchung über PH-Online – vergeben. Bis Mittwoch vor Beginn des jeweiligen Online-Seminars können Sie über PH-Online Ihr gebuchtes Online-Seminar selber kostenlos stornieren. Für ein allfälliges Storno zu einem späteren Zeitpunkt wenden Sie sich bitte an: info@virtuelle-ph.at\n		 \n		\n			Zeitgemäße Förderung von SchülerInnen mit nichtdeutscher Muttersprache geht dabei integrativ vor und lässt die Kinder sich gemeinsam mit ihren KlassenkollegInnen entwickeln\, als sie etwa in separate Kurse zu schicken\, sobald sie über gewisse Basiskenntnisse verfügen. Die Fertigkeit\, Methoden zu entwickeln Schwierigkeiten und Probleme im Bezug auf Sprachbarrieren entgegenzuwirken. (Nachqualifizierung-M4)\n		 \n		\n			Dieses Seminar richtet sich an Kolleg/innen sämtlicher Schularten und –formen bis einschließlich Sekundarstufe 1. Nicht nur Deutschlehrer/innen sind gefragt\, sondern auch Kolleg/innen anderer Gegenstände. Keine Grundkenntnisse erforderlich; lediglich die Lust am gemeinsamen Erfahrungsaustausch\, Entdecken und Reflektieren.
URL:https://www.virtuelle-ph.at/veranstaltung/deutsch-als-fremdsprache-deutsch-als-zweitsprache/
CATEGORIES:Online-Seminar,Themenschwerpunkt Flüchtlingskinder
END:VEVENT
END:VCALENDAR