BEGIN:VCALENDAR
VERSION:2.0
PRODID:-//Virtuelle PH - ECPv6.6.4.2//NONSGML v1.0//EN
CALSCALE:GREGORIAN
METHOD:PUBLISH
X-WR-CALNAME:Virtuelle PH
X-ORIGINAL-URL:https://www.virtuelle-ph.at
X-WR-CALDESC:Veranstaltungen für Virtuelle PH
REFRESH-INTERVAL;VALUE=DURATION:PT1H
X-Robots-Tag:noindex
X-PUBLISHED-TTL:PT1H
BEGIN:VTIMEZONE
TZID:Europe/Berlin
BEGIN:DAYLIGHT
TZOFFSETFROM:+0100
TZOFFSETTO:+0200
TZNAME:CEST
DTSTART:20180325T010000
END:DAYLIGHT
BEGIN:STANDARD
TZOFFSETFROM:+0200
TZOFFSETTO:+0100
TZNAME:CET
DTSTART:20181028T010000
END:STANDARD
BEGIN:DAYLIGHT
TZOFFSETFROM:+0100
TZOFFSETTO:+0200
TZNAME:CEST
DTSTART:20190331T010000
END:DAYLIGHT
BEGIN:STANDARD
TZOFFSETFROM:+0200
TZOFFSETTO:+0100
TZNAME:CET
DTSTART:20191027T010000
END:STANDARD
END:VTIMEZONE
BEGIN:VEVENT
DTSTART;TZID=Europe/Berlin:20191015T170000
DTEND;TZID=Europe/Berlin:20191015T180000
DTSTAMP:20260420T141349
CREATED:20190507T090646Z
LAST-MODIFIED:20191016T083448Z
UID:10003309-1571158800-1571162400@www.virtuelle-ph.at
SUMMARY:eLecture: Einführung in den digitalen Aufklärungsunterricht
DESCRIPTION:zur Aufzeichnung\n\n\nMenstruation als Tabuthema? Diese Zeiten sind vorbei\, wenn es nach READY FOR RED geht. READY FOR RED ist die erste digitale Lernplattform\, die autonom von Lehrkräften an Schulen eingesetzt werden kann\, um das Thema Menstruation\, Zyklus und Monatshygiene zeitgemäß und ansprechend zu vermitteln. Ziel dieses Workshops ist die Vermittlung der inhaltlichen und methodischen Aspekte der interaktiven Lernplattform\, die für Jugendliche der 5. bis 9. Schulstufe konzipiert wurde. Außerdem soll für die Notwendigkeit eines neuen\, digitalen Ansatzes Bewusstsein geschaffen werden\, wenn es um die Vermittlung dieses sensiblen Themas an Jugendliche geht. \nDass das nötig ist\, zeigte auch eine Umfrage der erdbeerwoche im April/Mai 2017\, wonach Jugendliche eklatante Wissenslücken im Bereich Zykluswissen zeigten: Rund die Hälfte der Mädchen wusste nicht\, wann ein Tampon spätestens gewechselt werden sollte und 53% der Jungen dachten\, Menstruation diene der Verhütung! Um diese Mythen aufzubrechen\, aber auch um einen schambefreiten und entspannten Umgang zwischen den Geschlechtern zu fördern\, wurde READY FOR RED entwickelt. Aufgrund des interdisziplinären Aufbaus der Plattform ist der Einsatz nicht nur im Biologieunterricht\, sondern auch in anderen Fächern möglich. \nCoModeration: Thomas Winkler \n\n			\n				\n			\n			Teilnahmekriterien & Info\n		 \n		\n			Lernziele\n		 \n		\n			Voraussetzungen\n		\n		 \n		\n			\n				\n					\n			Technische Voraussetzungen: Grundlegende Computerkenntnisse\, gute Internetverbindung; optional: Headset. \nSo treten Sie der eLecture im virtuellen Lernraum bei: \n1. Rufen Sie 10 min vor Terminstart folgende Seite auf: \nvph.adobeconnect.com/zwei/ \n2. Geben Sie bitte Ihren Vor- und Nachnamen ein und „Betreten Sie den Raum“ mit Klick auf den Button. \n3. Folgen Sie den Anweisungen auf dem Bildschirm. Sie werden in Kürze eingelassen. \nWenn Sie noch an keiner eLecture teilgenommen haben\, finden Sie alle Infos zum Einstieg unter: www.virtuelle-ph.at/electures/#einstieg \nDie Teilnahme an allen eLectures der Virtuellen PH ist für österreichische Lehrkräfte und Studierende eines Lehramts kostenlos.\n		 \n		\n			# Wissen über die Möglichkeiten und Grenzen des Einsatzes einer digitalen Lernplattform im Unterricht\n# Kenntnis einer lerntheoretisch fundierten Methodenvielfalt für die digitale Aufklärung am Beispiel der Lernplattform READY FOR RED\n# Basiswissen über den Einsatz digitaler Elemente\, die gemeinsames Lernen und die Vermittlung komplexer Sachverhalte ermöglichen\n# Erarbeitung von Methoden für den Umgang mit sensiblen Themen und Fragestellungen Jugendlicher (wie u.a. Menstruation\, Verhütung etc.)
URL:https://www.virtuelle-ph.at/veranstaltung/electure-einfuehrung-in-den-digitalen-aufklaerungsunterricht/
CATEGORIES:eLecture
END:VEVENT
BEGIN:VEVENT
DTSTART;TZID=Europe/Berlin:20190129T180000
DTEND;TZID=Europe/Berlin:20190129T190000
DTSTAMP:20260420T141349
CREATED:20180713T033837Z
LAST-MODIFIED:20190130T083808Z
UID:10002970-1548784800-1548788400@www.virtuelle-ph.at
SUMMARY:eLecture: Sensible Themen digital und jugendgerecht vermitteln. Was bringt der Einsatz einer Lernplattform im Unterricht?
DESCRIPTION:zur Aufzeichnung\n\n\n						In der heutigen sich rasch fortentwickelnden Informationsgesellschaft ist der Umgang mit digitalen Medien ein notwendiger Teil des Unterrichts. Das wachsende Interesse an der Einbeziehung von digitalen Medien in Bildungsprozesse spiegelt sich auch in den von Ministerien vorgegebenen schulischen Bildungs- und Lehraufgaben. \nAber sensible Themen wie Menstruation am Computer bzw. Smartphone vermitteln\, geht das? Die beiden jungen Frauen sind sich dessen sicher und haben die interaktive Lernplattform „Ready For Red“ gestartet\, die autonom von Lehrkräften an Schulen eingesetzt werden kann\, um das Thema Menstruation und  Monatshygiene zeitgemäß und ansprechend zu vermitteln. \nZiel dieser eLecture ist die Vermittlung der inhaltlichen und methodischen Aspekte der interaktiven Lernplattform „Ready For Red“. Außerdem soll für die Notwendigkeit eines neuen Ansatzes Bewusstsein geschaffen werden\, wenn es um die Vermittlung dieses sensiblen Themas an Jugendliche geht. Dass das nötig ist\, zeigte auch eine Umfrage der erdbeerwoche im April/Mai 2017\, wonach Jugendliche eklatante Wissenslücken im Bereich Zykluswissen zeigten:\nrund die Hälfte der Mädchen wusste nicht über Begriffe wie Zykluslänge Bescheid! (Mehr Infos zur Umfrage unter: http://bit.ly/2sm2v2K) \nDie Referentin und Gründerinnen der erdbeerwoche\, Annemarie Harant und Bettina Steinbrugger\, haben insgesamt mehr als 15 Jahre Erfahrung im Bereich Nachhaltigkeit sowie Kommunikation und betreiben seit mehr als 7 Jahren die Plattform erdbeerwoche. Die erdbeerwoche ist die erste Bewusstseinsplattform für das Thema Menstruation und nachhaltige Monatshygiene\nim deutschsprachigen Raum. \nIn dieser eLecture erhalten Sie eine Einführung in die Plattform sowie inhaltliches und methodisches Know How – sowohl im pädagogischen als auch im technischen Sinne.  \nReady for Red ist eine innovative digitale Lernplattform\, kombiniert mit physischem Anschauungs- und Lehrmaterial. Dieses bezieht sich in 4 Levels u.a. auf die in den Lehrplänen des österreichischen Bundesministeriums für Bildung formulierten Bildungs- und Lehraufgaben. Gleichzeitig wird viel aktuelles Hintergrundwissen über gesellschaftliche Aspekte des Zyklus sowie alternative Monatshygiene vermittelt. Die TeilnehmerInnen werden durch die Features der Plattform geführt und lernen über den Mehrwert der digitalen Vermittlung. \nDiese eLecture ist für Sie geeignet\, wenn Sie  \n\nauf eine innovative und digitale Vermittlung des Themenbereichs Menstruation und Zyklus setzen möchten\n\nerste Erfahrungen in Bezug auf den Einsatz digitaler Medien im Unterricht sammeln möchten\n\n\nCoModeration: Thomas Winkler \n\n			\n				\n			\n			Teilnahmekriterien & Info\n		 \n		\n			Lernziele\n		 \n		\n			Voraussetzungen\n		\n		 \n		\n			\n				\n					\n			Technische Voraussetzungen: Grundlegende Computerkenntnisse\, gute Internetverbindung; optional: Headset. \nSo treten Sie der eLecture im virtuellen Lernraum bei:  \n1. Rufen Sie 10 min vor Terminstart folgende Seite auf:  \nvph.adobeconnect.com/zwei/ \n2. Geben Sie bitte Ihren Vor- und Nachnamen ein und „Betreten Sie den Raum“ mit Klick auf den Button. \n3. Folgen Sie den Anweisungen auf dem Bildschirm. Sie werden in Kürze eingelassen. \nWenn Sie noch an keiner eLecture teilgenommen haben\, finden Sie alle Infos zum Einstieg unter: www.virtuelle-ph.at/electures/#einstieg \nDie Teilnahme an allen eLectures der Virtuellen PH ist für österreichische Lehrkräfte und Studierende eines Lehramts kostenlos.\n		 \n		\n			# Die TeilnehmerInnen kennen\ndie Inhalte\, Levels und Tools der Lernplattform READY FOR RED. \n# Die Teilnehmerinnen kennen die Vorteile der digitalen Vermittlung\nsensibler Inhalte und deren Vorteile gegenüber einem top-down Vortrag. \n# Die TeilnehmerInnen wissen über die Voraussetzungen des\nEinsatzes der digitalen Lernplattform READY FOR RED Bescheid (z.B. erforderliche Technik)\nund sind in der Lage diese in Zukunft selbst zu bedienen.
URL:https://www.virtuelle-ph.at/veranstaltung/electure-sensible-themen-digital-und-jugendgerecht-vermitteln-was-bringt-der-einsatz-einer-lernplattform-im-unterricht/
CATEGORIES:eLecture
END:VEVENT
BEGIN:VEVENT
DTSTART;TZID=Europe/Berlin:20180925T180000
DTEND;TZID=Europe/Berlin:20180925T190000
DTSTAMP:20260420T141349
CREATED:20180529T162307Z
LAST-MODIFIED:20181130T105133Z
UID:10002900-1537898400-1537902000@www.virtuelle-ph.at
SUMMARY:eLecture: Aufklärung 4.0 – Einsatz digitaler Lehrmittel in der schulischen Aufklärungsarbeit
DESCRIPTION:zur Aufzeichnung\n\n\n						Menstruation als Tabuthema? Diese Zeiten sind vorbei\, wenn es nach den Gründerinnen der erdbeerwoche geht! Die beiden jungen Frauen haben die interaktive Lernplattform „Ready For Red“ gestartet\, die autonom von Lehrkräften an Schulen eingesetzt werden kann\, um das Thema Menstruation und Monatshygiene zeitgemäß und ansprechend zu vermitteln. \nZiel dieser eLecture ist die Vermittlung der inhaltlichen und methodischen Aspekte der interaktiven Lernplattform „Ready For Red“. Außerdem soll für die Notwendigkeit eines neuen Ansatzes Bewusstsein geschaffen werden\, wenn es um die Vermittlung dieses sensiblen Themas an Jugendliche geht. Dass das nötig ist\, zeigte auch eine Umfrage der erdbeerwoche im April/Mai 2017\, wonach Jugendliche eklatante Wissenslücken im Bereich Zykluswissen zeigten: rund die Hälfte der Mädchen wusste nicht über Begriffe wie Zykluslänge Bescheid! (Mehr Infos zur Umfrage unter: bit.ly/2sm2v2K) \nDie Referentin Annemarie Harant (gemeinsam mit Bettina Steinbrugger Gründerin der erdbeerwoche) hat insgesamt mehr als 15 Jahre Erfahrung im Bereich Nachhaltigkeit sowie Kommunikation. Beide betreiben seit mehr als 7 Jahren die Plattform erdbeerwoche. Die erdbeerwoche ist die erste Bewusstseinsplattform für das Thema Menstruation und nachhaltige Monatshygiene im deutschsprachigen Raum. \nIn dieser eLecture erhalten Sie eine Einführung in die Plattform sowie das inhaltliche und methodische Know How – sowohl im pädagogischen als auch im technischen Sinne – um die Lernplattform Ready For Red selbstständig im Unterricht einsetzen zu können. Ready for Red ist eine innovative digitale Lernplattform\, kombiniert mit physischem Anschauungs- und Lehrmaterial. Dieses bezieht sich in 4 Levels u.a. auf die in den Lehrplänen des BMBWF formulierten Bildungs- und Lehraufgaben. Gleichzeitig wird viel aktuelles Hintergrundwissen über gesellschaftliche Aspekte des Zyklus sowie alternative Monatshygiene vermittelt. Die TeilnehmerInnen werden durch die Features der Plattform geführt und lernen\, wie sie die einzelnen Tools im Unterricht je nach Fach und Altersgruppe der SchülerInnen einsetzen können. \nDiese eLecture ist für Sie geeignet\, wenn Sie  \n\nauf eine innovative und digitale Vermittlung des Themenbereichs Menstruation und Zyklus setzen möchten\nerste Erfahrungen in Bezug auf den Einsatz digitaler Medien im Unterricht sammeln möchten\n\nCoModeration: Thomas Winkler \n\n			\n				\n			\n			Teilnahmekriterien & Info\n		 \n		\n			Lernziele\n		 \n		\n			Voraussetzungen\n		\n		 \n		\n			\n				\n					\n			Technische Voraussetzungen: Grundlegende Computerkenntnisse\, gute Internetverbindung; optional: Headset. \nSo treten Sie der eLecture im virtuellen Lernraum bei:  \n1. Rufen Sie 10 min vor Terminstart folgende Seite auf:  \nvph.adobeconnect.com/zwei/ \n2. Geben Sie bitte Ihren Vor- und Nachnamen ein und „Betreten Sie den Raum“ mit Klick auf den Button. \n3. Folgen Sie den Anweisungen auf dem Bildschirm. Sie werden in Kürze eingelassen. \nWenn Sie noch an keiner eLecture teilgenommen haben\, finden Sie alle Infos zum Einstieg unter: www.virtuelle-ph.at/electures/#einstieg \nDie Teilnahme an allen eLectures der Virtuellen PH ist für österreichische Lehrkräfte und Studierende eines Lehramts kostenlos.\n		 \n		\n			# Die Teilnehmer_innen kennen die Inhalte\, Levels und Tools der Lernplattform READY FOR RED. \n# Die Teilnehmer_innen können die Inhalte von READY FOR RED nach Relevanz für die Integration in den eigenen Unterricht (z.B. Fach\, Altersgruppe) bewerten. \n# Die Teilnehmer_innen wissen über die Voraussetzungen des Einsatzes der Lernplattform READY FOR RED Bescheid (z.B. erforderliche Technik) und sind in der Lage diese in Zukunft selbst zu bedienen.
URL:https://www.virtuelle-ph.at/veranstaltung/electure-aufklaerung-4-0-einsatz-digitaler-lehrmittel-in-der-schulischen-aufklaerungsarbeit/
CATEGORIES:eLecture
END:VEVENT
BEGIN:VEVENT
DTSTART;TZID=Europe/Berlin:20180220T180000
DTEND;TZID=Europe/Berlin:20180220T190000
DTSTAMP:20260420T141349
CREATED:20180109T112814Z
LAST-MODIFIED:20180221T045025Z
UID:10002730-1519149600-1519153200@www.virtuelle-ph.at
SUMMARY:eLecture: READY FOR RED - digital gestützter Aufklärungsunterricht
DESCRIPTION:zur Aufzeichnung \n\n\n						Menstruation als Tabuthema? Diese Zeiten sind vorbei\, wenn es nach den Gründerinnen der erdbeerwoche geht! Die beiden jungen Frauen haben die interaktive Lernplattform „Ready For Red“ gestartet\, die autonom von Lehrkräften an Schulen eingesetzt werden kann\, um das Thema Menstruation und Monatshygiene zeitgemäß und ansprechend zu vermitteln. \nZiel dieser eLecture ist die Vermittlung der inhaltlichen und methodischen Aspekte der interaktiven Lernplattform „Ready For Red“. Außerdem soll für die Notwendigkeit eines neuen Ansatzes Bewusstsein geschaffen werden\, wenn es um die Vermittlung dieses sensiblen Themas an Jugendliche geht. Dass das nötig ist\, zeigte auch eine Umfrage der erdbeerwoche im April/Mai 2017\, wonach Jugendliche eklatante Wissenslücken im Bereich Zykluswissen zeigten: rund die Hälfte der Mädchen wusste nicht über Begriffe wie Zykluslänge Bescheid! (Mehr Infos zur Umfrage unter: bit.ly/2sm2v2K) \nDie Referentin und Gründerinnen der erdbeerwoche\, Annemarie Harant und Bettina Steinbrugger\, haben insgesamt mehr als 15 Jahre Erfahrung im Bereich Nachhaltigkeit sowie Kommunikation und betreiben seit mehr als 7 Jahren die Plattform erdbeerwoche. Die erdbeerwoche ist die erste Bewusstseinsplattform für das Thema Menstruation und nachhaltige Monatshygiene im deutschsprachigen Raum. \nIn dieser eLecture erhalten Sie eine Einführung in die Plattform sowie das inhaltliche und methodische Know How – sowohl im pädagogischen als auch im technischen Sinne –  um die Lernplattform Ready For Red selbstständig im Unterricht einsetzen zu können. Ready for Red ist eine innovative digitale Lernplattform\, kombiniert mit physischem Anschauungs- und Lehrmaterial. Dieses bezieht sich in 4 Levels u.a. auf die in den Lehrplänen des österreichischen Bundesministeriums für Bildung formulierten Bildungs- und Lehraufgaben. Gleichzeitig wird viel aktuelles Hintergrundwissen über gesellschaftliche Aspekte des Zyklus sowie alternative Monatshygiene vermittelt. Die TeilnehmerInnen werden durch die Features der Plattform geführt und lernen\, wie sie die einzelnen Tools im Unterricht je nach Fach und Altersgruppe der SchülerInnen einsetzen können. \nDiese eLecture ist für Sie geeignet\, wenn Sie  \nauf eine innovative und digitale Vermittlung des Themenbereichs Menstruation und Zyklus setzen möchten\nerste Erfahrungen in Bezug auf den Einsatz digitaler Medien im Unterricht sammeln möchten \nCoModeration: Elisabeth Eder-Janca \n\n			\n				\n			\n			Teilnahmekriterien & Info\n		 \n		\n			Lernziele\n		 \n		\n			Voraussetzungen\n		\n		 \n		\n			\n				\n					\n			Technische Voraussetzungen: Grundlegende Computerkenntnisse\, gute Internetverbindung; optional: Headset.  \nSo treten Sie der eLecture im virtuellen Lernraum bei:  \n1. Rufen Sie 10 min vor Terminstart folgende Seite auf:  \nvph.adobeconnect.com/zwei/ \n2. Geben Sie bitte Ihren Vor- und Nachnamen ein und „Betreten Sie den Raum“ mit Klick auf den Button. \n3. Folgen Sie den Anweisungen auf dem Bildschirm. Sie werden in Kürze eingelassen. \nWenn Sie noch an keiner eLecture teilgenommen haben\, finden Sie alle Infos zum Einstieg unter: www.virtuelle-ph.at/electures/#einstieg \nDie Teilnahme an allen eLectures der Virtuellen PH ist für österreichische Lehrkräfte und Studierende eines Lehramts kostenlos.\n		 \n		\n			# Die TeilnehmerInnen kennen die Inhalte\, Levels und Tools der Lernplattform READY FOR RED. \n# Die Teilnehmerinnen können die Inhalte von READY FOR RED nach Relevanz für die Integration in den eigenen Unterricht (z.B. Fach\, Altersgruppe) bewerten. \n# Die TeilnehmerInnen wissen über die Voraussetzungen des Einsatzes der Lernplattform READY FOR RED Bescheid (z.B. erforderliche Technik) und sind in der Lage diese in Zukunft selbst zu bedienen.
URL:https://www.virtuelle-ph.at/veranstaltung/electure-ready-for-red-digital-gestuetzter-aufklaerungsunterricht/
CATEGORIES:eLecture
END:VEVENT
END:VCALENDAR