BEGIN:VCALENDAR
VERSION:2.0
PRODID:-//Virtuelle PH - ECPv6.6.4.2//NONSGML v1.0//EN
CALSCALE:GREGORIAN
METHOD:PUBLISH
X-WR-CALNAME:Virtuelle PH
X-ORIGINAL-URL:https://www.virtuelle-ph.at
X-WR-CALDESC:Veranstaltungen für Virtuelle PH
REFRESH-INTERVAL;VALUE=DURATION:PT1H
X-Robots-Tag:noindex
X-PUBLISHED-TTL:PT1H
BEGIN:VTIMEZONE
TZID:Europe/Vienna
BEGIN:DAYLIGHT
TZOFFSETFROM:+0100
TZOFFSETTO:+0200
TZNAME:CEST
DTSTART:20230326T010000
END:DAYLIGHT
BEGIN:STANDARD
TZOFFSETFROM:+0200
TZOFFSETTO:+0100
TZNAME:CET
DTSTART:20231029T010000
END:STANDARD
END:VTIMEZONE
BEGIN:VEVENT
DTSTART;TZID=Europe/Vienna:20230420T174500
DTEND;TZID=Europe/Vienna:20230420T183000
DTSTAMP:20260425T153339
CREATED:20230328T213610Z
LAST-MODIFIED:20230420T033108Z
UID:10004129-1682012700-1682015400@www.virtuelle-ph.at
SUMMARY:energie:bewusst Hop on Hop off: Schulprojekte
DESCRIPTION:Zur Anmeldung \n\n						Zum virtuellen Lernraum\n						\n\n						In diesem digiPH6 Hop on hop off-Format dreht sich alles um Schulprojekte an Österreichs Schulen. \nUlrike-Singer BONUS_Modell Energiesparen an Schulen \nBONUS steht für Belohnungsmodell für ökologisches Nutzerverhalten an Schulen.\nSchülerInnen und LehrerInnen reduzieren durch Verhaltensänderung den Energieverbrauch und helfen dem Schulerhalter Geld zu sparen.\nAls Belohnung dafür\, soll die Schule an den eingesparten Energiekosten beteiligt werden. Somit bekommen LehrerInnen und SchülerInnen einen kleinen Anreiz um mit den Ressourcen bewusst umzugehen und damit das Klima zu schützen. \nAnnika Hammer – Integrative Lernwerkstatt Brigittenau\nLernorte für Schulen in der Natur gründen \nWie kann das Unterrichtsprinzip Umweltbildung fester Bestandteil in Schulen werden. Hier wird berichtet\, wie Eltern und Lehrende gemeinsam einen Verein gründeten und damit regelmäßig Ausflüge in die Natur\, für alle Klassen der VS und NMS\, bereitstellen. Um Kindern und Jugendlichen den Umweltschutz näher zu bringen\, brauchen sie eine tiefe Naturverbindung. Wie Lehrende beim entstehen dieser Naturverbindung unterstützend tätig werden können\, wird im zweiten Teil der Veranstaltung diskutiert. \nMichael Archer – HTL 1 Klagenfurt\nHTL erzeugt erneuerbare Energie \nEin übergreifendes Ziel des Projekts ist der Aufbau und Betrieb einer umfassenden Implementierung einer sektorgekoppelten und datengesteuerten EV-Smart-Ladeinfrastruktur\, die lokal emissionsfreie Energie bezieht und verwaltet.  \nVeronika Walenta – Gynasium Laaerberg \n Titel des Projektes: PLASTIK IM MEER\nDas Projekt der Schüler*innen behandelt die Problematik\, dass Plastik nicht richtig entsorgt wird und in großen Mengen im Meer landet. \nEs zeigt die Folgen für Tier und Mensch und auch mögliche Wege\, wie Plastik im Alltag weniger verwendet werden könnte\, der ökologische Fußabdruck somit für jeden verringert würde.\nAusgearbeitet wurde das Projekt von den Schüler*innen der 5. Klasse des Ökos-Schulzweigs am Laaerberg Gymnasium in Form eines eigenständigen Projektes\, die begleitenden Lehrerinnen übernahmen die Funktion einer Moderatorin.\nDa das Projekt im Distance-Learning entstand und nicht vor Publikum präsentiert werden konnte\, wurde mit den Inhalten eine selbsterklärende Power Point Präsentation gestaltet\, die für alle Klassen der Schule und den Eltern zugänglich gemacht wurde.  \n \n\nExpert_in: Andrea Walenta\, Michael Archer\, Ulrike Singer\, Annika Hammer \n\n\n			\n				\n			\n			Teilnahmekriterien & Info\n		 \n		\n			Lernziele\n		 \n		\n			Voraussetzungen\n		\n		 \n		\n			\n				\n					\n			So treten Sie der Veranstaltung im virtuellen Lernraum bei: \n1. Rufen Sie 5-10 min vor Terminstart den Link zum Virtuellen Lernraum auf: \nvirtuelle-ph-at.zoom.us/my/energiebewusst \n2. Geben Sie bitte Ihren vollen Namen ein und klicken Sie den Button „Einem Meeting Beitreten“.                              \n3. Klicken Sie dann auch den grünen Button „Per Computer dem Audio beitreten“ an.\nDas bewirkt\, dass Sie uns hören und sehen können. Sie werden in Kürze eingelassen. \nDie Teilnahme an allen Veranstaltungen der Virtuellen PH ist für österreichische Hochschullehrende\, Lehrkräfte und Studierende eines Lehramts kostenlos.\n		 \n		\n			#Übersicht und Information diverser Schulprojekte
URL:https://www.virtuelle-ph.at/veranstaltung/energiebewusst-hop-on-hop-off-schulprojekte/
CATEGORIES:eLecture,Online-Tagung energiebewusst EL
END:VEVENT
END:VCALENDAR