BEGIN:VCALENDAR
VERSION:2.0
PRODID:-//Virtuelle PH - ECPv6.6.4.2//NONSGML v1.0//EN
CALSCALE:GREGORIAN
METHOD:PUBLISH
X-ORIGINAL-URL:https://www.virtuelle-ph.at
X-WR-CALDESC:Veranstaltungen für Virtuelle PH
REFRESH-INTERVAL;VALUE=DURATION:PT1H
X-Robots-Tag:noindex
X-PUBLISHED-TTL:PT1H
BEGIN:VTIMEZONE
TZID:Europe/Berlin
BEGIN:DAYLIGHT
TZOFFSETFROM:+0100
TZOFFSETTO:+0200
TZNAME:CEST
DTSTART:20160327T010000
END:DAYLIGHT
BEGIN:STANDARD
TZOFFSETFROM:+0200
TZOFFSETTO:+0100
TZNAME:CET
DTSTART:20161030T010000
END:STANDARD
BEGIN:DAYLIGHT
TZOFFSETFROM:+0100
TZOFFSETTO:+0200
TZNAME:CEST
DTSTART:20170326T010000
END:DAYLIGHT
BEGIN:STANDARD
TZOFFSETFROM:+0200
TZOFFSETTO:+0100
TZNAME:CET
DTSTART:20171029T010000
END:STANDARD
BEGIN:DAYLIGHT
TZOFFSETFROM:+0100
TZOFFSETTO:+0200
TZNAME:CEST
DTSTART:20180325T010000
END:DAYLIGHT
BEGIN:STANDARD
TZOFFSETFROM:+0200
TZOFFSETTO:+0100
TZNAME:CET
DTSTART:20181028T010000
END:STANDARD
END:VTIMEZONE
BEGIN:VEVENT
DTSTART;VALUE=DATE:20181119
DTEND;VALUE=DATE:20181203
DTSTAMP:20260420T120714
CREATED:20180611T140027Z
LAST-MODIFIED:20181118T033131Z
UID:10002921-1542585600-1543795199@www.virtuelle-ph.at
SUMMARY:Scratch - Kreatives Programmieren mit Kindern
DESCRIPTION:Zur Anmeldung\n						\n\n						Scratch ist eine kostenlose Programmiersprache die entwickelt wurde\, um Kindern und Jugendlichen die Grundprinzipien des Programmierens auf möglichst einfache und kreative Art näher zu bringen. Mit Scratch lassen sich Animationen\, interaktive Geschichten und Spiele entwickeln und im Internet veröffentlichen. Scratch fördert  auf diese Art das Verständnis von mathematischen Prinzipien und strukturiertem Denken. \nIn einer Gruppe von maximal 12 Teilnehmerinnen und Teilnehmern lernen Sie über einen Zeitraum von 2 Wochen gemeinsam unter Anleitung und Moderation eines erfahrenen Tutors die kostenlose Programmierumgebung von Scratch kennen. Schritt für Schritt werden Sie mit den Möglichkeiten dieser grafischen Programmierumgebung vertraut gemacht und erhalten so auch einen erprobten didaktischen Aufbau um Ihren eigenen Unterricht mit Scratch zu bereichern. Also: SCRATCH-MIT! \nKriterien für den Abschluss des Seminars:\nAktive Teilnahme an den eTivities sowie Erstellen eines Abschlussprogrammes mit Scratch. \nBitte beachten Sie\, dass dieses 2-wöchige Seminar als Intensivseminar geführt wird und der Arbeitsaufwand mit 33 UE einem 3-wöchigen Seminar entspricht. \nwww.virtuelle-ph.at/online-seminare \n\n			\n				\n			\n			Teilnahmekriterien & Info\n		 \n		\n			Lernziele\n		 \n		\n			Voraussetzungen\n		\n		 \n		\n			\n				\n					\n			Anmerkung: Die Teilnahme an allen im Rahmen des Online-Programms angebotenen Online-Seminaren der Virtuellen PH ist für österreichische Lehrkräfte und Studierende eines Lehramts kostenlos. Die Seminarplätze werden nach dem Prinzip first come\, first served – also chronologisch nach dem Zeitpunkt Ihrer Seminarbuchung über PH-Online – vergeben. Bis Mittwoch vor Beginn des jeweiligen Online-Seminars können Sie über PH-Online Ihr gebuchtes Online-Seminar selber kostenlos stornieren. Für ein allfälliges Storno zu einem späteren Zeitpunkt wenden Sie sich bitte an: info@virtuelle-ph.at\n		 \n		\n			Das Programm Scratch kennenlernen\, sich unter tutorieller Betreuung mit der grafischen Programmierumgebung vertraut machen. Scratch didaktisch sinnvoll in den eigenen Unterricht einbinden.\n		 \n		\n			Internet- und Computer-Grundkenntnisse notwendig.
URL:https://www.virtuelle-ph.at/veranstaltung/scratch-kreatives-programmieren-mit-kindern-9/
CATEGORIES:Online-Programm HerbstWinterprogramm,Online-Seminar
END:VEVENT
BEGIN:VEVENT
DTSTART;VALUE=DATE:20180416
DTEND;VALUE=DATE:20180430
DTSTAMP:20260420T120714
CREATED:20180412T125042Z
LAST-MODIFIED:20180415T033614Z
UID:10002875-1523836800-1525046399@www.virtuelle-ph.at
SUMMARY:Scratch - Kreatives Programmieren mit Kindern
DESCRIPTION:Zur Anmeldung\n						\n\n						Scratch ist eine kostenlose Programmiersprache die entwickelt wurde\, um Kindern und Jugendlichen die Grundprinzipien des Programmierens auf möglichst einfache und kreative Art näher zu bringen. Mit Scratch lassen sich Animationen\, interaktive Geschichten und Spiele entwickeln und im Internet veröffentlichen. Scratch fördert  auf diese Art das Verständnis von mathematischen Prinzipien und strukturiertem Denken. \nIn einer Gruppe von maximal 12 Teilnehmerinnen und Teilnehmern lernen Sie über einen Zeitraum von 2 Wochen gemeinsam unter Anleitung und Moderation eines erfahrenen Tutors die kostenlose Programmierumgebung von Scratch kennen. Schritt für Schritt werden Sie mit den Möglichkeiten dieser grafischen Programmierumgebung vertraut gemacht und erhalten so auch einen erprobten didaktischen Aufbau um Ihren eigenen Unterricht mit Scratch zu bereichern. Also: SCRATCH-MIT! \nKriterien für den Abschluss des Seminars:\nAktive Teilnahme an den eTivities sowie Erstellen eines Abschlussprogrammes mit Scratch. \nBitte beachten Sie\, dass dieses 2-wöchige Seminar als Intensivseminar geführt wird und der Arbeitsaufwand mit 33 UE einem 3-wöchigen Seminar entspricht. \nwww.virtuelle-ph.at/online-seminare \n\n			\n				\n			\n			Teilnahmekriterien & Info\n		 \n		\n			Lernziele\n		 \n		\n			Voraussetzungen\n		\n		 \n		\n			\n				\n					\n			Anmerkung: Die Teilnahme an allen im Rahmen des Online-Programms angebotenen Online-Seminaren der Virtuellen PH ist für österreichische Lehrkräfte und Studierende eines Lehramts kostenlos. Die Seminarplätze werden nach dem Prinzip first come\, first served – also chronologisch nach dem Zeitpunkt Ihrer Seminarbuchung über PH-Online – vergeben. Bis Mittwoch vor Beginn des jeweiligen Online-Seminars können Sie über PH-Online Ihr gebuchtes Online-Seminar selber kostenlos stornieren. Für ein allfälliges Storno zu einem späteren Zeitpunkt wenden Sie sich bitte an: info@virtuelle-ph.at\n		 \n		\n			Das Programm Scratch kennenlernen\, sich unter tutorieller Betreuung mit der grafischen Programmierumgebung vertraut machen. Scratch didaktisch sinnvoll in den eigenen Unterricht einbinden.\n		 \n		\n			Internet- und Computer-Grundkenntnisse notwendig.
URL:https://www.virtuelle-ph.at/veranstaltung/scratch-kreatives-programmieren-mit-kindern-8/
CATEGORIES:Online-Programm Frühjahrsprogramm,Online-Seminar
END:VEVENT
BEGIN:VEVENT
DTSTART;VALUE=DATE:20180416
DTEND;VALUE=DATE:20180430
DTSTAMP:20260420T120714
CREATED:20180214T153213Z
LAST-MODIFIED:20180415T033524Z
UID:10002806-1523836800-1525046399@www.virtuelle-ph.at
SUMMARY:Scratch - Kreatives Programmieren mit Kindern
DESCRIPTION:Zur Anmeldung\n						\n\n						Scratch ist eine kostenlose Programmiersprache die entwickelt wurde\, um Kindern und Jugendlichen die Grundprinzipien des Programmierens auf möglichst einfache und kreative Art näher zu bringen. Mit Scratch lassen sich Animationen\, interaktive Geschichten und Spiele entwickeln und im Internet veröffentlichen. Scratch fördert  auf diese Art das Verständnis von mathematischen Prinzipien und strukturiertem Denken. \nIn einer Gruppe von maximal 12 Teilnehmerinnen und Teilnehmern lernen Sie über einen Zeitraum von 2 Wochen gemeinsam unter Anleitung und Moderation eines erfahrenen Tutors die kostenlose Programmierumgebung von Scratch kennen. Schritt für Schritt werden Sie mit den Möglichkeiten dieser grafischen Programmierumgebung vertraut gemacht und erhalten so auch einen erprobten didaktischen Aufbau um Ihren eigenen Unterricht mit Scratch zu bereichern. Also: SCRATCH-MIT! \nKriterien für den Abschluss des Seminars:\nAktive Teilnahme an den eTivities sowie Erstellen eines Abschlussprogrammes mit Scratch. \nBitte beachten Sie\, dass dieses 2-wöchige Seminar als Intensivseminar geführt wird und der Arbeitsaufwand mit 33 UE einem 3-wöchigen Seminar entspricht. \nwww.virtuelle-ph.at/online-seminare \n\n			\n				\n			\n			Teilnahmekriterien & Info\n		 \n		\n			Lernziele\n		 \n		\n			Voraussetzungen\n		\n		 \n		\n			\n				\n					\n			Anmerkung: Die Teilnahme an allen im Rahmen des Online-Programms angebotenen Online-Seminaren der Virtuellen PH ist für österreichische Lehrkräfte und Studierende eines Lehramts kostenlos. Die Seminarplätze werden nach dem Prinzip first come\, first served – also chronologisch nach dem Zeitpunkt Ihrer Seminarbuchung über PH-Online – vergeben. Bis Mittwoch vor Beginn des jeweiligen Online-Seminars können Sie über PH-Online Ihr gebuchtes Online-Seminar selber kostenlos stornieren. Für ein allfälliges Storno zu einem späteren Zeitpunkt wenden Sie sich bitte an: info@virtuelle-ph.at\n		 \n		\n			Das Programm Scratch kennenlernen\, sich unter tutorieller Betreuung mit der grafischen Programmierumgebung vertraut machen. Scratch didaktisch sinnvoll in den eigenen Unterricht einbinden.\n		 \n		\n			Internet- und Computer-Grundkenntnisse notwendig.
URL:https://www.virtuelle-ph.at/veranstaltung/scratch-kreatives-programmieren-mit-kindern-7/
CATEGORIES:Online-Programm Frühjahrsprogramm,Online-Seminar
END:VEVENT
BEGIN:VEVENT
DTSTART;VALUE=DATE:20171120
DTEND;VALUE=DATE:20171204
DTSTAMP:20260420T120714
CREATED:20170929T112450Z
LAST-MODIFIED:20171119T033357Z
UID:10002664-1511136000-1512345599@www.virtuelle-ph.at
SUMMARY:Scratch - Kreatives Programmieren mit Kindern
DESCRIPTION:Zur Anmeldung\n						\n\n						Scratch ist eine kostenlose Programmiersprache die entwickelt wurde\, um Kindern und Jugendlichen die Grundprinzipien des Programmierens auf möglichst einfache und kreative Art näher zu bringen. Mit Scratch lassen sich Animationen\, interaktive Geschichten und Spiele entwickeln und im Internet veröffentlichen. Scratch fördert  auf diese Art das Verständnis von mathematischen Prinzipien und strukturiertem Denken. \nIn einer Gruppe von maximal 12 Teilnehmerinnen und Teilnehmern lernen Sie über einen Zeitraum von 2 Wochen gemeinsam unter Anleitung und Moderation eines erfahrenen Tutors die kostenlose Programmierumgebung von Scratch kennen. Schritt für Schritt werden Sie mit den Möglichkeiten dieser grafischen Programmierumgebung vertraut gemacht und erhalten so auch einen erprobten didaktischen Aufbau um Ihren eigenen Unterricht mit Scratch zu bereichern. Also: SCRATCH-MIT! \nKriterien für den Abschluss des Seminars:\nAktive Teilnahme an den eTivities sowie Erstellen eines Abschlussprogrammes mit Scratch. \nwww.virtuelle-ph.at/online-seminare \n\n			\n				\n			\n			Teilnahmekriterien & Info\n		 \n		\n			Lernziele\n		 \n		\n			Voraussetzungen\n		\n		 \n		\n			\n				\n					\n			Anmerkung: Die Teilnahme an allen im Rahmen des Online-Programms angebotenen Online-Seminaren der Virtuellen PH ist für österreichische Lehrkräfte und Studierende eines Lehramts kostenlos. Die Seminarplätze werden nach dem Prinzip first come\, first served – also chronologisch nach dem Zeitpunkt Ihrer Seminarbuchung über PH-Online – vergeben. Bis Mittwoch vor Beginn des jeweiligen Online-Seminars können Sie über PH-Online Ihr gebuchtes Online-Seminar selber kostenlos stornieren. Für ein allfälliges Storno zu einem späteren Zeitpunkt wenden Sie sich bitte an: info@virtuelle-ph.at\n		 \n		\n			Das Programm Scratch kennenlernen\, sich unter tutorieller Betreuung mit der grafischen Programmierumgebung vertraut machen. Scratch didaktisch sinnvoll in den eigenen Unterricht einbinden.\n		 \n		\n			Internet- und Computer-Grundkenntnisse notwendig.
URL:https://www.virtuelle-ph.at/veranstaltung/scratch-kreatives-programmieren-mit-kindern-6/
CATEGORIES:Online-Programm HerbstWinterprogramm,Online-Seminar
END:VEVENT
BEGIN:VEVENT
DTSTART;VALUE=DATE:20170327
DTEND;VALUE=DATE:20170410
DTSTAMP:20260420T120714
CREATED:20170227T152758Z
LAST-MODIFIED:20170326T033354Z
UID:10002499-1490572800-1491782399@www.virtuelle-ph.at
SUMMARY:Scratch  – Kreatives Programmieren mit Kindern
DESCRIPTION:Scratch ist eine kostenlose Programmiersprache die entwickelt wurde\, um Kindern und Jugendlichen die Grundprinzipien des Programmierens auf möglichst einfache und kreative Art näher zu bringen. Mit Scratch lassen sich Animationen\, interaktive Geschichten und Spiele entwickeln und im Internet veröffentlichen. Scratch fördert  auf diese Art das Verständnis von mathematischen Prinzipien und strukturiertem Denken. \nIn einer Gruppe von maximal 12 Teilnehmerinnen und Teilnehmern lernen Sie über einen Zeitraum von 2 Wochen gemeinsam unter Anleitung und Moderation eines erfahrenen Tutors die kostenlose Programmierumgebung von Scratch kennen. Schritt für Schritt werden Sie mit den Möglichkeiten dieser grafischen Programmierumgebung vertraut gemacht und erhalten so auch einen erprobten didaktischen Aufbau um Ihren eigenen Unterricht mit Scratch zu bereichern. Also: SCRATCH-MIT! \nKriterien für den Abschluss des Seminars:\nAktive Teilnahme an den eTivities sowie Erstellen eines Abschlussprogrammes mit Scratch. \nwww.virtuelle-ph.at/online-seminare \n\n			\n				\n			\n			Teilnahmekriterien & Info\n		 \n		\n			Lernziele\n		 \n		\n			Voraussetzungen\n		\n		 \n		\n			\n				\n					\n			Die Teilnahme an allen im Rahmen des Onlineprogramms der Virtuellen PH angebotenen Online-Seminaren ist für österreichische Lehrkräfte und Studierende eines Lehramts kostenlos.\nDie Seminarplätze werden nach dem Prinzip first come\, first served – also chronologisch nach dem Zeitpunkt Ihrer Seminarbuchung über PH-Online – vergeben. Bis Mittwoch vor Beginn des jeweiligen Online-Seminars können Sie über PH-Online Ihr gebuchtes Online-Seminar selber kostenlos stornieren. Für ein allfälliges Storno zu einem späteren Zeitpunkt wenden Sie sich bitte an: info@virtuelle-ph.at\n		 \n		\n			Das Programm Scratch kennenlernen\, sich unter tutorieller Betreuung mit der grafischen Programmierumgebung vertraut machen. Scratch didaktisch sinnvoll in den eigenen Unterricht einbinden.\n		 \n		\n			Internet- und Computer-Grundkenntnisse notwendig.
URL:https://www.virtuelle-ph.at/veranstaltung/scratch-kreatives-programmieren-mit-kindern-5/
CATEGORIES:Online-Programm Frühjahrsprogramm,Online-Seminar
END:VEVENT
BEGIN:VEVENT
DTSTART;VALUE=DATE:20160620
DTEND;VALUE=DATE:20160704
DTSTAMP:20260420T120714
CREATED:20160509T124502Z
LAST-MODIFIED:20160619T033345Z
UID:10002260-1466380800-1467590399@www.virtuelle-ph.at
SUMMARY:Scratch - Kreatives Programmieren mit Kindern
DESCRIPTION:Scratch ist eine kostenlose Programmiersprache die entwickelt wurde\, um Kindern und Jugendlichen die Grundprinzipien des Programmierens auf möglichst einfache und kreative Art näher zu bringen. Mit Scratch lassen sich Animationen\, interaktive Geschichten und Spiele entwickeln und im Internet veröffentlichen. Scratch fördert  auf diese Art das Verständnis von mathematischen Prinzipien und strukturiertem Denken. \nIn einer Gruppe von maximal 12 Teilnehmerinnen und Teilnehmern lernen Sie über einen Zeitraum von 2 Wochen gemeinsam unter Anleitung und Moderation eines erfahrenen Tutors die kostenlose Programmierumgebung von Scratch kennen. Schritt für Schritt werden Sie mit den Möglichkeiten dieser grafischen Programmierumgebung vertraut gemacht und erhalten so auch einen erprobten didaktischen Aufbau um Ihren eigenen Unterricht mit Scratch zu bereichern. Also: SCRATCH-MIT! \nKriterien für den Abschluss des Seminars:\nAktive Teilnahme an den eTivities sowie Erstellen eines Abschlussprogrammes mit Scratch. \n\n			\n				\n			\n			Teilnahmekriterien & Info\n		 \n		\n			Lernziele\n		 \n		\n			Voraussetzungen\n		\n		 \n		\n			\n				\n					\n			Die Teilnahme an allen im Rahmen des Onlineprogramms der Virtuellen PH angebotenen Online-Seminaren ist für österreichische Lehrkräfte und Studierende eines Lehramts kostenlos.\nDie Seminarplätze werden nach dem Prinzip first come\, first served – also chronologisch nach dem Zeitpunkt Ihrer Seminarbuchung über PH-Online – vergeben. Bis Mittwoch vor Beginn des jeweiligen Online-Seminars können Sie über PH-Online Ihr gebuchtes Online-Seminar selber kostenlos stornieren. Für ein allfälliges Storno zu einem späteren Zeitpunkt wenden Sie sich bitte an: info@virtuelle-ph.at\n		 \n		\n			Das Programm Scratch kennenlernen\, sich unter tutorieller Betreuung mit der grafischen Programmierumgebung vertraut machen. Scratch didaktisch sinnvoll in den eigenen Unterricht einbinden.\n		 \n		\n			Internet- und Computer-Grundkenntnisse notwendig.
URL:https://www.virtuelle-ph.at/veranstaltung/scratch-kreatives-programmieren-mit-kindern-3/
CATEGORIES:Online-Programm Sommerprogramm,Online-Seminar
END:VEVENT
BEGIN:VEVENT
DTSTART;VALUE=DATE:20160404
DTEND;VALUE=DATE:20160405
DTSTAMP:20260420T120714
CREATED:20160419T102321Z
LAST-MODIFIED:20160419T102324Z
UID:10002148-1459728000-1459814399@www.virtuelle-ph.at
SUMMARY:Scratch - Kreatives Programmieren mit Kindern
DESCRIPTION:Scratch ist eine kostenlose Programmiersprache die entwickelt wurde\, um Kindern und Jugendlichen die Grundprinzipien des Programmierens auf möglichst einfache und kreative Art näher zu bringen. Mit Scratch lassen sich Animationen\, interaktive Geschichten und Spiele entwickeln und im Internet veröffentlichen. Scratch fördert  auf diese Art das Verständnis von mathematischen Prinzipien und strukturiertem Denken. \nIn einer Gruppe von maximal 12 Teilnehmerinnen und Teilnehmern lernen Sie über einen Zeitraum von 2 Wochen gemeinsam unter Anleitung und Moderation eines erfahrenen Tutors die kostenlose Programmierumgebung von Scratch kennen. Schritt für Schritt werden Sie mit den Möglichkeiten dieser grafischen Programmierumgebung vertraut gemacht und erhalten so auch einen erprobten didaktischen Aufbau um Ihren eigenen Unterricht mit Scratch zu bereichern. Also: SCRATCH-MIT! \nKriterien für den Abschluss des Seminars:\nAktive Teilnahme an den eTivities sowie Erstellen eines Abschlussprogrammes mit Scratch. \n[Online-Programm: Frühjahrsprogramm] \n\n			\n				\n			\n			Teilnahmekriterien & Info\n		 \n		\n			Lernziele\n		 \n		\n			Voraussetzungen\n		\n		 \n		\n			\n				\n					\n			Die Teilnahme an allen im Rahmen des Onlineprogramms der Virtuellen PH angebotenen Online-Seminaren ist für österreichische Lehrkräfte und Studierende eines Lehramts kostenlos.\nDie Seminarplätze werden nach dem Prinzip first come\, first served – also chronologisch nach dem Zeitpunkt Ihrer Seminarbuchung über PH-Online – vergeben. Bis Mittwoch vor Beginn des jeweiligen Online-Seminars können Sie über PH-Online Ihr gebuchtes Online-Seminar selber kostenlos stornieren. Für ein allfälliges Storno zu einem späteren Zeitpunkt wenden Sie sich bitte an: info@virtuelle-ph.at\n		 \n		\n			Das Programm Scratch kennenlernen\, sich unter tutorieller Betreuung mit der grafischen Programmierumgebung vertraut machen. Scratch didaktisch sinnvoll in den eigenen Unterricht einbinden.\n		 \n		\n			Internet- und Computer-Grundkenntnisse notwendig.
URL:https://www.virtuelle-ph.at/veranstaltung/scratch-kreatives-programmieren-mit-kindern-2/
CATEGORIES:Online-Seminar
END:VEVENT
BEGIN:VEVENT
DTSTART;VALUE=DATE:20160111
DTEND;VALUE=DATE:20160112
DTSTAMP:20260420T120714
CREATED:20160419T102059Z
LAST-MODIFIED:20160419T102103Z
UID:10002171-1452470400-1452556799@www.virtuelle-ph.at
SUMMARY:Scratch - Kreatives Programmieren mit Kindern
DESCRIPTION:Scratch ist eine kostenlose Programmiersprache die entwickelt wurde\, um Kindern und Jugendlichen die Grundprinzipien des Programmierens auf möglichst einfache und kreative Art näher zu bringen. Mit Scratch lassen sich Animationen\, interaktive Geschichten und Spiele entwickeln und im Internet veröffentlichen. Scratch fördert  auf diese Art das Verständnis von mathematischen Prinzipien und strukturiertem Denken. \nIn einer Gruppe von maximal 12 Teilnehmerinnen und Teilnehmern lernen Sie über einen Zeitraum von 2 Wochen gemeinsam unter Anleitung und Moderation eines erfahrenen Tutors die kostenlose Programmierumgebung von Scratch kennen. Schritt für Schritt werden Sie mit den Möglichkeiten dieser grafischen Programmierumgebung vertraut gemacht und erhalten so auch einen erprobten didaktischen Aufbau um Ihren eigenen Unterricht mit Scratch zu bereichern. Also: SCRATCH-MIT! \nKriterien für den Abschluss des Seminars:\nAktive Teilnahme an den eTivities sowie Erstellen eines Abschlussprogrammes mit Scratch. \n\n			\n				\n			\n			Teilnahmekriterien & Info\n		 \n		\n			Lernziele\n		 \n		\n			Voraussetzungen\n		\n		 \n		\n			\n				\n					\n			Die Teilnahme an allen im Rahmen des Onlineprogramms der Virtuellen PH angebotenen Online-Seminaren ist für österreichische Lehrkräfte und Studierende eines Lehramts kostenlos.\nDie Seminarplätze werden nach dem Prinzip first come\, first served – also chronologisch nach dem Zeitpunkt Ihrer Seminarbuchung über PH-Online – vergeben. Bis Mittwoch vor Beginn des jeweiligen Online-Seminars können Sie über PH-Online Ihr gebuchtes Online-Seminar selber kostenlos stornieren. Für ein allfälliges Storno zu einem späteren Zeitpunkt wenden Sie sich bitte an: info@virtuelle-ph.at\n		 \n		\n			Das Programm Scratch kennenlernen\, sich unter tutorieller Betreuung mit der grafischen Programmierumgebung vertraut machen. Scratch didaktisch sinnvoll in den eigenen Unterricht einbinden.\n		 \n		\n			Internet- und Computer-Grundkenntnisse notwendig.
URL:https://www.virtuelle-ph.at/veranstaltung/scratch-kreatives-programmieren-mit-kindern/
CATEGORIES:Online-Seminar
END:VEVENT
END:VCALENDAR