BEGIN:VCALENDAR
VERSION:2.0
PRODID:-//Virtuelle PH - ECPv6.6.4.2//NONSGML v1.0//EN
CALSCALE:GREGORIAN
METHOD:PUBLISH
X-WR-CALNAME:Virtuelle PH
X-ORIGINAL-URL:https://www.virtuelle-ph.at
X-WR-CALDESC:Veranstaltungen für Virtuelle PH
REFRESH-INTERVAL;VALUE=DURATION:PT1H
X-Robots-Tag:noindex
X-PUBLISHED-TTL:PT1H
BEGIN:VTIMEZONE
TZID:Europe/Vienna
BEGIN:DAYLIGHT
TZOFFSETFROM:+0100
TZOFFSETTO:+0200
TZNAME:CEST
DTSTART:20210328T010000
END:DAYLIGHT
BEGIN:STANDARD
TZOFFSETFROM:+0200
TZOFFSETTO:+0100
TZNAME:CET
DTSTART:20211031T010000
END:STANDARD
BEGIN:DAYLIGHT
TZOFFSETFROM:+0100
TZOFFSETTO:+0200
TZNAME:CEST
DTSTART:20220327T010000
END:DAYLIGHT
BEGIN:STANDARD
TZOFFSETFROM:+0200
TZOFFSETTO:+0100
TZNAME:CET
DTSTART:20221030T010000
END:STANDARD
TZID:Europe/Berlin
BEGIN:DAYLIGHT
TZOFFSETFROM:+0100
TZOFFSETTO:+0200
TZNAME:CEST
DTSTART:20200329T010000
END:DAYLIGHT
BEGIN:STANDARD
TZOFFSETFROM:+0200
TZOFFSETTO:+0100
TZNAME:CET
DTSTART:20201025T010000
END:STANDARD
BEGIN:DAYLIGHT
TZOFFSETFROM:+0100
TZOFFSETTO:+0200
TZNAME:CEST
DTSTART:20210328T010000
END:DAYLIGHT
BEGIN:STANDARD
TZOFFSETFROM:+0200
TZOFFSETTO:+0100
TZNAME:CET
DTSTART:20211031T010000
END:STANDARD
END:VTIMEZONE
BEGIN:VEVENT
DTSTART;VALUE=DATE:20220425
DTEND;VALUE=DATE:20220516
DTSTAMP:20260420T135125
CREATED:20220214T111046Z
LAST-MODIFIED:20220424T033021Z
UID:10004022-1650844800-1652659199@www.virtuelle-ph.at
SUMMARY:Gefällt mir! – Selbstdarstellung von Schüler_innen in sozialen Netzwerken
DESCRIPTION:Zur Anmeldung\n						\n\n						Die Selbstdarstellung im Internet spielt eine wichtige Rolle in der Identitätsbildung von Mädchen und Burschen. In diesem Seminar begeben wir uns gemeinsam in die Online-Welt der Kinder und Jugendlichen und untersuchen deren Selbstdarstellung speziell in sozialen Netzwerken: Jugendliche Selbstdarstellung umfasst die Kommunikation und Vernetzung mit anderen mittels Online-Profilen\, Fotos\, Videos\, Chats\, Gruppen usw. Jugendliche entwerfen dabei ihre Identität im Spannungsfeld zwischen eigenem Ich und Gruppendruck\, Authentizität und Stereotypen. \nAufbauen auf den erarbeiteten Themen entwickeln wir Anwendungen für den eigenen Einsatz und eine konkrete Lehrsequenz für den eigenen Unterricht. \nAblauf:\nWoche 1: Lebenswelten von Jugendlichen in sozialen Netzwerken\nIn der ersten Woche lernen Sie verschiedene soziale Netzwerke kennen\, in denen Jugendliche aktiv sind. Sie erkunden\, welche Bedeutungen und Funktionen diese im Leben der Jugendlichen haben. \nWoche 2: Identität und Selbstdarstellung\nIn der zweiten Woche erarbeiten Sie\, wie verschiedene Formen der Selbstdarstellung in sozialen Netzwerken\, wie Fotos\, Videos\, Chats\, online-Sprache Jugendlicher u.ä.\, eine wichtige Rolle in der Identitätskonstruktion Jugendlicher spielen. \nWoche 3: Besonders heikle Themen\nSie befassen sich mit Aspekten der Privatsphäre in sozialen Netzwerken und werfen einen Blick auf aktuell brisante Themen wie Sexting und Cybermobbing. \nIn Woche 3 beginnen Sie auch\, Ideen zu sammeln wie Sie die bisher erarbeiteten Themen in eine eigene Lehrsequenz umsetzen können. \nwww.virtuelle-ph.at/online-seminare \n\nExpert_in: Astrid Maria Brunner \n\n\n			\n				\n			\n			Teilnahmekriterien & Info\n		 \n		\n			Lernziele\n		 \n		\n			Voraussetzungen\n		\n		 \n		\n			\n				\n					\n			Die Teilnahme an allen im Rahmen des Onlineprogramms angebotenen Online-Seminaren der Virtuellen PH ist für österreichische Lehrkräfte und Studierende eines Lehramts kostenlos. Die Seminarplätze werden nach dem Prinzip first come\, first served – also chronologisch nach dem Zeitpunkt Ihrer Seminarbuchung über PH-Online – vergeben. Bis Mittwoch vor Beginn des jeweiligen Online-Seminars können Sie über PH-Online Ihr gebuchtes Online-Seminar selber kostenlos stornieren. Für ein allfälliges Storno zu einem späteren Zeitpunkt wenden Sie sich bitte an: info@virtuelle-ph.at\n		 \n		\n			Die TeilnehmerInnen sollen soziale Netzwerke\, in denen sich Jugendliche bewegen\, kennenlernen und hinsichtlich der Rolle und Funktionsweisen solcher Netzwerke in der Identitätsbildung Jugendlicher sensibilisiert werden. Ziel ist es\, die gewonnenen Erkenntnisse in eine Lehrsequenz für den eigenen Unterricht umzusetzen.\n		 \n		\n			Internetzugang und Grundwissen im Umgang mit dem Internet und dem Computer\, sowie Aufgeschlossenheit für Neues
URL:https://www.virtuelle-ph.at/veranstaltung/gefaellt-mir-selbstdarstellung-von-schueler_innen-in-sozialen-netzwerken/
CATEGORIES:Online-Programm Frühjahrsprogramm,Online-Seminar
END:VEVENT
BEGIN:VEVENT
DTSTART;VALUE=DATE:20210412
DTEND;VALUE=DATE:20210503
DTSTAMP:20260420T135125
CREATED:20210209T104158Z
LAST-MODIFIED:20210408T033054Z
UID:10003865-1618185600-1619999999@www.virtuelle-ph.at
SUMMARY:Gefällt mir! – Selbstdarstellung von SchülerInnen in sozialen Netzwerken
DESCRIPTION:Zur Anmeldung\n						\n\n						Die Selbstdarstellung im Internet spielt eine wichtige Rolle in der Identitätsbildung von Mädchen und Burschen. In diesem Seminar begeben wir uns gemeinsam in die Online-Welt der Kinder und Jugendlichen und untersuchen deren Selbstdarstellung speziell in sozialen Netzwerken: Jugendliche Selbstdarstellung umfasst die Kommunikation und Vernetzung mit anderen mittels Online-Profilen\, Fotos\, Videos\, Chats\, Gruppen usw. Jugendliche entwerfen dabei ihre Identität im Spannungsfeld zwischen eigenem Ich und Gruppendruck\, Authentizität und Stereotypen. \nAufbauen auf den erarbeiteten Themen entwickeln wir Anwendungen für den eigenen Einsatz und eine konkrete Lehrsequenz für den eigenen Unterricht. \nAblauf:\nWoche 1: Lebenswelten von Jugendlichen in sozialen Netzwerken\nIn der ersten Woche lernen Sie verschiedene soziale Netzwerke kennen\, in denen Jugendliche aktiv sind. Sie erkunden\, welche Bedeutungen und Funktionen diese im Leben der Jugendlichen haben. \nWoche 2: Identität und Selbstdarstellung\nIn der zweiten Woche erarbeiten Sie\, wie verschiedene Formen der Selbstdarstellung in sozialen Netzwerken\, wie Fotos\, Videos\, Chats\, online-Sprache Jugendlicher u.ä.\, eine wichtige Rolle in der Identitätskonstruktion Jugendlicher spielen. \nWoche 3: Besonders heikle Themen\nSie befassen sich mit Aspekten der Privatsphäre in sozialen Netzwerken und werfen einen Blick auf aktuell brisante Themen wie Sexting und Cybermobbing. \nIn Woche 3 beginnen Sie auch\, Ideen zu sammeln wie Sie die bisher erarbeiteten Themen in eine eigene Lehrsequenz umsetzen können. \nwww.virtuelle-ph.at/online-seminare \n\nExpert_in: Astrid Maria Brunner \n\n\n			\n				\n			\n			Teilnahmekriterien & Info\n		 \n		\n			Lernziele\n		 \n		\n			Voraussetzungen\n		\n		 \n		\n			\n				\n					\n			Die Teilnahme an allen im Rahmen des Onlineprogramms angebotenen Online-Seminaren der Virtuellen PH ist für österreichische Lehrkräfte und Studierende eines Lehramts kostenlos. Die Seminarplätze werden nach dem Prinzip first come\, first served – also chronologisch nach dem Zeitpunkt Ihrer Seminarbuchung über PH-Online – vergeben. Bis Mittwoch vor Beginn des jeweiligen Online-Seminars können Sie über PH-Online Ihr gebuchtes Online-Seminar selber kostenlos stornieren. Für ein allfälliges Storno zu einem späteren Zeitpunkt wenden Sie sich bitte an: info@virtuelle-ph.at\n		 \n		\n			Die TeilnehmerInnen sollen soziale Netzwerke\, in denen sich Jugendliche bewegen\, kennenlernen und hinsichtlich der Rolle und Funktionsweisen solcher Netzwerke in der Identitätsbildung Jugendlicher sensibilisiert werden. Ziel ist es\, die gewonnenen Erkenntnisse in eine Lehrsequenz für den eigenen Unterricht umzusetzen.\n		 \n		\n			Internetzugang und Grundwissen im Umgang mit dem Internet und dem Computer\, sowie Aufgeschlossenheit für Neues
URL:https://www.virtuelle-ph.at/veranstaltung/gefaellt-mir-selbstdarstellung-von-schuelerinnen-in-sozialen-netzwerken-10/
CATEGORIES:Online-Programm Frühjahrsprogramm,Online-Seminar
END:VEVENT
BEGIN:VEVENT
DTSTART;VALUE=DATE:20210111
DTEND;VALUE=DATE:20210201
DTSTAMP:20260420T135125
CREATED:20210108T033003Z
LAST-MODIFIED:20210110T033039Z
UID:10003820-1610323200-1612137599@www.virtuelle-ph.at
SUMMARY:Gefällt mir! – Selbstdarstellung von SchülerInnen in sozialen Netzwerken
DESCRIPTION:Zur Anmeldung\n						\n\n						Die Selbstdarstellung im Internet spielt eine wichtige Rolle in der Identitätsbildung von Mädchen und Burschen. In diesem Seminar begeben wir uns gemeinsam in die Online-Welt der Kinder und Jugendlichen und untersuchen deren Selbstdarstellung speziell in sozialen Netzwerken: Jugendliche Selbstdarstellung umfasst die Kommunikation und Vernetzung mit anderen mittels Online-Profilen\, Fotos\, Videos\, Chats\, Gruppen usw. Jugendliche entwerfen dabei ihre Identität im Spannungsfeld zwischen eigenem Ich und Gruppendruck\, Authentizität und Stereotypen. \nAufbauen auf den erarbeiteten Themen entwickeln wir Anwendungen für den eigenen Einsatz und eine konkrete Lehrsequenz für den eigenen Unterricht. \nAblauf:\nWoche 1: Lebenswelten von Jugendlichen in sozialen Netzwerken\nIn der ersten Woche lernen Sie verschiedene soziale Netzwerke kennen\, in denen Jugendliche aktiv sind. Sie erkunden\, welche Bedeutungen und Funktionen diese im Leben der Jugendlichen haben. \nWoche 2: Identität und Selbstdarstellung\nIn der zweiten Woche erarbeiten Sie\, wie verschiedene Formen der Selbstdarstellung in sozialen Netzwerken\, wie Fotos\, Videos\, Chats\, online-Sprache Jugendlicher u.ä.\, eine wichtige Rolle in der Identitätskonstruktion Jugendlicher spielen. \nWoche 3: Besonders heikle Themen\nSie befassen sich mit Aspekten der Privatsphäre in sozialen Netzwerken und werfen einen Blick auf aktuell brisante Themen wie Sexting und Cybermobbing. \nIn Woche 3 beginnen Sie auch\, Ideen zu sammeln wie Sie die bisher erarbeiteten Themen in eine eigene Lehrsequenz umsetzen können. \nwww.virtuelle-ph.at/online-seminare \n\nExpert_in: Astrid Maria Brunner \n\n\n			\n				\n			\n			Teilnahmekriterien & Info\n		 \n		\n			Lernziele\n		 \n		\n			Voraussetzungen\n		\n		 \n		\n			\n				\n					\n			Die Teilnahme an allen im Rahmen des Onlineprogramms angebotenen Online-Seminaren der Virtuellen PH ist für österreichische Lehrkräfte und Studierende eines Lehramts kostenlos. Die Seminarplätze werden nach dem Prinzip first come\, first served – also chronologisch nach dem Zeitpunkt Ihrer Seminarbuchung über PH-Online – vergeben. Bis Mittwoch vor Beginn des jeweiligen Online-Seminars können Sie über PH-Online Ihr gebuchtes Online-Seminar selber kostenlos stornieren. Für ein allfälliges Storno zu einem späteren Zeitpunkt wenden Sie sich bitte an: info@virtuelle-ph.at\n		 \n		\n			Die TeilnehmerInnen sollen soziale Netzwerke\, in denen sich Jugendliche bewegen\, kennenlernen und hinsichtlich der Rolle und Funktionsweisen solcher Netzwerke in der Identitätsbildung Jugendlicher sensibilisiert werden. Ziel ist es\, die gewonnenen Erkenntnisse in eine Lehrsequenz für den eigenen Unterricht umzusetzen.\n		 \n		\n			Internetzugang und Grundwissen im Umgang mit dem Internet und dem Computer\, sowie Aufgeschlossenheit für Neues
URL:https://www.virtuelle-ph.at/veranstaltung/gefaellt-mir-selbstdarstellung-von-schuelerinnen-in-sozialen-netzwerken-9/
CATEGORIES:Online-Programm HerbstWinterprogramm,Online-Seminar
END:VEVENT
BEGIN:VEVENT
DTSTART;VALUE=DATE:20210111
DTEND;VALUE=DATE:20210201
DTSTAMP:20260420T135125
CREATED:20200921T091804Z
LAST-MODIFIED:20210110T033014Z
UID:10003376-1610323200-1612137599@www.virtuelle-ph.at
SUMMARY:Gefällt mir! – Selbstdarstellung von SchülerInnen in sozialen Netzwerken
DESCRIPTION:Zur Anmeldung\n						\n\n						Die Selbstdarstellung im Internet spielt eine wichtige Rolle in der Identitätsbildung von Mädchen und Burschen. In diesem Seminar begeben wir uns gemeinsam in die Online-Welt der Kinder und Jugendlichen und untersuchen deren Selbstdarstellung speziell in sozialen Netzwerken: Jugendliche Selbstdarstellung umfasst die Kommunikation und Vernetzung mit anderen mittels Online-Profilen\, Fotos\, Videos\, Chats\, Gruppen usw. Jugendliche entwerfen dabei ihre Identität im Spannungsfeld zwischen eigenem Ich und Gruppendruck\, Authentizität und Stereotypen. \nAufbauen auf den erarbeiteten Themen entwickeln wir Anwendungen für den eigenen Einsatz und eine konkrete Lehrsequenz für den eigenen Unterricht. \nAblauf:\nWoche 1: Lebenswelten von Jugendlichen in sozialen Netzwerken\nIn der ersten Woche lernen Sie verschiedene soziale Netzwerke kennen\, in denen Jugendliche aktiv sind. Sie erkunden\, welche Bedeutungen und Funktionen diese im Leben der Jugendlichen haben. \nWoche 2: Identität und Selbstdarstellung\nIn der zweiten Woche erarbeiten Sie\, wie verschiedene Formen der Selbstdarstellung in sozialen Netzwerken\, wie Fotos\, Videos\, Chats\, online-Sprache Jugendlicher u.ä.\, eine wichtige Rolle in der Identitätskonstruktion Jugendlicher spielen. \nWoche 3: Besonders heikle Themen\nSie befassen sich mit Aspekten der Privatsphäre in sozialen Netzwerken und werfen einen Blick auf aktuell brisante Themen wie Sexting und Cybermobbing. \nIn Woche 3 beginnen Sie auch\, Ideen zu sammeln wie Sie die bisher erarbeiteten Themen in eine eigene Lehrsequenz umsetzen können. \nwww.virtuelle-ph.at/online-seminare \n\nExpert_in: Astrid Maria Brunner \n\n\n			\n				\n			\n			Teilnahmekriterien & Info\n		 \n		\n			Lernziele\n		 \n		\n			Voraussetzungen\n		\n		 \n		\n			\n				\n					\n			Die Teilnahme an allen im Rahmen des Onlineprogramms angebotenen Online-Seminaren der Virtuellen PH ist für österreichische Lehrkräfte und Studierende eines Lehramts kostenlos. Die Seminarplätze werden nach dem Prinzip first come\, first served – also chronologisch nach dem Zeitpunkt Ihrer Seminarbuchung über PH-Online – vergeben. Bis Mittwoch vor Beginn des jeweiligen Online-Seminars können Sie über PH-Online Ihr gebuchtes Online-Seminar selber kostenlos stornieren. Für ein allfälliges Storno zu einem späteren Zeitpunkt wenden Sie sich bitte an: info@virtuelle-ph.at\n		 \n		\n			Die TeilnehmerInnen sollen soziale Netzwerke\, in denen sich Jugendliche bewegen\, kennenlernen und hinsichtlich der Rolle und Funktionsweisen solcher Netzwerke in der Identitätsbildung Jugendlicher sensibilisiert werden. Ziel ist es\, die gewonnenen Erkenntnisse in eine Lehrsequenz für den eigenen Unterricht umzusetzen.\n		 \n		\n			Internetzugang und Grundwissen im Umgang mit dem Internet und dem Computer\, sowie Aufgeschlossenheit für Neues
URL:https://www.virtuelle-ph.at/veranstaltung/gefaellt-mir-selbstdarstellung-von-schuelerinnen-in-sozialen-netzwerken-8/
CATEGORIES:Online-Programm HerbstWinterprogramm,Online-Seminar
END:VEVENT
BEGIN:VEVENT
DTSTART;VALUE=DATE:20200420
DTEND;VALUE=DATE:20200511
DTSTAMP:20260420T135125
CREATED:20200217T132530Z
LAST-MODIFIED:20200419T033032Z
UID:10003581-1587340800-1589155199@www.virtuelle-ph.at
SUMMARY:Gefällt mir! – Selbstdarstellung von SchülerInnen in sozialen Netzwerken
DESCRIPTION:Zur Anmeldung\n						\n\n						Die Selbstdarstellung im Internet spielt eine wichtige Rolle in der Identitätsbildung von Mädchen und Burschen. In diesem Seminar begeben wir uns gemeinsam in die Online-Welt der Kinder und Jugendlichen und untersuchen deren Selbstdarstellung speziell in sozialen Netzwerken: Jugendliche Selbstdarstellung umfasst die Kommunikation und Vernetzung mit anderen mittels Online-Profilen\, Fotos\, Videos\, Chats\, Gruppen usw. Jugendliche entwerfen dabei ihre Identität im Spannungsfeld zwischen eigenem Ich und Gruppendruck\, Authentizität und Stereotypen. \nAufbauen auf den erarbeiteten Themen entwickeln wir Anwendungen für den eigenen Einsatz und eine konkrete Lehrsequenz für den eigenen Unterricht. \nAblauf:\nWoche 1: Lebenswelten von Jugendlichen in sozialen Netzwerken\nIn der ersten Woche lernen Sie verschiedene soziale Netzwerke kennen\, in denen Jugendliche aktiv sind. Sie erkunden\, welche Bedeutungen und Funktionen diese im Leben der Jugendlichen haben. \nWoche 2: Identität und Selbstdarstellung\nIn der zweiten Woche erarbeiten Sie\, wie verschiedene Formen der Selbstdarstellung in sozialen Netzwerken\, wie Fotos\, Videos\, Chats\, online-Sprache Jugendlicher u.ä.\, eine wichtige Rolle in der Identitätskonstruktion Jugendlicher spielen. \nWoche 3: Besonders heikle Themen\nSie befassen sich mit Aspekten der Privatsphäre in sozialen Netzwerken und werfen einen Blick auf aktuell brisante Themen wie Sexting und Cybermobbing. \nIn Woche 3 beginnen Sie auch\, Ideen zu sammeln wie Sie die bisher erarbeiteten Themen in eine eigene Lehrsequenz umsetzen können. \nwww.virtuelle-ph.at/online-seminare \n\n			\n				\n			\n			Teilnahmekriterien & Info\n		 \n		\n			Lernziele\n		 \n		\n			Voraussetzungen\n		\n		 \n		\n			\n				\n					\n			Für die Anmeldung zur Teilnahme müssen Sie sich in PH-Online als Studierende/r identifizieren.\nAnmerkung: Die Teilnahme an allen im Rahmen des Online-Programms angebotenen Online-Seminaren der Virtuellen PH ist für österreichische Lehrkräfte\, PH-Lehrende und Studierende eines Lehramts kostenlos. Die Seminarplätze werden nach dem Prinzip first come\, first served – also chronologisch nach dem Zeitpunkt Ihrer Seminarbuchung über PH-Online – vergeben. Bis Mittwoch vor Beginn des jeweiligen Online-Seminars können Sie über PH-Online Ihr gebuchtes Online-Seminar selber kostenlos stornieren. Für ein allfälliges Storno zu einem späteren Zeitpunkt wenden Sie sich bitte an: info@virtuelle-ph.at\n		 \n		\n			Die TeilnehmerInnen sollen soziale Netzwerke\, in denen sich Jugendliche bewegen\, kennenlernen und hinsichtlich der Rolle und Funktionsweisen solcher Netzwerke in der Identitätsbildung Jugendlicher sensibilisiert werden. Ziel ist es\, die gewonnenen Erkenntnisse in eine Lehrsequenz für den eigenen Unterricht umzusetzen.\n		 \n		\n			Moodle-Basiskenntnisse (Teacher-Rolle)
URL:https://www.virtuelle-ph.at/veranstaltung/gefaellt-mir-selbstdarstellung-von-schuelerinnen-in-sozialen-netzwerken-7/
CATEGORIES:Online-Programm Frühjahrsprogramm,Online-Seminar
END:VEVENT
BEGIN:VEVENT
DTSTART;VALUE=DATE:20200113
DTEND;VALUE=DATE:20200203
DTSTAMP:20260420T135125
CREATED:20190924T033042Z
LAST-MODIFIED:20200112T033033Z
UID:10003162-1578873600-1580687999@www.virtuelle-ph.at
SUMMARY:Gefällt mir! – Selbstdarstellung von SchülerInnen in sozialen Netzwerken
DESCRIPTION:Zur Anmeldung\n						\n\n						Die Selbstdarstellung im Internet spielt eine wichtige Rolle in der Identitätsbildung von Mädchen und Burschen. In diesem Seminar begeben wir uns gemeinsam in die Online-Welt der Kinder und Jugendlichen und untersuchen deren Selbstdarstellung speziell in sozialen Netzwerken: Jugendliche Selbstdarstellung umfasst die Kommunikation und Vernetzung mit anderen mittels Online-Profilen\, Fotos\, Videos\, Chats\, Gruppen usw. Jugendliche entwerfen dabei ihre Identität im Spannungsfeld zwischen eigenem Ich und Gruppendruck\, Authentizität und Stereotypen. \nAufbauen auf den erarbeiteten Themen entwickeln wir Anwendungen für den eigenen Einsatz und eine konkrete Lehrsequenz für den eigenen Unterricht. \nAblauf:\nWoche 1: Lebenswelten von Jugendlichen in sozialen Netzwerken\nIn der ersten Woche lernen Sie verschiedene soziale Netzwerke kennen\, in denen Jugendliche aktiv sind. Sie erkunden\, welche Bedeutungen und Funktionen diese im Leben der Jugendlichen haben. \nWoche 2: Identität und Selbstdarstellung\nIn der zweiten Woche erarbeiten Sie\, wie verschiedene Formen der Selbstdarstellung in sozialen Netzwerken\, wie Fotos\, Videos\, Chats\, online-Sprache Jugendlicher u.ä.\, eine wichtige Rolle in der Identitätskonstruktion Jugendlicher spielen. \nWoche 3: Besonders heikle Themen\nSie befassen sich mit Aspekten der Privatsphäre in sozialen Netzwerken und werfen einen Blick auf aktuell brisante Themen wie Sexting und Cybermobbing. \nIn Woche 3 beginnen Sie auch\, Ideen zu sammeln wie Sie die bisher erarbeiteten Themen in eine eigene Lehrsequenz umsetzen können. \nwww.virtuelle-ph.at/online-seminare \n\n			\n				\n			\n			Teilnahmekriterien & Info\n		 \n		\n			Lernziele\n		 \n		\n			Voraussetzungen\n		\n		 \n		\n			\n				\n					\n			Für die Anmeldung zur Teilnahme müssen Sie sich in PH-Online als Studierende/r identifizieren.\nAnmerkung: Die Teilnahme an allen im Rahmen des Online-Programms angebotenen Online-Seminaren der Virtuellen PH ist für österreichische Lehrkräfte\, PH-Lehrende und Studierende eines Lehramts kostenlos. Die Seminarplätze werden nach dem Prinzip first come\, first served – also chronologisch nach dem Zeitpunkt Ihrer Seminarbuchung über PH-Online – vergeben. Bis Mittwoch vor Beginn des jeweiligen Online-Seminars können Sie über PH-Online Ihr gebuchtes Online-Seminar selber kostenlos stornieren. Für ein allfälliges Storno zu einem späteren Zeitpunkt wenden Sie sich bitte an: info@virtuelle-ph.at\n		 \n		\n			Die TeilnehmerInnen sollen soziale Netzwerke\, in denen sich Jugendliche bewegen\, kennenlernen und hinsichtlich der Rolle und Funktionsweisen solcher Netzwerke in der Identitätsbildung Jugendlicher sensibilisiert werden. Ziel ist es\, die gewonnenen Erkenntnisse in eine Lehrsequenz für den eigenen Unterricht umzusetzen.\n		 \n		\n			Moodle-Basiskenntnisse (Teacher-Rolle)
URL:https://www.virtuelle-ph.at/veranstaltung/gefaellt-mir-selbstdarstellung-von-schuelerinnen-in-sozialen-netzwerken-6/
CATEGORIES:Online-Programm HerbstWinterprogramm,Online-Seminar
END:VEVENT
END:VCALENDAR