BEGIN:VCALENDAR
VERSION:2.0
PRODID:-//Virtuelle PH - ECPv6.6.4.2//NONSGML v1.0//EN
CALSCALE:GREGORIAN
METHOD:PUBLISH
X-WR-CALNAME:Virtuelle PH
X-ORIGINAL-URL:https://www.virtuelle-ph.at
X-WR-CALDESC:Veranstaltungen für Virtuelle PH
REFRESH-INTERVAL;VALUE=DURATION:PT1H
X-Robots-Tag:noindex
X-PUBLISHED-TTL:PT1H
BEGIN:VTIMEZONE
TZID:Europe/Vienna
BEGIN:DAYLIGHT
TZOFFSETFROM:+0100
TZOFFSETTO:+0200
TZNAME:CEST
DTSTART:20210328T010000
END:DAYLIGHT
BEGIN:STANDARD
TZOFFSETFROM:+0200
TZOFFSETTO:+0100
TZNAME:CET
DTSTART:20211031T010000
END:STANDARD
END:VTIMEZONE
BEGIN:VEVENT
DTSTART;TZID=Europe/Vienna:20211215T180000
DTEND;TZID=Europe/Vienna:20211215T190000
DTSTAMP:20260420T092702
CREATED:20211025T125745Z
LAST-MODIFIED:20220210T120910Z
UID:10003959-1639591200-1639594800@www.virtuelle-ph.at
SUMMARY:eLecture: Schwierige Elterngespräche erfolgreich online führen
DESCRIPTION:zur Aufzeichnung\n    \n\n						Elterngespräche mussten aufgrund der Umstände oftmals online abgehalten werden. Die Gespräche im Online-Format bergen sowohl Chancen als auch Herausforderungen. \nBarbara Römisch hat in ihrer Tätigkeit als Volksschullehrerin viel Erfahrung in dem Bereich der Elternarbeit gesammelt. Dieses Wissen gibt sie als Kommunikations- und Digitalisierungsexpertin in interaktiv gestalteten Workshops den Pädagog*innen weiter.  \nInhaltlich werden folgende Thematiken aufgegriffen:  \n– Gesprächssetting einrichten\n - Umgang mit unterschiedlichen Kommunikationspartner*innen\n - Bewusste Gesprächsführung  \n– klare Vereinbarungen treffen \nDiese eLecture ist für Sie geeignet\, wenn Sie im Online-Format Elterngespräche führen und diese Sie auch gelegentlich vor kommunikative Herausforderungen stellen.  \nCoModeration: Sabrina Gerth \n\nExpert_in: Barbara Römisch \n\n\n			\n				\n			\n			Teilnahmekriterien & Info\n		 \n		\n			Lernziele\n		 \n		\n			Voraussetzungen\n		\n		 \n		\n			\n				\n					\n			So treten Sie der Veranstaltung im virtuellen Lernraum bei: \n1. Rufen Sie 5 min vor Terminstart den Link zum Virtuellen Lernraum auf: \nvirtuelle-ph-at.zoom.us/my/virtuelleph.electuredrei \n2. Geben Sie bitte Ihren vollen Namen ein und klicken Sie den Button „Einem Meeting Beitreten“.                              \n3. Klicken Sie den grünen Button „Per Computer dem Audio beitreten“ an. \nDas bewirkt\, dass Sie uns hören und sehen können. Sie werden in Kürze eingelassen. \nDie Teilnahme an allen eLectures der Virtuellen PH ist für österreichische Hochschullehrende\, Lehrkräfte und Studierende eines Lehramts kostenlos.\n		 \n		\n			– nützliche Rahmenbedingungen für Online-Gespräche wissen  \n– Methoden\, die eine gelingende Gesprächsführung begünstigen\, kennenlernen  \n - effiziente Maßnahmen im Gespräch setzen können
URL:https://www.virtuelle-ph.at/veranstaltung/electure-schwierige-elterngespraeche-erfolgreich-online-fuehren/
CATEGORIES:eLecture
END:VEVENT
BEGIN:VEVENT
DTSTART;VALUE=DATE:20211122
DTEND;VALUE=DATE:20211213
DTSTAMP:20260420T092702
CREATED:20211117T033040Z
LAST-MODIFIED:20211121T033038Z
UID:10003996-1637539200-1639353599@www.virtuelle-ph.at
SUMMARY:Volksschule 2.0. – Digitale Medien für den Unterricht
DESCRIPTION:Zur Anmeldung\n						\n\n						Dieses 3-wöchige Online-Seminar wird zeigen: egal in welchem Fach – digitale Medien können den Unterricht in der Volksschule sowohl bereichern als auch erleichtern! Von der Vermittlung digitaler Kompetenzen bis zur kritischen Auseinandersetzung mit dem Thema. Von der Unterrichtsvorbereitung über Safer Internet bis hin zu einfachen Anwendungen für die Arbeit mit den Kindern! Apps und Mobiles Lernen werden ebenso thematisiert wie die Elternarbeit über digitale Medien.\nIn einer Gruppe von maximal 12 Teilnehmerinnen und Teilnehmern lernen Sie über einen Zeitraum von drei Wochen unter Anleitung und Moderation erfahrener Trainer/innen diese Möglichkeiten kennen. Dabei werden weder didaktische Grundlagen noch der praktische Austausch mit Gleichgesinnten zu kurz kommen. \nwww.virtuelle-ph.at/online-seminare \nBei diesem Online-Seminar handelt es sich um ein begleitetes OTA Praktikum. Mehr zur OTA unter www.virtuelle-ph.at/ota \n\nExpert_in: Julia Wohlgenannt\, Barbara Römisch \n\n\n			\n				\n			\n			Teilnahmekriterien & Info\n		 \n		\n			Lernziele\n		 \n		\n			Voraussetzungen\n		\n		 \n		\n			\n				\n					\n			Die Teilnahme an allen im Rahmen des Onlineprogramms angebotenen Online-Seminaren der Virtuellen PH ist für österreichische Lehrkräfte und Studierende eines Lehramts kostenlos. Die Seminarplätze werden nach dem Prinzip first come\, first served – also chronologisch nach dem Zeitpunkt Ihrer Seminarbuchung über PH-Online – vergeben. Bis Mittwoch vor Beginn des jeweiligen Online-Seminars können Sie über PH-Online Ihr gebuchtes Online-Seminar selber kostenlos stornieren. Für ein allfälliges Storno zu einem späteren Zeitpunkt wenden Sie sich bitte an: info@virtuelle-ph.at\n		 \n		\n			# Einsatzmöglichkeiten von digitalen Medien für die Vorbereitung\, den Unterricht und die Elternarbeit kennenlernen und kritisch evaluieren; \n# Digitales Kompetenzmodell von VS-Kindern und Safer Internet kennenlernen;\n		 \n		\n			Internetzugang und Grundwissen im Umgang mit dem Internet und dem Computer\, sowie Aufgeschlossenheit für Neues
URL:https://www.virtuelle-ph.at/veranstaltung/volksschule-2-0-digitale-medien-fuer-den-unterricht-14/
CATEGORIES:Online-Programm HerbstWinterprogramm,Online-Seminar
END:VEVENT
BEGIN:VEVENT
DTSTART;VALUE=DATE:20211122
DTEND;VALUE=DATE:20211213
DTSTAMP:20260420T092702
CREATED:20210920T094125Z
LAST-MODIFIED:20211116T033042Z
UID:10003973-1637539200-1639353599@www.virtuelle-ph.at
SUMMARY:Volksschule 2.0. - Digitale Medien für den Unterricht
DESCRIPTION:Zur Anmeldung\n						\n\n						Dieses 3-wöchige Online-Seminar wird zeigen: egal in welchem Fach – digitale Medien können den Unterricht in der Volksschule sowohl bereichern als auch erleichtern! Von der Vermittlung digitaler Kompetenzen bis zur kritischen Auseinandersetzung mit dem Thema. Von der Unterrichtsvorbereitung über Safer Internet bis hin zu einfachen Anwendungen für die Arbeit mit den Kindern! Apps und Mobiles Lernen werden ebenso thematisiert wie die Elternarbeit über digitale Medien.\nIn einer Gruppe von maximal 12 Teilnehmerinnen und Teilnehmern lernen Sie über einen Zeitraum von drei Wochen unter Anleitung und Moderation erfahrener Trainer/innen diese Möglichkeiten kennen. Dabei werden weder didaktische Grundlagen noch der praktische Austausch mit Gleichgesinnten zu kurz kommen. \nwww.virtuelle-ph.at/online-seminare \nBei diesem Online-Seminar handelt es sich um ein begleitetes OTA Praktikum. Mehr zur OTA unter www.virtuelle-ph.at/ota \n\nExpert_in: Julia Wohlgenannt\, Barbara Römisch \n\n\n			\n				\n			\n			Teilnahmekriterien & Info\n		 \n		\n			Lernziele\n		 \n		\n			Voraussetzungen\n		\n		 \n		\n			\n				\n					\n			Die Teilnahme an allen im Rahmen des Onlineprogramms angebotenen Online-Seminaren der Virtuellen PH ist für österreichische Lehrkräfte und Studierende eines Lehramts kostenlos. Die Seminarplätze werden nach dem Prinzip first come\, first served – also chronologisch nach dem Zeitpunkt Ihrer Seminarbuchung über PH-Online – vergeben. Bis Mittwoch vor Beginn des jeweiligen Online-Seminars können Sie über PH-Online Ihr gebuchtes Online-Seminar selber kostenlos stornieren. Für ein allfälliges Storno zu einem späteren Zeitpunkt wenden Sie sich bitte an: info@virtuelle-ph.at\n		 \n		\n			# Einsatzmöglichkeiten von digitalen Medien für die Vorbereitung\, den Unterricht und die Elternarbeit kennenlernen und kritisch evaluieren; \n# Digitales Kompetenzmodell von VS-Kindern und Safer Internet kennenlernen;\n		 \n		\n			Internetzugang und Grundwissen im Umgang mit dem Internet und dem Computer\, sowie Aufgeschlossenheit für Neues
URL:https://www.virtuelle-ph.at/veranstaltung/volksschule-2-0-digitale-medien-fuer-den-unterricht-13/
CATEGORIES:Online-Programm HerbstWinterprogramm,Online-Seminar
END:VEVENT
BEGIN:VEVENT
DTSTART;TZID=Europe/Vienna:20211011T170000
DTEND;TZID=Europe/Vienna:20211011T183000
DTSTAMP:20260420T092702
CREATED:20210705T095352Z
LAST-MODIFIED:20211012T082748Z
UID:10003906-1633971600-1633977000@www.virtuelle-ph.at
SUMMARY:iPad Inspiration Series -  Grundlagen
DESCRIPTION:Keine Aufzeichnung\n    \n\n						Vor dem produktiven Arbeiten werden die Grundeinstellungen und besondere Features erklärt beziehungsweise angewandt. Mit wenigen Handgriffen lässt sich der Unterricht effektiver gestalten. Bildschirm teilen und der Datenaustausch in der Klasse war noch nie so einfach\, wie mit dem Apple iPad. Steigen Sie ein in die Welt des iPads und lassen Sie sich verzaubern. Genießen Sie die einfache\, intuitive Handhabung! \n——————————- \nDiese eLecture ist Teil der iPad eLecture-Reihe der Virtuellen PH in Kooperation  mit der PH Linz im Herbst 2021. Alle Infos hier: \nwww.virtuelle-ph.at/online-angebot/ipad-inspiration-series \nCoModeration: Gerlinde Schwabl \n\nExpert_in: Barbara Römisch\, Thomas Wimmer \n\n\n			\n				\n			\n			Teilnahmekriterien & Info\n		 \n		\n			Lernziele\n		 \n		\n			Voraussetzungen\n		\n		 \n		\n			\n				\n					\n			So treten Sie der Veranstaltung im virtuellen Lernraum bei: \n1. Rufen Sie 5 min vor Terminstart den Link zum Virtuellen Lernraum auf: \nzoom.us/my/virtuelleph.electureeins \n2. Geben Sie bitte Ihren vollen Namen ein und klicken Sie den Button „Einem Meeting Beitreten“.                              \n3. Klicken Sie den grünen Button „Per Computer dem Audio beitreten“ an. \nDas bewirkt\, dass Sie uns hören und sehen können. Sie werden in Kürze eingelassen. \nDie Teilnahme an allen eLectures der Virtuellen PH ist für österreichische Hochschullehrende\, Lehrkräfte und Studierende eines Lehramts kostenlos.\n		 \n		\n			Die Teilnehmer*innen \n# können das Kontrollzentrum individuell einrichten \n# lernen\, wie sie Daten per AirDrop schnell und einfach versenden können \n# lernen\, wie sie Inhalte mittels AirPlay vom iPad auf einen Screen/Beamer oder auf ein  \nSmartboard projizieren können \n# können Apps am iPad (am Bildschirm und im Dock) strukturieren \n# wissen\, wie Sie mittels Split Screen Inhalte z.B. von einer App in die andere App per Drag & Drop bewegen können \n# lernen die Basisfunktionen der App Kamera kennen \n# lernen die Basisfunktionen der App Fotos kennen \n# werden mit vielen praktischen Unterrichtsbeispielen inspiriert
URL:https://www.virtuelle-ph.at/veranstaltung/ipad-inspiration-series-grundlagen/
CATEGORIES:eLecture,Reihe iPad2122
END:VEVENT
END:VCALENDAR