BEGIN:VCALENDAR
VERSION:2.0
PRODID:-//Virtuelle PH - ECPv6.6.4.2//NONSGML v1.0//EN
CALSCALE:GREGORIAN
METHOD:PUBLISH
X-WR-CALNAME:Virtuelle PH
X-ORIGINAL-URL:https://www.virtuelle-ph.at
X-WR-CALDESC:Veranstaltungen für Virtuelle PH
REFRESH-INTERVAL;VALUE=DURATION:PT1H
X-Robots-Tag:noindex
X-PUBLISHED-TTL:PT1H
BEGIN:VTIMEZONE
TZID:Europe/Berlin
BEGIN:DAYLIGHT
TZOFFSETFROM:+0100
TZOFFSETTO:+0200
TZNAME:CEST
DTSTART:20200329T010000
END:DAYLIGHT
BEGIN:STANDARD
TZOFFSETFROM:+0200
TZOFFSETTO:+0100
TZNAME:CET
DTSTART:20201025T010000
END:STANDARD
END:VTIMEZONE
BEGIN:VEVENT
DTSTART;TZID=Europe/Berlin:20201103T193000
DTEND;TZID=Europe/Berlin:20201103T203000
DTSTAMP:20260420T053717
CREATED:20201012T121606Z
LAST-MODIFIED:20220210T154010Z
UID:10003806-1604431800-1604435400@www.virtuelle-ph.at
SUMMARY:eLecture: Erfolgreiche Elternarbeit in der Sek. II
DESCRIPTION:zur Aufzeichnung\n\n\n						Auch in der Oberstufe sind Beziehungsarbeit\, Empathie\, Kommunikation die Grundvoraussetzung für gelingende Elterngespräche. In dieser e-Lecture werden die rechtlichen Grundlagen der Erziehungsberechtigen\, die Beziehungsarbeit zwischen Eltern und Lehrpersonen sowie die Gesprächsführung am Elternsprechtag erörtet. \nDie Referentin ist Lehrende an der PH-OÖ. Sie war Leiterin des Lehrganges für Unterrichtspraktikanten und ist jetzt für die Fortbildungen in der Induktionsphase in der Sekundarstufe II in OÖ verantwortlich. Sie ist Fremdsprachenlehrerin (30 Jahre Berufserfahrung)\, systemischer Coache im pädagogischen Kontext\, Schulentwicklerin und Vortragende zu Themen wie: Individuelle Lernbegleitung\, Elternarbeit und Classroom-Management. \nGeplante Inhalte: Rechte und Pflichten der Erziehungsberechtigten\, Gesprächsarten zwischen Erziehungsberechtigten und Lehrpersonen\, das Elterngespräch beim Elternsprechtag (Ablauf\, Struktur\, Regeln) \nDiese eLecture ist besonders für Berufseinsteiger*innen und Junglehrer*innen geeignet \nCoModeration: Thomas Winkler \n\nExpert_in: Bauer Romana \n\n\n			\n				\n			\n			Teilnahmekriterien & Info\n		 \n		\n			Lernziele\n		 \n		\n			Voraussetzungen\n		\n		 \n		\n			\n				\n					\n			So treten Sie der Veranstaltung im virtuellen Lernraum bei:  \n        1. Rufen Sie 5 min vor Terminstart den Link zum Virtuellen Lernraum auf: \nzoom.us/my/virtuelleph.electure2 \n         2. Geben Sie bitte Ihre Email-Adresse und Ihren vollen Namen ein und klicken Sie den Button\n             „Dem Webinar beitreten“. \n         3. Klicken Sie den grünen Button „Per Computer dem Audio beitreten“ an.\n             Das bewirkt\, dass Sie uns hören und sehen können. Sie werden in Kürze eingelassen. \nDie Teilnahme an allen eLectures der Virtuellen PH ist für österreichische Hochschullehrende\, Lehrkräfte und Studierende eines Lehramts kostenlos.\n		 \n		\n			1. Kennenlernen und Diskussion der Rechte und Pflichten der Erziehungsberechtigten \n2. Regeln für ein gelingendes Elterngespräch – Gesprächsleitfaden \n3. Fallbeispiele: Welche Lösungsstrategien sind möglich?
URL:https://www.virtuelle-ph.at/veranstaltung/electure-erfolgreiche-elternarbeit-in-der-sek-ii/
CATEGORIES:eLecture
END:VEVENT
END:VCALENDAR