BEGIN:VCALENDAR
VERSION:2.0
PRODID:-//Virtuelle PH - ECPv6.6.4.2//NONSGML v1.0//EN
CALSCALE:GREGORIAN
METHOD:PUBLISH
X-ORIGINAL-URL:https://www.virtuelle-ph.at
X-WR-CALDESC:Veranstaltungen für Virtuelle PH
REFRESH-INTERVAL;VALUE=DURATION:PT1H
X-Robots-Tag:noindex
X-PUBLISHED-TTL:PT1H
BEGIN:VTIMEZONE
TZID:Europe/Vienna
BEGIN:DAYLIGHT
TZOFFSETFROM:+0100
TZOFFSETTO:+0200
TZNAME:CEST
DTSTART:20240331T010000
END:DAYLIGHT
BEGIN:STANDARD
TZOFFSETFROM:+0200
TZOFFSETTO:+0100
TZNAME:CET
DTSTART:20241027T010000
END:STANDARD
BEGIN:DAYLIGHT
TZOFFSETFROM:+0100
TZOFFSETTO:+0200
TZNAME:CEST
DTSTART:20250330T010000
END:DAYLIGHT
BEGIN:STANDARD
TZOFFSETFROM:+0200
TZOFFSETTO:+0100
TZNAME:CET
DTSTART:20251026T010000
END:STANDARD
END:VTIMEZONE
BEGIN:VEVENT
DTSTART;TZID=Europe/Vienna:20251216T170000
DTEND;TZID=Europe/Vienna:20251216T180000
DTSTAMP:20260425T152543
CREATED:20251217T033214Z
LAST-MODIFIED:20251217T033214Z
UID:10006522-1765904400-1765908000@www.virtuelle-ph.at
SUMMARY:eLecture: Hack an Exoplanet - mit Forschungsdaten arbeiten
DESCRIPTION:Zur Anmeldung \n\n						Zum virtuellen Lernraum\n						\n\n						Die Entdeckung und Erforschung von Exoplaneten zählt zu den spannendsten Feldern der modernen Astronomie. Sie eröffnet neue Perspektiven auf außerirdisches Leben\, planetare Systeme und die Zukunft der Raumfahrt. Die eLecture „Hack an Exoplanet“ greift diese Faszination auf und verbindet sie mit kreativer Problemlösung und digitaler Kompetenz.\nExpertise des/der Referenten_in\nBettina Anderl ist Astronomin\, Lehrerin für Mathematik und Physik und ESERO Austria Managerin (Bildungsbüro der ESA). Sie konzipiert seit über einem Jahrzehnt innovative Bildungsformate für Kinder und Jugendliche mit Fokus auf Naturwissenschaften und Technik. Ihre Expertise liegt in der Verbindung von Raumfahrt-Themen mit digitalen Tools und kreativen Lernmethoden.\nDie eLecture führt in die Grundlagen der Exoplanetenforschung ein und stellt die ESA-Missionen vor. Anschließend wird mit Forschungsdaten beispielhaft ein Exoplanet untersucht: Umlaufzeit\, Entfernung zum Stern\, Dichte und Zusammensezung. Gleichzeitig geht es darum\, wie man dies im Unterricht einsetzt.\nDiese eLecture ist für Sie geeignet\, wenn Sie Interesse am Weltraum\, digitalen Tools und kreativer Wissenschaftsvermittlung haben. \n\nExpert_in: Bettina Anderl \n\n\n			\n				\n			\n			Teilnahmekriterien & Info\n		 \n		\n			Lernziele\n		 \n		\n			Voraussetzungen\n		\n		 \n		\n			\n				\n					\n			So treten Sie der Veranstaltung im virtuellen Lernraum bei: \n1. Rufen Sie 5 min vor Terminstart den Link zum Virtuellen Lernraum auf: \nvirtuelle-ph-at.zoom.us/my/electures \n2. Geben Sie bitte Ihren vollen Namen ein und klicken Sie den Button „Einem Meeting Beitreten“.                              \n3. Klicken Sie den grünen Button „Per Computer dem Audio beitreten“ an. \nDas bewirkt\, dass Sie uns hören und sehen können. Sie werden in Kürze eingelassen. \nDie Teilnahme an allen eLectures der Virtuellen PH ist für österreichische Hochschullehrende\, Lehrkräfte und Studierende eines Lehramts kostenlos.\n		 \n		\n			*das Thema Exoplaneten fachlich korrekt und altersgerecht im Unterricht vermitteln\n*mit echten ESA-Forschungsdaten zu arbeiten und diese im Unterrichteinsetzen\n*Modelle an reale wissenschaftliche Daten anpassen und deren Aussagekraft kritisch reflektieren\n*Anleitung für eine konkrete Anwendung für den Physikunterricht\, inklusive Formelberechnungen und Dateninterpretation.
URL:https://www.virtuelle-ph.at/veranstaltung/electure-hack-an-exoplanet-mit-forschungsdaten-arbeiten-2/
CATEGORIES:eLecture
END:VEVENT
BEGIN:VEVENT
DTSTART;TZID=Europe/Vienna:20251216T170000
DTEND;TZID=Europe/Vienna:20251216T180000
DTSTAMP:20260425T152543
CREATED:20251113T033330Z
LAST-MODIFIED:20251216T033201Z
UID:10006464-1765904400-1765908000@www.virtuelle-ph.at
SUMMARY:eLecture: Hack an Exoplanet - mit Forschungsdaten arbeiten
DESCRIPTION:Zur Anmeldung \n\n						Zum virtuellen Lernraum\n						\n\n						Die Entdeckung und Erforschung von Exoplaneten zählt zu den spannendsten Feldern der modernen Astronomie. Sie eröffnet neue Perspektiven auf außerirdisches Leben\, planetare Systeme und die Zukunft der Raumfahrt. Die eLecture „Hack an Exoplanet“ greift diese Faszination auf und verbindet sie mit kreativer Problemlösung und digitaler Kompetenz.\nExpertise des/der Referenten_in\nBettina Anderl ist Astronomin\, Lehrerin für Mathematik und Physik und ESERO Austria Managerin (Bildungsbüro der ESA). Sie konzipiert seit über einem Jahrzehnt innovative Bildungsformate für Kinder und Jugendliche mit Fokus auf Naturwissenschaften und Technik. Ihre Expertise liegt in der Verbindung von Raumfahrt-Themen mit digitalen Tools und kreativen Lernmethoden.\nDie eLecture führt in die Grundlagen der Exoplanetenforschung ein und stellt die ESA-Missionen vor. Anschließend wird mit Forschungsdaten beispielhaft ein Exoplanet untersucht: Umlaufzeit\, Entfernung zum Stern\, Dichte und Zusammensezung. Gleichzeitig geht es darum\, wie man dies im Unterricht einsetzt.\nDiese eLecture ist für Sie geeignet\, wenn Sie Interesse am Weltraum\, digitalen Tools und kreativer Wissenschaftsvermittlung haben. \n\nExpert_in: Bettina Anderl \n\n\n			\n				\n			\n			Teilnahmekriterien & Info\n		 \n		\n			Lernziele\n		 \n		\n			Voraussetzungen\n		\n		 \n		\n			\n				\n					\n			So treten Sie der Veranstaltung im virtuellen Lernraum bei: \n1. Rufen Sie 5 min vor Terminstart den Link zum Virtuellen Lernraum auf: \nvirtuelle-ph-at.zoom.us/my/electures \n2. Geben Sie bitte Ihren vollen Namen ein und klicken Sie den Button „Einem Meeting Beitreten“.                              \n3. Klicken Sie den grünen Button „Per Computer dem Audio beitreten“ an. \nDas bewirkt\, dass Sie uns hören und sehen können. Sie werden in Kürze eingelassen. \nDie Teilnahme an allen eLectures der Virtuellen PH ist für österreichische Hochschullehrende\, Lehrkräfte und Studierende eines Lehramts kostenlos.\n		 \n		\n			*das Thema Exoplaneten fachlich korrekt und altersgerecht im Unterricht vermitteln\n*mit echten ESA-Forschungsdaten zu arbeiten und diese im Unterrichteinsetzen\n*Modelle an reale wissenschaftliche Daten anpassen und deren Aussagekraft kritisch reflektieren\n*Anleitung für eine konkrete Anwendung für den Physikunterricht\, inklusive Formelberechnungen und Dateninterpretation.
URL:https://www.virtuelle-ph.at/veranstaltung/electure-hack-an-exoplanet-mit-forschungsdaten-arbeiten/
CATEGORIES:eLecture
END:VEVENT
BEGIN:VEVENT
DTSTART;TZID=Europe/Vienna:20240124T170000
DTEND;TZID=Europe/Vienna:20240124T183000
DTSTAMP:20260425T152543
CREATED:20240125T033008Z
LAST-MODIFIED:20240125T033008Z
UID:10004807-1706115600-1706121000@www.virtuelle-ph.at
SUMMARY:eLecture: Mit ESA-Satelliten dem Klima auf der Spur
DESCRIPTION:Zur Anmeldung \n\n						Zum virtuellen Lernraum\n						\n\n						Immer mehr Satelliten umkreisen die Erde – viele davon beobachten ausschließlich unseren Heimatplaneten. Bei dieser eLecture bekommen Sie einen Überblick über die satellitengestützte Erdbeobachtung (englisch abgekürzt: EO für „earth observation“) und lernen diese interaktiv im Unterricht einzusetzen. Satelliten helfen uns dabei\, komplexe globale Zusammenhänge zu erkennen und zu analysieren: die Entwicklung des Wetters\, die kontinuierliche Vermessung von expandierenden Städten\, die Überwachung der Meeresoberfläche oder das Erfassen von Waldbränden. Dank der Satellitentechnologie gelangen wir an präzisen Daten\, welche wir zum Schutz unserer Umwelt benötigen. \nBettina Anderl ist ESERO Austria Managerin\, Astrophysikerin und Lehrerin für Mathematik und Physik. ESERO ist das Bildungsbüro der Europäischen Weltraumbehörde ESA. Eine Kernkompetenz der ESA ist die Erdbeobachtung. \nWarum ist Erdbeobachtung so wichtig?\nEckpunkte des ESA Projekts „Climate Detectives“ und „Climate Detectives Kids“ (6-19 Jahre)\nPräsentiert wird der frei verfügbare „Earth Observation Browser“ der ESA mit allen bisherigen Satellitendaten.\nZusätzlich werden Unterrichtsmaterialien der ESA zu diesem Thema vorgestellt.\nDie Fortbildung dient auch als Vorbereitung für das ESA/ESERO Projekt „Climate Detectives“. \nBeim Climate Detectives Projekt wird ein lokales Umwelt- oder Klimaproblem identifiziert und anhand von Satellitenbildern und/oder selbst durchgeführten Messungen vor Ort untersucht. Ziel ist es\, die eigene Community darauf aufmerksam zu machen und einen Vorschlag zur Überwachung oder Reduktion des Problems zu entwickeln. Begleitet werden die Schüler*innen dabei von österreichischen und ESA-Wissenschaftler*innen. \nCoModeration: Thomas Winkler \n\nExpert_in: Bettina Anderl \n\n\n			\n				\n			\n			Teilnahmekriterien & Info\n		 \n		\n			Lernziele\n		 \n		\n			Voraussetzungen\n		\n		 \n		\n			\n				\n					\n			So treten Sie der Veranstaltung im virtuellen Lernraum bei: \n1. Rufen Sie 5 min vor Terminstart den Link zum Virtuellen Lernraum auf: \nvirtuelle-ph-at.zoom.us/my/electures \n2. Geben Sie bitte Ihren vollen Namen ein und klicken Sie den Button „Einem Meeting Beitreten“.                              \n3. Klicken Sie den grünen Button „Per Computer dem Audio beitreten“ an. \nDas bewirkt\, dass Sie uns hören und sehen können. Sie werden in Kürze eingelassen. \nDie Teilnahme an allen eLectures der Virtuellen PH ist für österreichische Hochschullehrende\, Lehrkräfte und Studierende eines Lehramts kostenlos.\n		 \n		\n			Satellitendaten im Unterricht einsetzen können\ndie wichtigsten Informationen zum ESA Schulprojekt Climate Detectives kennen\nUnterichtsmaterialien zur Erdbeobachtung verwenden können
URL:https://www.virtuelle-ph.at/veranstaltung/electure-mit-esa-satelliten-dem-klima-auf-der-spur-2/
CATEGORIES:eLecture
END:VEVENT
BEGIN:VEVENT
DTSTART;TZID=Europe/Vienna:20240124T170000
DTEND;TZID=Europe/Vienna:20240124T183000
DTSTAMP:20260425T152543
CREATED:20231211T133824Z
LAST-MODIFIED:20240124T033008Z
UID:10004766-1706115600-1706121000@www.virtuelle-ph.at
SUMMARY:eLecture: Mit ESA-Satelliten dem Klima auf der Spur
DESCRIPTION:Zur Anmeldung \n\n						Zum virtuellen Lernraum\n						\n\n						Immer mehr Satelliten umkreisen die Erde – viele davon beobachten ausschließlich unseren Heimatplaneten. Bei dieser eLecture bekommen Sie einen Überblick über die satellitengestützte Erdbeobachtung (englisch abgekürzt: EO für „earth observation“) und lernen diese interaktiv im Unterricht einzusetzen. Satelliten helfen uns dabei\, komplexe globale Zusammenhänge zu erkennen und zu analysieren: die Entwicklung des Wetters\, die kontinuierliche Vermessung von expandierenden Städten\, die Überwachung der Meeresoberfläche oder das Erfassen von Waldbränden. Dank der Satellitentechnologie gelangen wir an präzisen Daten\, welche wir zum Schutz unserer Umwelt benötigen. \nBettina Anderl ist ESERO Austria Managerin\, Astrophysikerin und Lehrerin für Mathematik und Physik. ESERO ist das Bildungsbüro der Europäischen Weltraumbehörde ESA. Eine Kernkompetenz der ESA ist die Erdbeobachtung. \nWarum ist Erdbeobachtung so wichtig?\nEckpunkte des ESA Projekts „Climate Detectives“ und „Climate Detectives Kids“ (6-19 Jahre)\nPräsentiert wird der frei verfügbare „Earth Observation Browser“ der ESA mit allen bisherigen Satellitendaten.\nZusätzlich werden Unterrichtsmaterialien der ESA zu diesem Thema vorgestellt.\nDie Fortbildung dient auch als Vorbereitung für das ESA/ESERO Projekt „Climate Detectives“. \nBeim Climate Detectives Projekt wird ein lokales Umwelt- oder Klimaproblem identifiziert und anhand von Satellitenbildern und/oder selbst durchgeführten Messungen vor Ort untersucht. Ziel ist es\, die eigene Community darauf aufmerksam zu machen und einen Vorschlag zur Überwachung oder Reduktion des Problems zu entwickeln. Begleitet werden die Schüler*innen dabei von österreichischen und ESA-Wissenschaftler*innen. \nCoModeration: Thomas Winkler \n\nExpert_in: Bettina Anderl \n\n\n			\n				\n			\n			Teilnahmekriterien & Info\n		 \n		\n			Lernziele\n		 \n		\n			Voraussetzungen\n		\n		 \n		\n			\n				\n					\n			So treten Sie der Veranstaltung im virtuellen Lernraum bei: \n1. Rufen Sie 5 min vor Terminstart den Link zum Virtuellen Lernraum auf: \nvirtuelle-ph-at.zoom.us/my/electures \n2. Geben Sie bitte Ihren vollen Namen ein und klicken Sie den Button „Einem Meeting Beitreten“.                              \n3. Klicken Sie den grünen Button „Per Computer dem Audio beitreten“ an. \nDas bewirkt\, dass Sie uns hören und sehen können. Sie werden in Kürze eingelassen. \nDie Teilnahme an allen eLectures der Virtuellen PH ist für österreichische Hochschullehrende\, Lehrkräfte und Studierende eines Lehramts kostenlos.\n		 \n		\n			Satellitendaten im Unterricht einsetzen können\ndie wichtigsten Informationen zum ESA Schulprojekt Climate Detectives kennen\nUnterichtsmaterialien zur Erdbeobachtung verwenden können
URL:https://www.virtuelle-ph.at/veranstaltung/electure-mit-esa-satelliten-dem-klima-auf-der-spur/
CATEGORIES:eLecture
END:VEVENT
END:VCALENDAR