BEGIN:VCALENDAR
VERSION:2.0
PRODID:-//Virtuelle PH - ECPv6.6.4.2//NONSGML v1.0//EN
CALSCALE:GREGORIAN
METHOD:PUBLISH
X-ORIGINAL-URL:https://www.virtuelle-ph.at
X-WR-CALDESC:Veranstaltungen für Virtuelle PH
REFRESH-INTERVAL;VALUE=DURATION:PT1H
X-Robots-Tag:noindex
X-PUBLISHED-TTL:PT1H
BEGIN:VTIMEZONE
TZID:Europe/Vienna
BEGIN:DAYLIGHT
TZOFFSETFROM:+0100
TZOFFSETTO:+0200
TZNAME:CEST
DTSTART:20210328T010000
END:DAYLIGHT
BEGIN:STANDARD
TZOFFSETFROM:+0200
TZOFFSETTO:+0100
TZNAME:CET
DTSTART:20211031T010000
END:STANDARD
END:VTIMEZONE
BEGIN:VEVENT
DTSTART;TZID=Europe/Vienna:20211110T183000
DTEND;TZID=Europe/Vienna:20211110T200000
DTSTAMP:20260420T125837
CREATED:20210705T095350Z
LAST-MODIFIED:20211111T085533Z
UID:10003535-1636569000-1636574400@www.virtuelle-ph.at
SUMMARY:Windows Tablet eLecture: Differenzierung und Individualisierung mit den Microsoft Lernwerkzeugen
DESCRIPTION:zur Aufzeichnung\n    \n\n						Microsoft One Note und Microsoft Teams hat viele Funktionen\, die helfen\, den Unterricht kreativer zu gestalten. \nBirgit Albert ist Lehrerin an einer Niederösterreichischen MS und fördert schon seit einigen Jahren ihre Schulkinder mit Microsoft Apps. Gemeinsam mit ihr erarbeiten wir neue Funktionen und Ideen\, wie wir schnell und einfach in Microsoft One Note Texte in andere Sprachen übersetzten können und  vorlesen lassen können. Darüber hinaus beschäftigen wir uns mit folgenden Punkten: \nIn MS OneNote und Microsoft Teams\n-Texte vorlesen lassen\n-Texte in verschiedene Sprachen übersetzten\n– Nomen\, Adjektive einblenden lassen\n-Texte und Sätze in den verschiedensten Sprachen vorlesen lassen\n-Diktiergerät einsetzten\n-Audioaufnahmen erstellen\n-Einsatzbeispiele dieser Lernwerkzeuge im Unterricht\n-Lernpläne mit der Tabelleneingabe erstellen \nDiese eLecture ist für Sie geeignet\, wenn Sie Ihre Kenntnisse in Microsoft One Note vertiefen möchten und neue Lernwerkzeuge für den Unterricht kennenlernen und anwenden möchten. \n\n——————————- \nDiese eLecture ist Teil der Windows eLecture-Reihe der Virtuellen PH  im Herbst 2021. Alle Infos und eine Nachschau der Aufzeichnungen unter: www.virtuelle-ph.at/online-angebot/electures/reihen-und-schwerpunkte/windows-tablets/ \nCoModeration: Sabrina Gerth \n\nExpert_in: Birgit Albert \n\n\n			\n				\n			\n			Teilnahmekriterien & Info\n		 \n		\n			Lernziele\n		 \n		\n			Voraussetzungen\n		\n		 \n		\n			\n				\n					\n			So treten Sie der Veranstaltung im virtuellen Lernraum bei: \n1. Rufen Sie 5 min vor Terminstart den Link zum Virtuellen Lernraum auf: \nvirtuelle-ph-at.zoom.us/my/virtuelleph.electuredrei \n2. Geben Sie bitte Ihren vollen Namen ein und klicken Sie den Button „Einem Meeting Beitreten“.                              \n3. Klicken Sie den grünen Button „Per Computer dem Audio beitreten“ an. \nDas bewirkt\, dass Sie uns hören und sehen können. Sie werden in Kürze eingelassen. \nDie Teilnahme an allen eLectures der Virtuellen PH ist für österreichische Hochschullehrende\, Lehrkräfte und Studierende eines Lehramts kostenlos.\n		 \n		\n			# TeilnehmerInnen können nach der Einheit \n# ausgewählte Microsoft OneNote und Microsoft Teams Lernwerkzeuge anwenden und im Unterricht einsetzten. \n# TeilnehmerInnen können Texte mit Hilfe von Microsoft One Note in andere Sprachen übersetzten. \n# TeilnehmerInnen können neue Lernlandschaften erstellen.
URL:https://www.virtuelle-ph.at/veranstaltung/windows-tablet-electure-differenzierung-und-individualisierung-mit-den-microsoft-lernwerkzeugen/
CATEGORIES:eLecture,Reihe Windows2122
END:VEVENT
BEGIN:VEVENT
DTSTART;TZID=Europe/Vienna:20211006T170000
DTEND;TZID=Europe/Vienna:20211006T183000
DTSTAMP:20260420T125837
CREATED:20210705T095349Z
LAST-MODIFIED:20211007T091604Z
UID:10003531-1633539600-1633545000@www.virtuelle-ph.at
SUMMARY:Windows Tablet eLecture: Methodische\, didaktische und pädagogische Überlegungen beim Einsatz von Windows Tablets
DESCRIPTION:zur Aufzeichnung\n    \n\n						Die Microsoft Lern Apps bieten vielfältige Anwendungsmöglichkeiten. Beispiele aus der Praxis bieten Anregungen\, wie die Microsoft Lern Apps auch für Ihren Unterricht sinnvoll eingesetzt werden können.   \nBirgit Albert ist Lehrerin an einer Niederösterreichischen MS und fördert schon seit einigen Jahren ihre Schulkinder mit Microsoft Apps. Gemeinsam mit ihr erarbeiten wir neue Funktionen und Ideen\, wie wir schnell und einfach in den Schulalltag integrieren können und wichtige Lernumgebungen für die SchülerInnen schaffen können. \nFolgende Punkte werden behandelt: \n-QR Codes und Stationenbetriebe mit MS-Forms und MS OneNote erstellen \n-MS Forms mit Lernvideos verknüpfen\, um SchülerInnen zum individuellen Lernen anzuleiten\n-Tablets zur Selbstkontrolle einsetzten \n-Virtuelle Arbeitsblätter in OneNote gestalten \n-Besseres Verständnis der Mathematik durch Verknüpfung in MS OneNote \n-Einsatz von Kahoot in Microsoft Teams \n-Gezielte Fotoeingabe in MS OneNote und ihre vielfältige Einsatzmöglichkeit \n——————————- \nDiese eLecture ist Teil der Windows eLecture-Reihe der Virtuellen PH  im Herbst 2021. Alle Infos und eine Nachschau der Aufzeichnungen unter: www.virtuelle-ph.at/online-angebot/electures/reihen-und-schwerpunkte/windows-tablets/ \nCoModeration: Sabrina Gerth \n\nExpert_in: Birgit Albert \n\n\n			\n				\n			\n			Teilnahmekriterien & Info\n		 \n		\n			Lernziele\n		 \n		\n			Voraussetzungen\n		\n		 \n		\n			\n				\n					\n			So treten Sie der Veranstaltung im virtuellen Lernraum bei: \n1. Rufen Sie 5 min vor Terminstart den Link zum Virtuellen Lernraum auf: \nvirtuelle-ph-at.zoom.us/my/virtuelleph.electuredrei \n2. Geben Sie bitte Ihren vollen Namen ein und klicken Sie den Button „Einem Meeting Beitreten“.                              \n3. Klicken Sie den grünen Button „Per Computer dem Audio beitreten“ an. \nDas bewirkt\, dass Sie uns hören und sehen können. Sie werden in Kürze eingelassen. \nDie Teilnahme an allen eLectures der Virtuellen PH ist für österreichische Hochschullehrende\, Lehrkräfte und Studierende eines Lehramts kostenlos.\n		 \n		\n			TeilnehmerInnen können nach der Einheit  \n-das Tablet in den verschiedenen Unterrichtsgegenständen einsetzten. \n-mit Microsoft Forms Unterrichtsvorbereitungen gestalten. \n-einen Stationenbetrieb selbst gestalten. \n-virtuelle differenzierte Arbeitsblätter für verschiedene Unterrichtsgegenstände gestalten.
URL:https://www.virtuelle-ph.at/veranstaltung/windows-tablet-electure-methodische-didaktische-und-paedagogische-ueberlegungen-beim-einsatz-von-windows-tablets/
CATEGORIES:eLecture,Reihe Windows2122
END:VEVENT
BEGIN:VEVENT
DTSTART;TZID=Europe/Vienna:20210510T190000
DTEND;TZID=Europe/Vienna:20210510T200000
DTSTAMP:20260420T125837
CREATED:20210215T110719Z
LAST-MODIFIED:20210511T082608Z
UID:10003890-1620673200-1620676800@www.virtuelle-ph.at
SUMMARY:Microsoft Tablet eLecture 5: Einsatz von MS Tablets im naturwissenschaftlichen Unterricht und zum kollegialen Austausch
DESCRIPTION:zur Aufzeichnung\n\n\n						Microsoft One Note ist nicht nur ein digitales Notizbuch\, sondern hat viel mehr Funktionen.  \nBirgit Albert ist Lehrerin an einer Niederösterreichischen MS und fördert schon seit einigen Jahren ihre Schulkinder mit den Microsoft Apps. Gemeinsam mit ihr erarbeiten wir neue Funktionen und Ideen\, wie der naturwissenschaftle Unterricht in der Zukunft aussehen kann. \n\nIn dieser electure Reihe werden folgende Punkte behandelt: \nIn Microsoft One Note  \n– Funktionen lösen \n– die naturwissenschaftlichen Angaben in den verschiedensten Sprachen vorlesen lassen \n– GeoGebra und Lernvideos einbinden \n– ein virtuelles Lineal verwenden \n– ein Microsoft Forms Quiz einbinden \n– Tipps und Tricks zur Gestaltung einer modernen Lernumgebung \n– individuell gestaltete Lernumgebungen mit anderen KollegInnen teilen  \n\nDieses electure ist interessant für Sie\, wenn \n#mit neuen Apps der naturwissenschaftliche Unterricht interessanter\, verständlicher  und anschaulicher gestaltet werden soll \n\nDiese eLecture ist Teil der Microsoft Tablet eLecture-Reihe der Virtuellen PH im Sommersemester 2021. Alle Infos und eine Nachschau der Aufzeichnungen unter: www.virtuelle-ph.at/microsoft-tablets \n\nCoModeration: Gerlinde Schwabl \n\nExpert_in: Birgit Albert \n\n\n			\n				\n			\n			Teilnahmekriterien & Info\n		 \n		\n			Lernziele\n		 \n		\n			Voraussetzungen\n		\n		 \n		\n			\n				\n					\n			So treten Sie der Veranstaltung im virtuellen Lernraum bei:  \n        1. Rufen Sie 5 min vor Terminstart den Link zum Virtuellen Lernraum auf: \nzoom.us/my/virtuelleph.electureeins \n         2. Geben Sie bitte Ihre Email-Adresse und Ihren vollen Namen ein und klicken Sie den Button\n             „Dem Webinar beitreten“. \n         3. Klicken Sie den grünen Button „Per Computer dem Audio beitreten“ an.\n             Das bewirkt\, dass Sie uns hören und sehen können. Sie werden in Kürze eingelassen. \nDie Teilnahme an allen eLectures der Virtuellen PH ist für österreichische Hochschullehrende\, Lehrkräfte und Studierende eines Lehramts kostenlos.\n		 \n		\n			– digitale Grundkompentenzen erweitern und anwenden können \n– Individualförderung von SchülerInnen jeden Alters und jeder Leistungsstufe gestalten können \n– 21st Century Skills verschärfen und anwenden können
URL:https://www.virtuelle-ph.at/veranstaltung/microsoft-tablet-electure-5-einsatz-von-ms-tablets-im-naturwissenschaftlichen-unterricht-und-zum-kollegialen-austausch/
CATEGORIES:eLecture,Reihe Tablet Microsoft
END:VEVENT
BEGIN:VEVENT
DTSTART;TZID=Europe/Vienna:20210318T170000
DTEND;TZID=Europe/Vienna:20210318T183000
DTSTAMP:20260420T125837
CREATED:20210215T110719Z
LAST-MODIFIED:20210319T085213Z
UID:10003886-1616086800-1616092200@www.virtuelle-ph.at
SUMMARY:Microsoft Tablet eLecture 1: Einsatz\, Tricks und Tipps - MS Forms im Unterricht
DESCRIPTION:zur Aufzeichnung\n\n\n						Microsoft Forms ist eine Quiz App\, mit der ganz leicht ein Quiz und eine Umfrage erstellt werden kann. Dieses Quiz hat den Vorteil\, dass es sich selber korrigiert und dadurch eine Erleichterung für die Lehrerinnen und Lehrer darstellt. \nBirgit Albert ist Lehrerin an einer Niederösterreichischen MS und fördert schon seit einigen Jahren ihre Schulkinder mit den Microsoft Apps. Gemeinsam mit ihr erarbeiten wir neue Funktionen und Ideen\, wie wir schnell und einfach ein Microsoft Forms Quiz erstellt und anschließend korrigieren können. \n\nFolgende Punkte werden behandelt: \n–          Ein Quiz erstellen\, mit automatischer Korrektur \n–          Tipps und Tricks beim Erstellen wie zum Beispiel: Fotos einbinden\, mehrere Antworten zur Auswahl einbinden\, Fragen mit Texteingabe\, Videos einbinden\,.. \n–          Ein Quiz mit SchülerInnen\, Kolleginnen in der Schule und von einer anderen Schule teilen \n–          Umfragen erstellen \n–          Microsoft Forms in Microsoft Teams einbinden \n–          Ein Quiz korrigieren und zurückgeben \nDieses electure ist interessant für Sie\, wenn Sie \n#schnell ein Quiz\, Test oder eine Umfrage erstellen möchten \n——————————— \nDiese eLecture ist Teil der Microsoft Tablet eLecture-Reihe der Virtuellen PH im Sommersemester 2021. Alle Infos und eine Nachschau der Aufzeichnungen unter: www.virtuelle-ph.at/microsoft-tablets \nCoModeration: Walter Fikisz \n\nExpert_in: Birgit Albert \n\n\n			\n				\n			\n			Teilnahmekriterien & Info\n		 \n		\n			Lernziele\n		 \n		\n			Voraussetzungen\n		\n		 \n		\n			\n				\n					\n			So treten Sie der Veranstaltung im virtuellen Lernraum bei:  \n        1. Rufen Sie 5 min vor Terminstart den Link zum Virtuellen Lernraum auf: \nzoom.us/my/virtuelleph.electure4 \n         2. Geben Sie bitte Ihre Email-Adresse und Ihren vollen Namen ein und klicken Sie den Button\n             „Dem Webinar beitreten“. \n         3. Klicken Sie den grünen Button „Per Computer dem Audio beitreten“ an.\n             Das bewirkt\, dass Sie uns hören und sehen können. Sie werden in Kürze eingelassen. \nDie Teilnahme an allen eLectures der Virtuellen PH ist für österreichische Hochschullehrende\, Lehrkräfte und Studierende eines Lehramts kostenlos.\n		 \n		\n			– digitale Grundkompentenzen erweitern und anwenden können \n– Individualförderung von SchülerInnen jeden Alters und jeder Leistungsstufe gestalten können \n– 21st Century Skills verschärfen und anwenden können
URL:https://www.virtuelle-ph.at/veranstaltung/microsoft-tablet-electure-1-einsatz-tricks-und-tipps-ms-forms-im-unterricht/
CATEGORIES:eLecture,Reihe Tablet Microsoft
END:VEVENT
END:VCALENDAR