BEGIN:VCALENDAR
VERSION:2.0
PRODID:-//Virtuelle PH - ECPv6.6.4.2//NONSGML v1.0//EN
CALSCALE:GREGORIAN
METHOD:PUBLISH
X-ORIGINAL-URL:https://www.virtuelle-ph.at
X-WR-CALDESC:Veranstaltungen für Virtuelle PH
REFRESH-INTERVAL;VALUE=DURATION:PT1H
X-Robots-Tag:noindex
X-PUBLISHED-TTL:PT1H
BEGIN:VTIMEZONE
TZID:Europe/Berlin
BEGIN:DAYLIGHT
TZOFFSETFROM:+0100
TZOFFSETTO:+0200
TZNAME:CEST
DTSTART:20180325T010000
END:DAYLIGHT
BEGIN:STANDARD
TZOFFSETFROM:+0200
TZOFFSETTO:+0100
TZNAME:CET
DTSTART:20181028T010000
END:STANDARD
END:VTIMEZONE
BEGIN:VEVENT
DTSTART;TZID=Europe/Berlin:20180515T183000
DTEND;TZID=Europe/Berlin:20180515T200000
DTSTAMP:20260420T141310
CREATED:20180115T125225Z
LAST-MODIFIED:20180516T084616Z
UID:10002732-1526409000-1526414400@www.virtuelle-ph.at
SUMMARY:voXmi eLecture 4: Berichte aus dem Schulalltag. NAMs (Newly Arrived Migrants) bzw. Flüchtlinge und österreichische Schüler_innen lernen von- und miteinander
DESCRIPTION:zur Aufzeichnung \n\n\n						Digitale Medien spielen nicht nur im Leben von Erwachsenen eine große Rolle\, auch im Leben der Kinder sind sie absolut präsent.  Digitale Medien im Sprachkurs anzubieten ist sehr sinnvoll\, da die Kinder mit viel Freude und Eifer ansprechend lernen können. \nBirgit Döbrentey-Hawlik ist seit drei Jahren für die Sprachkurse A und teilweise auch B an ihrer Schule zuständig. Unterstützend und ergänzend wählt sie gerne digitale Medien (Tablets\, Bee Bots\, Lesespiele am Computer….)  um die Kinder in ihrem Lernprozess lustvoll zu unterstützen. Sie vernetzen sich miteinander und helfen einander. Es ist schön\, interkulturelle Arbeitsprozesse wachsen zu sehen und die Ergebnisse präsentiert zu bekommen! \nInhalte: \n# Einblick in die Arbeitsprozesse\n# Vorstellen/Präsentieren verschiedener Arbeitsmaterialien  und Lernsituationen \n# Einsatzbereiche \n# Diskussion/ Fragen \nCoModeration: Daniel Pfeiffer \nHinweis: «Flucht und Migration – die Rolle der digitalen Medien» ist 2018 das gemeinsame Jahresthema für Schulentwicklung im Schulnetzwerk voXmi. In einer Reihe von Online-Vorträgen\, die für ein breites Publikum geöffnet sind und in Kooperation mit dem Onlinecampus Virtuelle PH und dem BIMM angeboten werden\, werden Ansätze zur Arbeit mit diesem komplexen Themenfeld im Rahmen der Entwicklung am eigenen Standort vorgestellt. Die Vortragenden erzählen aus der eigenen Praxis und beleuchten dabei das Thema aus unterschiedlichen Perspektiven von Schulentwicklung: Sprachenlernen (28.02.2018)\, Lebensraum Schule und Klassenzimmer (22.03.2018)\, Lernen mit digitalen Medien (25.04.2018)\, Schulalltag (15.05.2018) \n\n			\n				\n			\n			Teilnahmekriterien & Info\n		 \n		\n			Lernziele\n		 \n		\n			Voraussetzungen\n		\n		 \n		\n			\n				\n					\n			Technische Voraussetzungen: Grundlegende Computerkenntnisse\, gute Internetverbindung; optional: Headset.  \nSo treten Sie der eLecture im virtuellen Lernraum bei:  \n1. Rufen Sie 10 min vor Terminstart folgende Seite auf:  \nvph.adobeconnect.com/zwei/ \n2. Geben Sie bitte Ihren Vor- und Nachnamen ein und „Betreten Sie den Raum“ mit Klick auf den Button. \n3. Folgen Sie den Anweisungen auf dem Bildschirm. Sie werden in Kürze eingelassen. \nWenn Sie noch an keiner eLecture teilgenommen haben\, finden Sie alle Infos zum Einstieg unter: www.virtuelle-ph.at/electures/#einstieg \nDie Teilnahme an allen eLectures der Virtuellen PH ist für österreichische Lehrkräfte und Studierende eines Lehramts kostenlos.\n		 \n		\n			# Digitale Medien und interkulturelles Lernen in Beziehung setzen.\n# Einsatz digitaler Medien im Sprachkurs kennen lernen.\n# Vorgestellte digitale Medien selbst einsetzen können.
URL:https://www.virtuelle-ph.at/veranstaltung/voxmi-electure-4-berichte-aus-dem-schulalltag-nams-newly-arrived-migrants-bzw-fluechtlinge-und-oesterreichische-schueler_innen-lernen-von-und-miteinander/
CATEGORIES:eLecture,Reihe Sprachliche und interkulturelle Bildung im Kontext von Flucht und Migration
END:VEVENT
END:VCALENDAR