BEGIN:VCALENDAR
VERSION:2.0
PRODID:-//Virtuelle PH - ECPv6.6.4.2//NONSGML v1.0//EN
CALSCALE:GREGORIAN
METHOD:PUBLISH
X-WR-CALNAME:Virtuelle PH
X-ORIGINAL-URL:https://www.virtuelle-ph.at
X-WR-CALDESC:Veranstaltungen für Virtuelle PH
REFRESH-INTERVAL;VALUE=DURATION:PT1H
X-Robots-Tag:noindex
X-PUBLISHED-TTL:PT1H
BEGIN:VTIMEZONE
TZID:Europe/Berlin
BEGIN:DAYLIGHT
TZOFFSETFROM:+0100
TZOFFSETTO:+0200
TZNAME:CEST
DTSTART:20190331T010000
END:DAYLIGHT
BEGIN:STANDARD
TZOFFSETFROM:+0200
TZOFFSETTO:+0100
TZNAME:CET
DTSTART:20191027T010000
END:STANDARD
END:VTIMEZONE
BEGIN:VEVENT
DTSTART;TZID=Europe/Berlin:20191024T173000
DTEND;TZID=Europe/Berlin:20191024T183000
DTSTAMP:20260420T203748
CREATED:20190918T135540Z
LAST-MODIFIED:20191024T114511Z
UID:10003432-1571938200-1571941800@www.virtuelle-ph.at
SUMMARY:LEIDER ABGESAGT: eLecture: Klimaschule online Challenge: Spielerisch die Welt des Klimaschutzes entdecken
DESCRIPTION:Zur Anmeldung \n\n						Zum virtuellen Lernraum\n						\n\n						Die Folgen des Klimawandels sind gerade im Gebirge bereits deutlich erkennbar. Der Rückgang von Gletschern\, das Auftauen von Permafrostböden sind Herausforderungen und Realität – ebenso wie der Umstand\, dass der Mensch einen Beitrag zu diesem Klimawandel leistet.  \nEine von UNICEF veröffentlichte Studie zeigt\, dass der Klimawandel mit zu den größten Ängsten junger Menschen zählt. Wir sind jedoch überzeugt\, dass es möglich ist\, das Klima zu schützen – jeden Tag bei ganz alltäglichen Entscheidungen. Darum wurde 2010 die VERBUND-Klimaschule des Nationalparks Hohe Tauern gegründet. Es geht darum\, Bewusstsein zu schaffen und Wissen für eigenständige Entscheidungen zu vermitteln. Mehr als 20.000 Schülerinnen und Schüler haben wir seitdem alleine in den Nationalpark-Bundesländern Kärnten\, Salzburg und Tirol erreicht. Mit einer neuen Lernplattform wollen wir mit Hilfe modernster Lehr- und Lerntechniken das Wissen aus acht Jahren Klimaschule zur Verfügung stellen. Mit dem Ziel\, einen Beitrag zum Klimaschutz zu leisten.  \nHanna Watzl ist Projektkoordination der VERBUND-Klimaschule des Nationalparks Hohe Tauern sowie der Swarovski Wasserschule. Sie organisiert regelmäßig Fortbildungen für Nationalpark Ranger\, Lehrerinnen und Lehrer und Interessierte. Im Webinar sollen der Aufbau und die Funktionsweise der Klimaschule Online Challenge vorgestellt werden\, sodass diese anschließend im Unterricht gezielt eingesetzt werden können.  \nDiese eLecture ist für Sie geeignet\, wenn Sie \n•	die Themen Klimawandel und Klimaschutz spielerisch mit Ihren Schülerinnen und Schülern erarbeiten wollen.  \nCoModeration: Walter Fikisz \n\n			\n				\n			\n			Teilnahmekriterien & Info\n		 \n		\n			Lernziele\n		 \n		\n			Voraussetzungen\n		\n		 \n		\n			\n				\n					\n			Technische Voraussetzungen: Grundlegende Computerkenntnisse\, gute Internetverbindung; optional: Headset.  \nSo treten Sie der eLecture im virtuellen Lernraum bei:  \n1. Rufen Sie 10 min vor Terminstart folgende Seite auf:  \nvph.adobeconnect.com/vier/ \n2. Geben Sie bitte Ihren Vor- und Nachnamen ein und „Betreten Sie den Raum“ mit Klick auf den Button. \n3. Folgen Sie den Anweisungen auf dem Bildschirm. Sie werden in Kürze eingelassen. \nWenn Sie noch an keiner eLecture teilgenommen haben\, finden Sie alle Infos zum Einstieg unter: www.virtuelle-ph.at/electures/#einstieg \nDie Teilnahme an allen eLectures der Virtuellen PH ist für österreichische Lehrkräfte und Studierende eines Lehramts kostenlos.\n		 \n		\n			# Die Lernenden können die Tools der Lernplattform bedienen und diese an ihre Bedürfnisse anpassen. \n# Die Teilnehmenden sind in der Lage\, die Inhalte der Online Klimaschule im Unterricht mit ihren Schulklassen zu erarbeiten.
URL:https://www.virtuelle-ph.at/veranstaltung/electure-klimaschule-online-challenge-spielerisch-die-welt-des-klimaschutzes-entdecken/
CATEGORIES:eLecture
END:VEVENT
END:VCALENDAR