BEGIN:VCALENDAR
VERSION:2.0
PRODID:-//Virtuelle PH - ECPv6.6.4.2//NONSGML v1.0//EN
CALSCALE:GREGORIAN
METHOD:PUBLISH
X-ORIGINAL-URL:https://www.virtuelle-ph.at
X-WR-CALDESC:Veranstaltungen für Virtuelle PH
REFRESH-INTERVAL;VALUE=DURATION:PT1H
X-Robots-Tag:noindex
X-PUBLISHED-TTL:PT1H
BEGIN:VTIMEZONE
TZID:Europe/Vienna
BEGIN:DAYLIGHT
TZOFFSETFROM:+0100
TZOFFSETTO:+0200
TZNAME:CEST
DTSTART:20220327T010000
END:DAYLIGHT
BEGIN:STANDARD
TZOFFSETFROM:+0200
TZOFFSETTO:+0100
TZNAME:CET
DTSTART:20221030T010000
END:STANDARD
END:VTIMEZONE
BEGIN:VEVENT
DTSTART;TZID=Europe/Vienna:20220203T133000
DTEND;TZID=Europe/Vienna:20220203T143000
DTSTAMP:20260420T141237
CREATED:20211115T153412Z
LAST-MODIFIED:20220204T124056Z
UID:10003992-1643895000-1643898600@www.virtuelle-ph.at
SUMMARY:digiPH5 Virtuelle Exkursion: Hybrid?! Eine digital erweiterte Lernumgebung entsteht
DESCRIPTION:zur Aufzeichnung \n\n ​​  \n\nBei dieser Virtuellen Exkursion zeigen Ihnen Caroline Grabensteiner & Erich Schönbächler (PHW) ein Beispiel von hybrider Lehre in der Praxis. \nAm Zentrum für Lerntechnologie und Innovation (ZLI) der PH Wien entsteht im Rahmen eines Forschungs- und Entwicklungsprojektes und eingebunden in ein MediaLab-Konzept ein Setting für hybride Lehre.\nIm Projekt werden die Sicht und Erfahrungen der Lernenden fokussiert. Aus diesem Grund wird ein Schwerpunkt darauf liegen\, nicht nur Lehr- und Lerninhalte aus dem Raum zu „Streamen“\, oder Online-Beiträge zur Vermittlung im Raum darzustellen\, sondern das hybride Format auch für Workshop-Settings einsetzbar zu machen.\nDislozierte Teilnehmer_innen werden durch das digitale Raumkonzept aktiv am Lehr-Lernsetting beteiligt. Nicht nur für Präsenzteilnehmer_innen\, sondern auch für Online-Teilnehmer_innen soll der „Lernraum“ erlebbar werden.\nEs wird live aus dem Raum ein Prototyp des Lernsettings gezeigt und mit den Teilnehmer_innen über Erfahrungs- und Handlungsmöglichkeiten diskutiert werden. \nCoModeration: Thomas Winkler \n\nExpert_in: Erich Schönbächler\, Caroline Grabensteiner \n\n\n			\n				\n			\n			Teilnahmekriterien & Info\n		 \n		\n			Lernziele\n		 \n		\n			Voraussetzungen\n		\n		 \n		\n			\n				\n					\n			So treten Sie der Veranstaltung im virtuellen Lernraum bei: \n1. Rufen Sie 5-10 min vor Terminstart den Link zum Virtuellen Lernraum auf: \nvirtuelle-ph-at.zoom.us/my/virtuelleph.electure4 \n2. Geben Sie bitte Ihren vollen Namen ein und klicken Sie den Button „Einem Meeting Beitreten“. \n3. Klicken Sie dann auch den grünen Button „Per Computer dem Audio beitreten“ an.\nDas bewirkt\, dass Sie uns hören und sehen können. Sie werden in Kürze eingelassen. \nDie Teilnahme an allen Veranstaltungen der Virtuellen PH ist für österreichische Hochschullehrende\, Lehrkräfte und Studierende eines Lehramts kostenlos.\n		 \n		\n			# Trends in der digitalen Hochschullehre kennenlernen \n# In Austausch und Vernetzung mit Hochschulkolleg_innen kommen
URL:https://www.virtuelle-ph.at/veranstaltung/digiph5-virtuelle-exkursion-hybrid-eine-digital-erweiterte-lernumgebung-entsteht/
CATEGORIES:eLecture,NonSync Ref,Online-Tagung digiPH5 EL
ATTACH;FMTTYPE=image/png:https://www.virtuelle-ph.at/wp-content/uploads/2021/11/011-VirtuelleExkursion.png
END:VEVENT
END:VCALENDAR