BEGIN:VCALENDAR
VERSION:2.0
PRODID:-//Virtuelle PH - ECPv6.6.4.2//NONSGML v1.0//EN
CALSCALE:GREGORIAN
METHOD:PUBLISH
X-WR-CALNAME:Virtuelle PH
X-ORIGINAL-URL:https://www.virtuelle-ph.at
X-WR-CALDESC:Veranstaltungen für Virtuelle PH
REFRESH-INTERVAL;VALUE=DURATION:PT1H
X-Robots-Tag:noindex
X-PUBLISHED-TTL:PT1H
BEGIN:VTIMEZONE
TZID:Europe/Berlin
BEGIN:DAYLIGHT
TZOFFSETFROM:+0100
TZOFFSETTO:+0200
TZNAME:CEST
DTSTART:20190331T010000
END:DAYLIGHT
BEGIN:STANDARD
TZOFFSETFROM:+0200
TZOFFSETTO:+0100
TZNAME:CET
DTSTART:20191027T010000
END:STANDARD
BEGIN:DAYLIGHT
TZOFFSETFROM:+0100
TZOFFSETTO:+0200
TZNAME:CEST
DTSTART:20200329T010000
END:DAYLIGHT
BEGIN:STANDARD
TZOFFSETFROM:+0200
TZOFFSETTO:+0100
TZNAME:CET
DTSTART:20201025T010000
END:STANDARD
END:VTIMEZONE
BEGIN:VEVENT
DTSTART;TZID=Europe/Berlin:20200224T180000
DTEND;TZID=Europe/Berlin:20200224T190000
DTSTAMP:20260420T230712
CREATED:20190927T073428Z
LAST-MODIFIED:20200226T104457Z
UID:10003482-1582567200-1582570800@www.virtuelle-ph.at
SUMMARY:eLecture #digiGruBi: Audioproduktion und Podcasting
DESCRIPTION:zur Aufzeichnung\n\n\n						Sprechen\, Hören und somit auditive Kommunikation ist ein zentraler Bestandteil unseres Lebens und des schulischen Alltags. Lernen ist Geschichten hören und verstehen. Lehren ist Geschichten erzählen. In dieser eLecture möchte ich Möglichkeiten zur Produktion eigener Audios in der Klasse vorstellen. Dabei geht es um Aufnahmetechnik\, Bearbeitung und Publikation von Audioaufnahmen sowie didaktische Einsatzformen.  \nIch selbst beschäftige mich seit über 20 Jahren mit Audioproduktion und vor allem mit dem Einsatz in der Schule. Dies führte zu zahlreichen Produktionen\, einem jährlichen „Schulradiotag“\, wo von 9-17 Uhr ausschließlich Produktionen von Kindern und Jugendlichen On Air gehen oder auch zum Forschungsprojekt über Audioproduktion im Bildungsbereich. Links und Informationen sind unter www.radiobox.at zu finden. \nDiese eLecture ist für Sie geeignet\, wenn Sie im Rahmen Ihres Unterrichts mit den Kindern gemeinsam Audioproduktionen produzieren und hörbar machen wollen.  \n—————- \nDiese eLecture ist Teil einer Reihe zur Digitalen Grundbildung in Kooperation mit der PH Wien. Vertiefend können Sie an einer Ringveranstaltung der Virtuellen PH teilnehmen\, wenn Sie weiter zu den aufgeworfenen Themen arbeiten wollen! Mehr dazu finden Sie unter: www.virtuelle-ph.at/digigrubi \nCoModeration: Gerlinde Schwabl \n\n			\n				\n			\n			Teilnahmekriterien & Info\n		 \n		\n			Lernziele\n		 \n		\n			Voraussetzungen\n		\n		 \n		\n			\n				\n					\n			Diese Veranstaltung wird via Zoom abgehalten (siehe Voraussetzungen). So treten Sie der eLecture im virtuellen Lernraum bei:  \n1. Rufen Sie 10 min vor Terminstart folgende Seite auf: \nzoom.us/j/684979517 \n2. Geben Sie bitte Ihren vollen Namen und eine Email-Adresse ein und klicken Sie „Dem Webinar beitreten“ an. Bitte klicken Sie im nächsten Schritt auch „Per Computer dem Audio beitreten“ an: das bewirkt\, dass Sie uns hören und sehen können. \n3. Folgen Sie den Anweisungen auf dem Bildschirm. Sie werden in Kürze eingelassen. \nDie Teilnahme an allen eLectures der Virtuellen PH ist für österreichische Hochschullehrende\, Lehrkräfte und Studierende eines Lehramts kostenlos. \nSie können sich via Audio (Headset mit Mikrofon) in einigen Teilen der eLecture zuschalten und mitdiskutieren!\nInfos dazu unter: https://www.virtuelle-ph.at/digigrubi/#el\n		 \n		\n			\nSie lernen die Grundlagen der Audioproduktion und – distribution kennen.\nSie lernen einfache Übungen und Methoden zur Audioarbeit kennen.\nSie wissen wo Sie Unterstützung bei der praktischen Arbeit erhalten könnten.
URL:https://www.virtuelle-ph.at/veranstaltung/electure-digigrubi-audioproduktion-und-podcasting/
CATEGORIES:eLecture,Reihe Digitale Grundbildung
END:VEVENT
BEGIN:VEVENT
DTSTART;TZID=Europe/Berlin:20190429T180000
DTEND;TZID=Europe/Berlin:20190429T190000
DTSTAMP:20260420T230712
CREATED:20190214T130707Z
LAST-MODIFIED:20190430T080133Z
UID:10003372-1556560800-1556564400@www.virtuelle-ph.at
SUMMARY:eLecture: Mach dich hörbar! Radio und Podcast mit SchülerInnen
DESCRIPTION:zur Aufzeichnung\n\n\nLernen ist immer mit Geschichtenerzählen verbunden. Teil der „Digitalen Grundbildung“ ist auch die Vermittlung von Kompetenzen in der Medienproduktion. Quer durch alle Altersstufen werden seit Jahren auch Audioproduktionen und Radiosendungen von Schulklassen im Unterricht erstellt. Die Ergebnisse können sich hören lassen und sind durchaus auch als Lehrmittel geeignet. Es werden Methoden und Möglichkeiten aufgezeigt\, wie mit einer Klasse Podcasts und Radiosendungen erstellt werden können. \nDie Produktionen reichen von „Meine Geschichte“ über Märchenerzählungen bis zu komplexen Magazinsendungen und Features. Genutzt werden kann dies von der Primarstufe bis in die Sekundarstufe 2 und in tertiären Bildungseinrichtungen. \nChristian Berger ist Medienpädagoge an der Pädagogischen Hochschule Wien und Freier Radiojournalist. Er beschäftigt sich seit ca. 30 Jahren mit dem Einsatz des Mediums im Unterricht. Zuletzt koordinierte er ein diesbezügliches bundesweites Forschungsprojekt und organisiert österreichweite Fortbildungsveranstaltungen zum Thema. Näheres ist auf www.radiobox.at nachlesbar. \nDiese eLecture ist für Sie geeignet\, wenn Sie \n# mit Ihren SchülerInnen Podcasts und Radiosendungen erstellen wollen \n# die grundlegenden Voraussetzungen und Software\nkennenlernen wollen \n# möglicher Method n zur Radioarbeit kennenlernen wollen. \nCoModeration: Elke Höfler \n\n			\n				\n			\n			Teilnahmekriterien & Info\n		 \n		\n			Lernziele\n		 \n		\n			Voraussetzungen\n		\n		 \n		\n			\n				\n					\n			Technische Voraussetzungen: Grundlegende Computerkenntnisse\, gute Internetverbindung; optional: Headset. \nSo treten Sie der eLecture im virtuellen Lernraum bei: \n1. Rufen Sie 10 min vor Terminstart folgende Seite auf: \nvph.adobeconnect.com/eins/ \n2. Geben Sie bitte Ihren Vor- und Nachnamen ein und „Betreten Sie den Raum“ mit Klick auf den Button. \n3. Folgen Sie den Anweisungen auf dem Bildschirm. Sie werden in Kürze eingelassen. \nWenn Sie noch an keiner eLecture teilgenommen haben\, finden Sie alle Infos zum Einstieg unter: www.virtuelle-ph.at/electures/#einstieg \nDie Teilnahme an allen eLectures der Virtuellen PH ist für österreichische Lehrkräfte und Studierende eines Lehramts kostenlos.\n		 \n		\n			# Kennenlernen von Radio und Podcast als Lernform \n# Kennenlernen der Kooperationsmöglichkeiten durch Radioarbeit
URL:https://www.virtuelle-ph.at/veranstaltung/electure-mach-dich-hoerbar-radio-und-podcast-mit-schuelerinnen/
CATEGORIES:eLecture
END:VEVENT
END:VCALENDAR