BEGIN:VCALENDAR
VERSION:2.0
PRODID:-//Virtuelle PH - ECPv6.6.4.2//NONSGML v1.0//EN
CALSCALE:GREGORIAN
METHOD:PUBLISH
X-WR-CALNAME:Virtuelle PH
X-ORIGINAL-URL:https://www.virtuelle-ph.at
X-WR-CALDESC:Veranstaltungen für Virtuelle PH
REFRESH-INTERVAL;VALUE=DURATION:PT1H
X-Robots-Tag:noindex
X-PUBLISHED-TTL:PT1H
BEGIN:VTIMEZONE
TZID:Europe/Berlin
BEGIN:DAYLIGHT
TZOFFSETFROM:+0100
TZOFFSETTO:+0200
TZNAME:CEST
DTSTART:20160327T010000
END:DAYLIGHT
BEGIN:STANDARD
TZOFFSETFROM:+0200
TZOFFSETTO:+0100
TZNAME:CET
DTSTART:20161030T010000
END:STANDARD
BEGIN:DAYLIGHT
TZOFFSETFROM:+0100
TZOFFSETTO:+0200
TZNAME:CEST
DTSTART:20170326T010000
END:DAYLIGHT
BEGIN:STANDARD
TZOFFSETFROM:+0200
TZOFFSETTO:+0100
TZNAME:CET
DTSTART:20171029T010000
END:STANDARD
BEGIN:DAYLIGHT
TZOFFSETFROM:+0100
TZOFFSETTO:+0200
TZNAME:CEST
DTSTART:20180325T010000
END:DAYLIGHT
BEGIN:STANDARD
TZOFFSETFROM:+0200
TZOFFSETTO:+0100
TZNAME:CET
DTSTART:20181028T010000
END:STANDARD
BEGIN:DAYLIGHT
TZOFFSETFROM:+0100
TZOFFSETTO:+0200
TZNAME:CEST
DTSTART:20190331T010000
END:DAYLIGHT
BEGIN:STANDARD
TZOFFSETFROM:+0200
TZOFFSETTO:+0100
TZNAME:CET
DTSTART:20191027T010000
END:STANDARD
BEGIN:DAYLIGHT
TZOFFSETFROM:+0100
TZOFFSETTO:+0200
TZNAME:CEST
DTSTART:20200329T010000
END:DAYLIGHT
BEGIN:STANDARD
TZOFFSETFROM:+0200
TZOFFSETTO:+0100
TZNAME:CET
DTSTART:20201025T010000
END:STANDARD
END:VTIMEZONE
BEGIN:VEVENT
DTSTART;TZID=Europe/Berlin:20200319T190000
DTEND;TZID=Europe/Berlin:20200319T193000
DTSTAMP:20260420T072137
CREATED:20200210T102238Z
LAST-MODIFIED:20200320T063056Z
UID:10003585-1584644400-1584646200@www.virtuelle-ph.at
SUMMARY:eLecture digiPH3: Kompetenzorientierung meets BNE
DESCRIPTION:zur Aufzeichnung\n\n\n						Konkretes nachhaltiges Handeln braucht vielfältige Fähigkeiten\, die in allen Studienrichtungen angesprochen und weiterentwickelt werden können. Bei der Designplanung spielen allgemeindidaktische Prinzipien sowie die „Bildung für eine nachhaltige Zukunft (BNE)“ eine zentrale Rolle. Dabei gilt es\, die Studierenden einzeln und als Gruppe bei der Wahrnehmung\, Einübung und Weiterentwicklung verschiedener fachlicher und überfachlicher Kompetenzen aus unterschiedlichsten Disziplinen zu unterstützen. Es lernen aber nicht nur die Studierenden\, sondern die beteiligten Dozierenden(gruppe) tut dies ebenso als Teil der Lerngemeinschaft.    \nSacha Kesseler (Universität Göttingen) und Christian F. Freisleben (FH St. Pölten) beschäftigen sich schon länger mit der Frage wie sich Erkenntnisse\, zeitgemäße Konzepte und Methoden aus der Hochschuldidaktik auf das Feld BNE übertragen lassen. \nSie vergleichen im dritten Teil des Panels „Kompetenzorientierte Bildung für eine nachhaltige Zukunft“ verschiedene Modelle miteinander\, die Kompetenzen Studierender darstellen\, die diese in Lehrveranstaltung (wieder- und neu-) entdecken\, vertiefen\, anwenden und einüben können. Diese werden dann auch an die beiden Beispiele des Panels angewendet. So wird dieses Panel ein idealer Einstieg in das Thema kompetenzorientiert ausgerichteter BNE. Gleichzeitig erhalten Lehrende und Hochschuldidaktiker*innen\, die sich bereits in diesem Feld engagieren vielfältige Inspirationen. \nDiese eLecture ist Teil des Panels „Kompetenzorientierte Bildung für eine nachhaltige Zukunft“ \nCoModeration: Gerlinde Schwabl \n\n			\n				\n			\n			Teilnahmekriterien & Info\n		 \n		\n			Lernziele\n		 \n		\n			Voraussetzungen\n		\n		 \n		\n			\n				\n					\n			Technische Voraussetzungen: Grundlegende Computerkenntnisse\, gute Internetverbindung; optional: Headset.  \nSo treten Sie der eLecture im virtuellen Lernraum bei:  \n1. Rufen Sie 10 min vor Terminstart folgende Seite auf:  \nvph.adobeconnect.com/digiph4/ \n2. Geben Sie bitte Ihren Vor- und Nachnamen ein und „Betreten Sie den Raum“ mit Klick auf den Button. \n3. Folgen Sie den Anweisungen auf dem Bildschirm. Sie werden in Kürze eingelassen. \nWenn Sie noch an keiner eLecture teilgenommen haben\, finden Sie alle Infos zum Einstieg unter: www.virtuelle-ph.at/electures/#einstieg \nDie Teilnahme an allen eLectures der Virtuellen PH ist für österreichische Lehrkräfte und Studierende eines Lehramts kostenlos.\n		 \n		\n			Teilnehmende können Modelle kompetenzorientiert ausgerichteter BNE auf didaktische Designs eigener Lehrveranstaltungen anwenden. \nTeilnehmende reflektieren eigene Kompetenzen und Einstellung rund um das Thema Nachhaltigkeit und ziehen daraus Konsequenzen für die individuelle Weiterentwicklung.
URL:https://www.virtuelle-ph.at/veranstaltung/electure-digiph3-kompetenzorientierung-meets-bne/
CATEGORIES:eLecture,Online-Tagung digiPH3 EL,Panel Panel 3
ATTACH;FMTTYPE=image/png:https://www.virtuelle-ph.at/wp-content/uploads/2020/03/freislebenteutscher-kesseler-digiph3-fb.png
END:VEVENT
BEGIN:VEVENT
DTSTART;TZID=Europe/Berlin:20190328T183000
DTEND;TZID=Europe/Berlin:20190328T190000
DTSTAMP:20260420T072137
CREATED:20190211T100642Z
LAST-MODIFIED:20190329T071924Z
UID:10003105-1553797800-1553799600@www.virtuelle-ph.at
SUMMARY:digiPH2 eLecture: Improvisationsmethoden mit Online-Tools umsetzen
DESCRIPTION:Link folgt in Kürze\n\n\n						Eine Schlüsselkompetenz des 21. Jahrhunderts ist Kreativität\, gerade auch\, wenn es um das Finden und Konkretisieren unkonventioneller Handlungsoptionen\, Wegen zu innovativen Produkten und Dienstleistungen geht. Weiters entscheidende und in vielen Stellenanzeigen gefragte sowie eine wegzudenkende gesellschaftlich relevante Fähigkeit ist jene\, mit anderen in einer intensiven und wertschätzenden Form zusammenarbeiten zu können.  \nImprovisationsmethoden sind sehr einfach adaptierbare methodische Herangehensweisen\, um Lernende zu unterstützen\, diese Schlüsselkompetenzen an sich selbst (wieder) zu entdecken sowie auszubauen. Gleichzeitig können sie auf eine sehr vielfältige Weise Lernprozesse auf der Ebene fachlicher Kompetenzen begleiten\, helfen dabei komplexe Inhalte nicht nur zu verstehen\, sondern auch anwenden und selbst (mit)entwickeln zu können.  \nIn der eLecture wird auch unmittelbar im gemeinsamen Tun erlebbar\, welche Kraft diese Methoden entwickeln sowie wie sie in unterschiedlichen Fächern und Formen von Lehrveranstaltungen / Schulstunden zum Einsatz kommen können. Vorgestellt werden auch Rahmenbedingungen für eine gelingende Integration in dialog- und kompetenzorientiert ausgerichtete didaktische Designs. Im Fokus stehen hier die Optionen des online Einsatz von Improvisationsmethoden mit verschiedensten Tools.   \nCoModeration: Walter Fikisz \n\n			\n				\n			\n			Teilnahmekriterien & Info\n		 \n		\n			Lernziele\n		 \n		\n			Voraussetzungen\n		\n		 \n		\n			\n				\n					\n			Technische Voraussetzungen: Grundlegende Computerkenntnisse\, gute Internetverbindung; optional: Headset. \nSo treten Sie der eLecture im virtuellen Lernraum bei:  \n1. Rufen Sie 10 min vor Terminstart folgende Seite auf:  \nvph.adobeconnect.com/digiph4/ \n2. Geben Sie bitte Ihren Vor- und Nachnamen ein und „Betreten Sie den Raum“ mit Klick auf den Button. \n3. Folgen Sie den Anweisungen auf dem Bildschirm. Sie werden in Kürze eingelassen. \nWenn Sie noch an keiner eLecture teilgenommen haben\, finden Sie alle Infos zum Einstieg unter: www.virtuelle-ph.at/electures/#einstieg \nDie Teilnahme an allen eLectures der Virtuellen PH ist für österreichische Lehrkräfte und Studierende eines Lehramts kostenlos.\n		 \n		\n			# Teilnehmende können Improvisationsmethoden auch online erfolgreich einsetzen und damit die Weiterentwicklung fachlicher und überfachlicher Kompetenzen unterstützen. \n# Teilnehmende können Improvisationsmethoden an konkrete Settings und Lernziele anpassen sowie ihre Umsetzung begleiten.
URL:https://www.virtuelle-ph.at/veranstaltung/digiph2-electure-improvisationsmethoden-mit-online-tools-umsetzen/
CATEGORIES:eLecture,Online-Tagung digiPH2 EL
END:VEVENT
BEGIN:VEVENT
DTSTART;TZID=Europe/Berlin:20180412T200000
DTEND;TZID=Europe/Berlin:20180412T203000
DTSTAMP:20260420T072137
CREATED:20180306T033828Z
LAST-MODIFIED:20180413T055613Z
UID:10002851-1523563200-1523565000@www.virtuelle-ph.at
SUMMARY:#digiPH eLecture | kompakt: Inverted Classroom Modell – Den Shift from Teaching to Learning in der Praxis leben
DESCRIPTION:zur Aufzeichnung \n\n\n						Das Konzept des Inverted bzw. Flipped Classroom wird an vielen Hochschulen weltweit umgesetzt\, zudem gibt es viele Forschungsergebnisse\, welche die Potenziale diesesstudierendenorientierten Ansatzes belegen. Eine Umsetzung des InvertedClassroom Modell bedeutet deutlich mehr\, als beliebige Vorbereitungsmaterialien zur Verfügung zu stellen oder einige dialogorientierte Methoden in Präsenzphasen einzusetzen. \nChristian F. Freisleben-Teutscher kann auf seine 30jährige Erfahrung als Berater & Referat u. a. im Bildungsbereich zurückgreifen und auf seine vierjährige Tätigkeit als Fachverantwortlicher Inverted Classroom an der FH St. Pölten.  \nIn dieser E-Lecture werden vielfältige Beispiele für Planung und Umsetzung für das ICM geliefert sowie Werkzeuge und Hinweise\, die für einen nachhaltigen Erfolg unerlässlich sind. Es wird auch ein einfaches\, zyklisches Modell vorgestellt\, das ein Ergebnis aus der Forschung mit Design Based Research zu ICM ist. \nCoModeration: Walter Fikisz \n\n			\n				\n			\n			Teilnahmekriterien & Info\n		 \n		\n			Lernziele\n		 \n		\n			Voraussetzungen\n		\n		 \n		\n			\n				\n					\n			Technische Voraussetzungen: Grundlegende Computerkenntnisse\, gute Internetverbindung; optional: Headset. \nSo treten Sie der eLecture im virtuellen Lernraum bei:  \n1. Rufen Sie 10 min vor Terminstart folgende Seite auf:  \nvph.adobeconnect.com/digiph4/ \n2. Geben Sie bitte Ihren Vor- und Nachnamen ein und „Betreten Sie den Raum“ mit Klick auf den Button. \n3. Folgen Sie den Anweisungen auf dem Bildschirm. Sie werden in Kürze eingelassen. \nWenn Sie noch an keiner eLecture teilgenommen haben\, finden Sie alle Infos zum Einstieg unter: www.virtuelle-ph.at/electures/#einstieg \nDie Teilnahme an allen eLectures der Virtuellen PH ist für österreichische Lehrkräfte und Studierende eines Lehramts kostenlos.\n		 \n		\n			# Teilnehmende sind in der Lage\, ausgehend von einem ausführlichen Überbbklick\, selbst Lehrveranstaltungen intensiver am ICM auszurichten.\n# Teilnehmende erkennen die Gestaltung von Lehre als iterativen Prozess und können ein zyklisches Modell zu ICM nach der Lecture in einem intensiven Dialog mit Studierenden in die Praxis umsetzen.\n# Teilnehmende erhalten einen Überblick zu Ressourcen\, wo sich u. a. Tools finden\,d ie ie dann bei der Planung und Umsetzung von Lehrveranstaltungen anwenden können.
URL:https://www.virtuelle-ph.at/veranstaltung/digiph-electure-kompakt-inverted-classroom-modell-den-shift-from-teaching-to-learning-in-der-praxis-leben/
CATEGORIES:eLecture,Online-Tagung digiPH EL
END:VEVENT
BEGIN:VEVENT
DTSTART;TZID=Europe/Berlin:20160504T180000
DTEND;TZID=Europe/Berlin:20160504T190000
DTSTAMP:20260420T072137
CREATED:20160418T185353Z
LAST-MODIFIED:20160504T100634Z
UID:10002134-1462384800-1462388400@www.virtuelle-ph.at
SUMMARY:eLecture Schwerpunkt Tablet: Lernprozesse unterwegs dokumentieren
DESCRIPTION:Zum einen geht es um die Gestaltung und Nutzung verschiedener Formen von E-Portfolio. Dort haben dann auch Wahrnehmungen aus dem eigenen Alltag Platz sowie wie sich Gelerntes dort einsetzen lässt\, wie sich damit Lebensräume weiterentwickeln lassen. Tablet und Smartphones sind auch ausgezeichnete Möglichkeiten\, Lernfortschritte „unterwegs“ immer wieder zu überprüfen und damit zu festigen. \n\n			\n				\n			\n			Teilnahmekriterien & Info\n		 \n		\n			Lernziele\n		 \n		\n			Voraussetzungen\n		\n		 \n		\n			\n				\n					\n			Technische Voraussetzungen: Grundlegende Computerkenntnisse\, gute Internetverbindung\, empfehlenswert: Headset. \nBitte finden Sie sich etwa 10 Minuten vor Start der eLecture im virtuellen Seminarraum unter diesem Link ein:virtuelle-ph.adobeconnect.com/electures_freisleben_teutscher/ \nWichtige Hinweise zum Besuch einer eLecture unter: www.virtuelle-ph.at/electures-info \nÜber diesen Link können Sie testen\, ob Ihr Computer optimal für den eLectures-Besuch vorbereitet ist\, und vorgeschlagene Aktualisierungen vornehmen: admin.adobeconnect.com/common/help/de/support/meeting_test.htm \nWenn Sie ein Headset besitzen\, stecken Sie es bitte an bevor Sie den Adobe Connect-Raum betreten. \nDie Teilnahme an allen eLectures der Virtuellen PH ist für österreichische Lehrkräfte und Studierende eines Lehramts kostenlos.\n		 \n		\n			* Mobile Portolio-Vielfalt: Welche Möglichkeiten Tablet & Smartphone bieten * Gezielter Einsatz auch von Fotos\, Audio und Video zur Dokumentation von Lernprozessen und –auswirkungen * Lernen durch Vernetzung mit anderen unterwegs
URL:https://www.virtuelle-ph.at/veranstaltung/electure-schwerpunkt-tablet-lernprozesse-unterwegs-dokumentieren/
CATEGORIES:eLecture,Themenschwerpunkt Tablets
END:VEVENT
BEGIN:VEVENT
DTSTART;TZID=Europe/Berlin:20160421T193000
DTEND;TZID=Europe/Berlin:20160421T203000
DTSTAMP:20260420T072137
CREATED:20160418T185743Z
LAST-MODIFIED:20160421T033356Z
UID:10002157-1461267000-1461270600@www.virtuelle-ph.at
SUMMARY:eLecture Schwerpunkt Tablet: Hybride Schnitzeljagden
DESCRIPTION:Eine spannende Möglichkeit\, Lerninhalte aufzubereiten: Die „Stationen“ einer Schnitzeljagd können sehr vielfältig gestaltet sein bzw. von Lernenden mitgestaltet werden. Dies bietet zudem gute Chancen für ein interaktives peer learning und peer assessment bzw. den sinnvollen Einsatz von Tablets und Smartphones. \n\n			\n				\n			\n			Teilnahmekriterien & Info\n		 \n		\n			Lernziele\n		 \n		\n			Voraussetzungen\n		\n		 \n		\n			\n				\n					\n			Technische Voraussetzungen: Grundlegende Computerkenntnisse\, gute Internetverbindung\, empfehlenswert: Headset. \nBitte finden Sie sich etwa 10 Minuten vor Start der eLecture im virtuellen Seminarraum unter diesem Link ein:virtuelle-ph.adobeconnect.com/electures_freisleben_teutscher/ \nWichtige Hinweise zum Besuch einer eLecture unter: www.virtuelle-ph.at/electures-info \nÜber diesen Link können Sie testen\, ob Ihr Computer optimal für den eLectures-Besuch vorbereitet ist\, und vorgeschlagene Aktualisierungen vornehmen: admin.adobeconnect.com/common/help/de/support/meeting_test.htm \nWenn Sie ein Headset besitzen\, stecken Sie es bitte an bevor Sie den Adobe Connect-Raum betreten. \nDie Teilnahme an allen eLectures der Virtuellen PH ist für österreichische Lehrkräfte und Studierende eines Lehramts kostenlos.\n		 \n		\n			* Geschichte und Formen von Schnitzeljagden* Wie sich digital und analog kombinieren lassen* Lernen durch Lehren mit hybriden Schnitzeljagden
URL:https://www.virtuelle-ph.at/veranstaltung/electure-schwerpunkt-tablet-hybride-schnitzeljagden/
CATEGORIES:eLecture,Themenschwerpunkt Tablets
END:VEVENT
BEGIN:VEVENT
DTSTART;TZID=Europe/Berlin:20160317T170000
DTEND;TZID=Europe/Berlin:20160317T180000
DTSTAMP:20260420T072137
CREATED:20160419T102145Z
LAST-MODIFIED:20160419T102145Z
UID:10002132-1458234000-1458237600@www.virtuelle-ph.at
SUMMARY:eLecture Schwerpunkt Flipped Classroom: Flipped / inverted classroom – Wege zur intensiveren Umsetzung in der Schule
DESCRIPTION:Im Nachgang zur Konferenz Inverted Classroom and beyond (23. & 24. 2.\, FH St. Pölten\, bit.ly/icmbeyond16) wird ein Überblick zu Ergebnissen vermittelt. Davon ausgehend geht es um Strategien für einzelne LehrerInnen und auch Schulleitungen\, wie flipped learning Schritt für Schritt implementiert werden kann und was dabei zu beachten ist. \n\n			\n				\n			\n			Teilnahmekriterien & Info\n		 \n		\n			Lernziele\n		 \n		\n			Voraussetzungen\n		\n		 \n		\n			\n				\n					\n			Technische Voraussetzungen: Grundlegende Computerkenntnisse\, gute Internetverbindung\, empfehlenswert: Headset. \nBitte finden Sie sich etwa 10 Minuten vor Start der eLecture im virtuellen Seminarraum unter diesem Link ein:virtuelle-ph.adobeconnect.com/electures_spfc/ \nWichtige Hinweise zum Besuch einer eLecture unter: www.virtuelle-ph.at/electures-info \nÜber diesen Link können Sie testen\, ob Ihr Computer optimal für den eLectures-Besuch vorbereitet ist\, und vorgeschlagene Aktualisierungen vornehmen: admin.adobeconnect.com/common/help/de/support/meeting_test.htm \nWenn Sie ein Headset besitzen\, stecken Sie es bitte an bevor Sie den Adobe Connect-Raum betreten. \nDie Teilnahme an allen eLectures der Virtuellen PH ist für österreichische Lehrkräfte und Studierende eines Lehramts kostenlos.\n		 \n		\n			# Die wichtigsten Ergebnisse der Konferenz\n#icmbeyond16 kennenlernen\n# Schritte definieren können für die Umsetzung von flipped learning in der eigenen Klasse\, im eigenen Fach\, in der Schule\n# Do’s und don’ts zu flipped learning erfahren und gemeinsam weiter entwickeln
URL:https://www.virtuelle-ph.at/veranstaltung/electure-schwerpunkt-flipped-classroom-flipped-inverted-classroom-wege-zur-intensiveren-umsetzung-in-der-schule/
CATEGORIES:eLecture,Themenschwerpunkt Flipped Classroom
END:VEVENT
BEGIN:VEVENT
DTSTART;TZID=Europe/Berlin:20160311T170000
DTEND;TZID=Europe/Berlin:20160311T180000
DTSTAMP:20260420T072137
CREATED:20160419T102408Z
LAST-MODIFIED:20160419T102408Z
UID:10002229-1457715600-1457719200@www.virtuelle-ph.at
SUMMARY:eLecture Schwerpunkt Flipped Classroom: Schüler/innen erstellen mithilfe der Flipped-Classroom-Methode eine eigene Webseite (CMS)
DESCRIPTION:Anhand eines durchgeführten Beispiels in der Schule wird in diesem eLecture die Durchführung eines Flipped-Classroom-Szenariums\, mit dem Ergebnis\, dass  Schülerinnen und Schüler eine eigene Webseite erstellen\, vorgestellt. Mit den Ergebnissen und Rückmeldungen von Schülerinnen und Schülern wird der Aufbau dieses Szenariums kommentiert und am Ende der Veranstaltung die Planungsvoraussetzungen für den erfolgreichen Einsatz der Flipped-Classroom-Methode zusammengefasst. \nDieses Beispiel steht für Ihren Unterricht zur Verfügung und ermöglicht auch Ihnen als Lehrende die Methode selbst zu erleben\, indem Sie die Aufgabenstellung vor einem möglichen Einsatz in Ihrem Unterricht erproben. \nDer Vortragenden ist es wichtig\, die Methode in den Mittelpunkt der pädagogischen und didaktischen Überlegungen zu stellen und diese in diesem Webinar mit den teilnehmenden Personen zu diskutieren.  \nErgänzt werden die Inhalte mit den rechtlichen Rahmenbedingungen für die Veröffentlichung einer Webseite.\nHinweis: beim vorgestellten Beispiel müssen keine eigenen Videos produziert werden. \n\n			\n				\n			\n			Teilnahmekriterien & Info\n		 \n		\n			Lernziele\n		 \n		\n			Voraussetzungen\n		\n		 \n		\n			\n				\n					\n			Technische Voraussetzungen: Grundlegende Computerkenntnisse\, gute Internetverbindung\, empfehlenswert: Headset. \nBitte finden Sie sich etwa 10 Minuten vor Start der eLecture im virtuellen Seminarraum unter diesem Link ein:virtuelle-ph.adobeconnect.com/electures_spfc/ \nWichtige Hinweise zum Besuch einer eLecture unter: www.virtuelle-ph.at/electures-info \nÜber diesen Link können Sie testen\, ob Ihr Computer optimal für den eLectures-Besuch vorbereitet ist\, und vorgeschlagene Aktualisierungen vornehmen: admin.adobeconnect.com/common/help/de/support/meeting_test.htm \nWenn Sie ein Headset besitzen\, stecken Sie es bitte an bevor Sie den Adobe Connect-Raum betreten. \nDie Teilnahme an allen eLectures der Virtuellen PH ist für österreichische Lehrkräfte und Studierende eines Lehramts kostenlos.\n		 \n		\n			Planen\, Durchführen und Begründen eigener Flipped-Classroom-Szenarien. Eine Webseite (CMS) mit der Flipped-Classroom-Methode erstellen sowie dieses Beispiel in den eigenen Unterricht integrieren können.
URL:https://www.virtuelle-ph.at/veranstaltung/electure-schwerpunkt-flipped-classroom-schuelerinnen-erstellen-mithilfe-der-flipped-classroom-methode-eine-eigene-webseite-cms/
CATEGORIES:eLecture,Themenschwerpunkt Flipped Classroom
END:VEVENT
BEGIN:VEVENT
DTSTART;TZID=Europe/Berlin:20160301T170000
DTEND;TZID=Europe/Berlin:20160301T180000
DTSTAMP:20260420T072137
CREATED:20160419T102432Z
LAST-MODIFIED:20160419T102432Z
UID:10002267-1456851600-1456855200@www.virtuelle-ph.at
SUMMARY:eLecture Schwerpunkt Flipped Classroom: Einführung in den Flipped Classroom
DESCRIPTION:Als Flipped Classroom wird eine Unterrichtsmethode bezeichnet\, bei der vor allem durch den Einsatz neuer Medien der Unterricht im wahrsten Sinne des Wortes auf den Kopf gestellt wird. Beim klassischen Unterricht findet in der Regel die Erarbeitung eines Themas oder Stoffes im Unterricht statt. Die Übungsphase wird – oft auch aus Zeitmangel – in die Hausübung verlagert. Bei der Methode Flipped Classroom werden insbesondere Videos bzw. Screencasts\, anhand dessen man ein neues Thema erarbeiten kann\, den Lernenden mitgegeben. Sie sollen sich diese Videos zuhause ansehen und so den neuen Inhalt erlernen. Im Unterricht bleibt somit Zeit um Übungen durchzuführen. Die Lehrkraft wird zum Coach und kann individuell unterstützen. Die Methode ermöglicht Individualisierung und Differenzierung im Unterricht zu leben\, die Lernenden können so entsprechend gefördert und/oder gefordert werden. Durch die Methode wurde an manchen Lernorten die Dropout-Quote drastisch reduziert. \n\n			\n				\n			\n			Teilnahmekriterien & Info\n		 \n		\n			Lernziele\n		 \n		\n			Voraussetzungen\n		\n		 \n		\n			\n				\n					\n			Technische Voraussetzungen: Grundlegende Computerkenntnisse\, gute Internetverbindung\, empfehlenswert: Headset. \nBitte finden Sie sich etwa 10 Minuten vor Start der eLecture im virtuellen Seminarraum unter diesem Link ein: virtuelle-ph.adobeconnect.com/electures_spfc/ \nWichtige Hinweise zum Besuch einer eLecture unter: www.virtuelle-ph.at/electures-info \nÜber diesen Link können Sie testen\, ob Ihr Computer optimal für den eLectures-Besuch vorbereitet ist\, und vorgeschlagene Aktualisierungen vornehmen: admin.adobeconnect.com/common/help/de/support/meeting_test.htm \nWenn Sie ein Headset besitzen\, stecken Sie es bitte an bevor Sie den Adobe Connect-Raum betreten. \nDie Teilnahme an allen eLectures der Virtuellen PH ist für österreichische Lehrkräfte und Studierende eines Lehramts kostenlos.\n		 \n		\n			Die Teilnehmenden lernen die Methode „Flipped Classroom“ kennen und können aufgrund der Erfahrungsberichte einen tiefen Praxiseinblick gewinnen.
URL:https://www.virtuelle-ph.at/veranstaltung/electure-schwerpunkt-flipped-classroom-einfuehrung-in-den-flipped-classroom/
CATEGORIES:eLecture,Themenschwerpunkt Flipped Classroom
END:VEVENT
BEGIN:VEVENT
DTSTART;TZID=Europe/Berlin:20160229T200000
DTEND;TZID=Europe/Berlin:20160229T210000
DTSTAMP:20260420T072137
CREATED:20160419T102159Z
LAST-MODIFIED:20160419T102159Z
UID:10002215-1456776000-1456779600@www.virtuelle-ph.at
SUMMARY:eLecture zum Schwerpunkt Tablet: Kleingruppenarbeiten mit Tablet & Smartphone unterstützen
DESCRIPTION:Digitale Geräte unterstützen kooperatives Lernen sowohl in Vorbereitungs- als auch Präsenzphasen. Sie fördern die Dokumentation von Entstehenden und das gemeinsame\, synchrone Weiterarbeiten. Außerdem erhalten sie den Kommunikationsfluss in Kleingruppen aufrecht und Ergebnisse können auch nach außen sichtbar werden. \n\n			\n				\n			\n			Teilnahmekriterien & Info\n		 \n		\n			Lernziele\n		 \n		\n			Voraussetzungen\n		\n		 \n		\n			\n				\n					\n			Technische Voraussetzungen: Grundlegende Computerkenntnisse\, gute Internetverbindung\, empfehlenswert: Headset. \nBitte finden Sie sich etwa 10 Minuten vor Start der eLecture im virtuellen Seminarraum unter diesem Link ein: virtuelle-ph.adobeconnect.com/electures_freisleben_teutscher/ \nWichtige Hinweise zum Besuch einer eLecture unter: www.virtuelle-ph.at/electures-info \nÜber diesen Link können Sie testen\, ob Ihr Computer optimal für den eLectures-Besuch vorbereitet ist\, und vorgeschlagene Aktualisierungen vornehmen: admin.adobeconnect.com/common/help/de/support/meeting_test.htm \nWenn Sie ein Headset besitzen\, stecken Sie es bitte an bevor Sie den Adobe Connect-Raum betreten. \nDie Teilnahme an allen eLectures der Virtuellen PH ist für österreichische Lehrkräfte und Studierende eines Lehramts kostenlos.\n		 \n		\n			Aufzeigen verschiedener Möglichkeiten für Kleingruppenarbeiten mit Tablet & Smartphone; Digitale Spielwiesen am Weg zu erfolgreichen Zusammenarbeiten; Ergebnisse online und im Klassenraum einfach sichtbar machen;
URL:https://www.virtuelle-ph.at/veranstaltung/electure-zum-schwerpunkt-tablet-kleingruppenarbeiten-mit-tablet-smartphone-unterstuetzen/
CATEGORIES:eLecture,Themenschwerpunkt Tablets
END:VEVENT
BEGIN:VEVENT
DTSTART;TZID=Europe/Berlin:20160216T190000
DTEND;TZID=Europe/Berlin:20160216T200000
DTSTAMP:20260420T072137
CREATED:20160419T102411Z
LAST-MODIFIED:20160419T102411Z
UID:10002235-1455649200-1455652800@www.virtuelle-ph.at
SUMMARY:eLecture zum Schwerpunkt Tablet: Mobile Learning mit dem Medium Video
DESCRIPTION:Vorgestellt werden Methoden aus der Aktivierenden Medienpädagogik: Lernende beschäftigen sich mit Gestaltungskriterien und werden selbst zu ProduzentInnen mit Tablets und Smartphones wobei wichtige Lernprozesse ablaufen. Videos sind auch eine gute Chance\, um Lebenswelten von Lernenden einzubeziehen sowie um Lebenswelten anderer Menschen auf eine intensive Weise zu erforschen. \n\n			\n				\n			\n			Teilnahmekriterien & Info\n		 \n		\n			Lernziele\n		 \n		\n			Voraussetzungen\n		\n		 \n		\n			\n				\n					\n			Technische Voraussetzungen: Grundlegende Computerkenntnisse\, gute Internetverbindung\, empfehlenswert: Headset. \nBitte finden Sie sich etwa 10 Minuten vor Start der eLecture im virtuellen Seminarraum unter diesem Link ein:virtuelle-ph.adobeconnect.com/electures_freisleben_teutscher/ \nWichtige Hinweise zum Besuch einer eLecture unter: www.virtuelle-ph.at/electures-info \nÜber diesen Link können Sie testen\, ob Ihr Computer optimal für den eLectures-Besuch vorbereitet ist\, und vorgeschlagene Aktualisierungen vornehmen: admin.adobeconnect.com/common/help/de/support/meeting_test.htm \nWenn Sie ein Headset besitzen\, stecken Sie es bitte an bevor Sie den Adobe Connect-Raum betreten. \nDie Teilnahme an allen eLectures der Virtuellen PH ist für österreichische Lehrkräfte und Studierende eines Lehramts kostenlos.\n		 \n		\n			Kennenlernen von Schritten auf dem Weg zu SchülerInnen-Videos. Beispiele aus der Praxis. Persönlichkeits- und Urheberrecht in Zusammenhang mit Videos.
URL:https://www.virtuelle-ph.at/veranstaltung/electure-zum-schwerpunkt-tablet-mobile-learning-mit-dem-medium-video/
CATEGORIES:eLecture,Themenschwerpunkt Tablets
END:VEVENT
END:VCALENDAR