BEGIN:VCALENDAR
VERSION:2.0
PRODID:-//Virtuelle PH - ECPv6.6.4.2//NONSGML v1.0//EN
CALSCALE:GREGORIAN
METHOD:PUBLISH
X-WR-CALNAME:Virtuelle PH
X-ORIGINAL-URL:https://www.virtuelle-ph.at
X-WR-CALDESC:Veranstaltungen für Virtuelle PH
REFRESH-INTERVAL;VALUE=DURATION:PT1H
X-Robots-Tag:noindex
X-PUBLISHED-TTL:PT1H
BEGIN:VTIMEZONE
TZID:Europe/Berlin
BEGIN:DAYLIGHT
TZOFFSETFROM:+0100
TZOFFSETTO:+0200
TZNAME:CEST
DTSTART:20170326T010000
END:DAYLIGHT
BEGIN:STANDARD
TZOFFSETFROM:+0200
TZOFFSETTO:+0100
TZNAME:CET
DTSTART:20171029T010000
END:STANDARD
END:VTIMEZONE
BEGIN:VEVENT
DTSTART;TZID=Europe/Berlin:20170202T180000
DTEND;TZID=Europe/Berlin:20170202T190000
DTSTAMP:20260420T063851
CREATED:20161218T174805Z
LAST-MODIFIED:20170202T142153Z
UID:10002395-1486058400-1486062000@www.virtuelle-ph.at
SUMMARY:eLecture: Gamification im Unterricht und bei der Benotung?
DESCRIPTION:Experte: Christian Haschek\nCoModeration: Walter Fikisz \nGamification wirkt: Erfahrungspunkte\, Highscores\, Fortschrittsbalken\, Ranglisten\, virtuelle Güter oder Auszeichnungen: diese spielerischen Elemente erleichtern das Lernen für SchülerInnen zum Teil erheblich und motivieren! Christian Haschek hat bereits vorgemacht\, wie es geht\, und sogar eine gamifizierte Matura durchgeführt. Auch im Unterricht haben spielerische Elemente bei ihm natürlich Platz! \nChristian Haschek ist Sondervertragslehrer am Lise-Meitner Realgymnasium in Wien und hauptberuflich Unternehmer\, wobei er hauptsächlich im Bildungs- und IT-Security Bereich tätig ist. U.a. dem ORF fiel er bereits mit modernen Ansätzen im Unterricht auf\, die er Ihnen in dieser eLecture vorstellen wird! \nUnter anderem werden Sie erfahren\, wie Minecraft im Unterricht eingesetzt werden kann bzw. wie im Spiel virtuelle Hausübungen aufgeben und kontrolliert werden können. Außerdem hilft Spielen in Herrn Hascheks Unterricht dabei\, Grundregeln von 3D Engines und einfachen Schaltungen zu erlernen. \nAuch wird es darum gehen\, wie Benotung SchülerInnen motivieren kann: nämlich mit Hilfe von Erfahrungspunkten (XP Benotung) etwa\, bei der Schüler_innen für gute Leistungen Punkte bekommen und somit ihre Note langsam „aufleveln“ können. Damit ist eine deutliche Motivationssteigerung beim Lernen erlebbar. \n\n			\n				\n			\n			Teilnahmekriterien & Info\n		 \n		\n			Lernziele\n		 \n		\n			Voraussetzungen\n		\n		 \n		\n			\n				\n					\n			Technische Voraussetzungen: Grundlegende Computerkenntnisse\, gute Internetverbindung; optional: Headset.  \nSo treten Sie der eLecture im virtuellen Lernraum bei: \n1. Rufen Sie 10 min vor Terminstart folgende Seite auf:  \nvph.webex.com/vph/k2/j.php?MTID=t64ff338f051527c569bde5c7d31ad06d \n2. Geben Sie bitte Ihren Vor- und Nachnamen und Ihre E-Mail-Adresse ein.  \n3. Klicken Sie auf „Jetzt beitreten“.  \n4. Folgen Sie den Anweisungen auf dem Bildschirm.  \nDie Teilnahme an allen eLectures der Virtuellen PH ist für österreichische Lehrkräfte und Studierende eines Lehramts kostenlos.\n		 \n		\n			# Die Vorteile von Gamifizierung im Unterricht für die Motivierung von Schüler_innen kennenlernen\n# Ideen zu und Einsatzmöglichkeiten von Gamification erhalten bzw. kennenlernen
URL:https://www.virtuelle-ph.at/veranstaltung/electure-gamification-im-unterricht-und-bei-der-benotung/
CATEGORIES:eLecture
END:VEVENT
END:VCALENDAR