BEGIN:VCALENDAR
VERSION:2.0
PRODID:-//Virtuelle PH - ECPv6.6.4.2//NONSGML v1.0//EN
CALSCALE:GREGORIAN
METHOD:PUBLISH
X-WR-CALNAME:Virtuelle PH
X-ORIGINAL-URL:https://www.virtuelle-ph.at
X-WR-CALDESC:Veranstaltungen für Virtuelle PH
REFRESH-INTERVAL;VALUE=DURATION:PT1H
X-Robots-Tag:noindex
X-PUBLISHED-TTL:PT1H
BEGIN:VTIMEZONE
TZID:Europe/Berlin
BEGIN:DAYLIGHT
TZOFFSETFROM:+0100
TZOFFSETTO:+0200
TZNAME:CEST
DTSTART:20180325T010000
END:DAYLIGHT
BEGIN:STANDARD
TZOFFSETFROM:+0200
TZOFFSETTO:+0100
TZNAME:CET
DTSTART:20181028T010000
END:STANDARD
END:VTIMEZONE
BEGIN:VEVENT
DTSTART;VALUE=DATE:20181015
DTEND;VALUE=DATE:20181105
DTSTAMP:20260420T191350
CREATED:20180612T171255Z
LAST-MODIFIED:20181113T071005Z
UID:10002949-1539561600-1541375999@www.virtuelle-ph.at
SUMMARY:Flipped Classroom
DESCRIPTION:Zur Anmeldung\n						\n\n						Als Flipped Classroom wird eine Unterrichtsmethode bezeichnet\, bei der vor allem durch den Einsatz neuer Medien der Unterricht im wahrsten Sinne des Wortes auf den Kopf gestellt wird.\nMittlerweile gibt es zahlreiche Ausformungen und Entwicklungen dieses Ursprungskonzepts. Möglichkeiten\, die zeigen wie und in welcher Form der Unterricht geflippt wird\, sind bereits vielfältig vorhanden. \nIm Zentrum aller Überlegungen steht das Ziel einen lernzentrierten Unterricht (statt einem lehrzentrierten Unterricht) zu etablieren\, der auf die Vorerfahrungen\, Interessen und Hintergründe der Lernenden Rücksicht nimmt und aufbaut. Die Methode ermöglicht Individualisierung und Differenzierung im Unterricht zu leben und somit die Lernenden individuell zu fördern und fordern. Durch die Methode wurde an manchen Lernorten die Dropout-Quote drastisch reduziert.\nSie bekommen im Rahmen dieses kooperativen Online-Seminars die Möglichkeit gemeinsam verschiedenste Facetten dieses Ansatzes zu erkunden und – getragen von und mit der Seminargruppe – Ihren „Flipped Classroom“ zu entwickeln. \nAblauf des Onlineseminars: \nWoche 1: Entdecken\nIn der ersten gemeinsamen Woche beschäftigen wir uns mit der Idee und dem grundliegenden Konzept des Flipped Classrooms. Wir lernen unterschiedliche Möglichkeiten den Unterricht zu flippen kennen und entdecken die Chancen sowie Herausforderungen dieses Modells.  \nWoche 2: Erstellen\nIm Zentrum der Woche zwei stehen Tools zum flippen des eigenen Unterrichts. Sie werden Ihren eigenen Flipped Classroom Workflow definieren und erste Materialien (z.B. Videos) für Ihren Unterricht gestalten. \nWoche 3: Tools im Unterricht einsetzen und zusammenarbeiten\nDer Schwerpunkt der abschließenden Woche liegt auf den Möglichkeiten der (virtuellen) Vernetzung\, Zusammenarbeit und Weiterentwicklung in der stetig wachsenden Flipped Classroom-Community. Sie lernen verschiedenste Ressourcen kennen und weiter Möglichkeiten der Gestaltung des geflippten Unterrichts. \nwww.virtuelle-ph.at/online-seminare \n\n			\n				\n			\n			Teilnahmekriterien & Info\n		 \n		\n			Lernziele\n		 \n		\n			Voraussetzungen\n		\n		 \n		\n			\n				\n					\n			Anmerkung: Die Teilnahme an allen im Rahmen des Online-Programms angebotenen Online-Seminaren der Virtuellen PH ist für österreichische Lehrkräfte\, PH-Lehrende und Studierende eines Lehramts kostenlos. Die Seminarplätze werden nach dem Prinzip first come\, first served – also chronologisch nach dem Zeitpunkt Ihrer Seminarbuchung über PH-Online – vergeben. Bis Mittwoch vor Beginn des jeweiligen Online-Seminars können Sie über PH-Online Ihr gebuchtes Online-Seminar selber kostenlos stornieren. Für ein allfälliges Storno zu einem späteren Zeitpunkt wenden Sie sich bitte an: info@virtuelle-ph.at\n		 \n		\n			Dieses kooperative Online-Seminar soll Lehrkräfte dabei unterstützen\, Ihren Weg ihren eigenen Unterricht zu flippen zu finden.\n		 \n		\n			Grundlegende Computer und Internetkenntnisse
URL:https://www.virtuelle-ph.at/veranstaltung/flipped-classroom-15/
CATEGORIES:Online-Programm HerbstWinterprogramm,Online-Seminar
END:VEVENT
BEGIN:VEVENT
DTSTART;VALUE=DATE:20180514
DTEND;VALUE=DATE:20180604
DTSTAMP:20260420T191350
CREATED:20180214T153423Z
LAST-MODIFIED:20180513T033528Z
UID:10002789-1526256000-1528070399@www.virtuelle-ph.at
SUMMARY:Flipped Classroom
DESCRIPTION:Zur Anmeldung\n						\n\n						Als Flipped Classroom wird eine Unterrichtsmethode bezeichnet\, bei der vor allem durch den Einsatz neuer Medien der Unterricht im wahrsten Sinne des Wortes auf den Kopf gestellt wird.\nMittlerweile gibt es zahlreiche Ausformungen und Entwicklungen dieses Ursprungskonzepts. Möglichkeiten\, die zeigen wie und in welcher Form der Unterricht geflippt wird\, sind bereits vielfältig vorhanden. \nIm Zentrum aller Überlegungen steht das Ziel einen lernzentrierten Unterricht (statt einem lehrzentrierten Unterricht) zu etablieren\, der auf die Vorerfahrungen\, Interessen und Hintergründe der Lernenden Rücksicht nimmt und aufbaut. Die Methode ermöglicht Individualisierung und Differenzierung im Unterricht zu leben und somit die Lernenden individuell zu fördern und fordern. Durch die Methode wurde an manchen Lernorten die Dropout-Quote drastisch reduziert.\nSie bekommen im Rahmen dieses kooperativen Online-Seminars die Möglichkeit gemeinsam verschiedenste Facetten dieses Ansatzes zu erkunden und – getragen von und mit der Seminargruppe – Ihren „Flipped Classroom“ zu entwickeln. \nAblauf des Onlineseminars: \nWoche 1: Entdecken\nIn der ersten gemeinsamen Woche beschäftigen wir uns mit der Idee und dem grundliegenden Konzept des Flipped Classrooms. Wir lernen unterschiedliche Möglichkeiten den Unterricht zu flippen kennen und entdecken die Chancen sowie Herausforderungen dieses Modells.  \nWoche 2: Erstellen\nIm Zentrum der Woche zwei stehen Tools zum flippen des eigenen Unterrichts. Sie werden Ihren eigenen Flipped Classroom Workflow definieren und erste Materialien (z.B. Videos) für Ihren Unterricht gestalten. \nWoche 3: Tools im Unterricht einsetzen und zusammenarbeiten\nDer Schwerpunkt der abschließenden Woche liegt auf den Möglichkeiten der (virtuellen) Vernetzung\, Zusammenarbeit und Weiterentwicklung in der stetig wachsenden Flipped Classroom-Community. Sie lernen verschiedenste Ressourcen kennen und weiter Möglichkeiten der Gestaltung des geflippten Unterrichts. \nwww.virtuelle-ph.at/online-seminare \n\n			\n				\n			\n			Teilnahmekriterien & Info\n		 \n		\n			Lernziele\n		 \n		\n			Voraussetzungen\n		\n		 \n		\n			\n				\n					\n			Anmerkung: Die Teilnahme an allen im Rahmen des Online-Programms angebotenen Online-Seminaren der Virtuellen PH ist für österreichische Lehrkräfte und Studierende eines Lehramts kostenlos. Die Seminarplätze werden nach dem Prinzip first come\, first served – also chronologisch nach dem Zeitpunkt Ihrer Seminarbuchung über PH-Online – vergeben. Bis Mittwoch vor Beginn des jeweiligen Online-Seminars können Sie über PH-Online Ihr gebuchtes Online-Seminar selber kostenlos stornieren. Für ein allfälliges Storno zu einem späteren Zeitpunkt wenden Sie sich bitte an: info@virtuelle-ph.at\n		 \n		\n			Dieses kooperative Online-Seminar soll Lehrkräfte dabei unterstützen\, Ihren Weg ihren eigenen Unterricht zu flippen zu finden.\n		 \n		\n			Grundlegende Computer und Internetkenntnisse
URL:https://www.virtuelle-ph.at/veranstaltung/flipped-classroom-14/
CATEGORIES:Online-Programm Frühjahrsprogramm,Online-Seminar
END:VEVENT
BEGIN:VEVENT
DTSTART;VALUE=DATE:20180409
DTEND;VALUE=DATE:20180430
DTSTAMP:20260420T191350
CREATED:20180214T153027Z
LAST-MODIFIED:20180408T033424Z
UID:10002767-1523232000-1525046399@www.virtuelle-ph.at
SUMMARY:Flipped Classroom
DESCRIPTION:Zur Anmeldung\n						\n\n						Als Flipped Classroom wird eine Unterrichtsmethode bezeichnet\, bei der vor allem durch den Einsatz neuer Medien der Unterricht im wahrsten Sinne des Wortes auf den Kopf gestellt wird.\nMittlerweile gibt es zahlreiche Ausformungen und Entwicklungen dieses Ursprungskonzepts. Möglichkeiten\, die zeigen wie und in welcher Form der Unterricht geflippt wird\, sind bereits vielfältig vorhanden. \nIm Zentrum aller Überlegungen steht das Ziel einen lernzentrierten Unterricht (statt einem lehrzentrierten Unterricht) zu etablieren\, der auf die Vorerfahrungen\, Interessen und Hintergründe der Lernenden Rücksicht nimmt und aufbaut. Die Methode ermöglicht Individualisierung und Differenzierung im Unterricht zu leben und somit die Lernenden individuell zu fördern und fordern. Durch die Methode wurde an manchen Lernorten die Dropout-Quote drastisch reduziert.\nSie bekommen im Rahmen dieses kooperativen Online-Seminars die Möglichkeit gemeinsam verschiedenste Facetten dieses Ansatzes zu erkunden und – getragen von und mit der Seminargruppe – Ihren „Flipped Classroom“ zu entwickeln. \nAblauf des Onlineseminars: \nWoche 1: Entdecken\nIn der ersten gemeinsamen Woche beschäftigen wir uns mit der Idee und dem grundliegenden Konzept des Flipped Classrooms. Wir lernen unterschiedliche Möglichkeiten den Unterricht zu flippen kennen und entdecken die Chancen sowie Herausforderungen dieses Modells.  \nWoche 2: Erstellen\nIm Zentrum der Woche zwei stehen Tools zum flippen des eigenen Unterrichts. Sie werden Ihren eigenen Flipped Classroom Workflow definieren und erste Materialien (z.B. Videos) für Ihren Unterricht gestalten. \nWoche 3: Tools im Unterricht einsetzen und zusammenarbeiten\nDer Schwerpunkt der abschließenden Woche liegt auf den Möglichkeiten der (virtuellen) Vernetzung\, Zusammenarbeit und Weiterentwicklung in der stetig wachsenden Flipped Classroom-Community. Sie lernen verschiedenste Ressourcen kennen und weiter Möglichkeiten der Gestaltung des geflippten Unterrichts. \nwww.virtuelle-ph.at/online-seminare \n\n			\n				\n			\n			Teilnahmekriterien & Info\n		 \n		\n			Lernziele\n		 \n		\n			Voraussetzungen\n		\n		 \n		\n			\n				\n					\n			Anmerkung: Die Teilnahme an allen im Rahmen des Online-Programms angebotenen Online-Seminaren der Virtuellen PH ist für österreichische Lehrkräfte und Studierende eines Lehramts kostenlos. Die Seminarplätze werden nach dem Prinzip first come\, first served – also chronologisch nach dem Zeitpunkt Ihrer Seminarbuchung über PH-Online – vergeben. Bis Mittwoch vor Beginn des jeweiligen Online-Seminars können Sie über PH-Online Ihr gebuchtes Online-Seminar selber kostenlos stornieren. Für ein allfälliges Storno zu einem späteren Zeitpunkt wenden Sie sich bitte an: info@virtuelle-ph.at\n		 \n		\n			Dieses kooperative Online-Seminar soll Lehrkräfte dabei unterstützen\, Ihren Weg ihren eigenen Unterricht zu flippen zu finden.\n		 \n		\n			Grundlegende Computer und Internetkenntnisse
URL:https://www.virtuelle-ph.at/veranstaltung/flipped-classroom-12/
CATEGORIES:Online-Programm Frühjahrsprogramm,Online-Seminar
END:VEVENT
BEGIN:VEVENT
DTSTART;VALUE=DATE:20180305
DTEND;VALUE=DATE:20180326
DTSTAMP:20260420T191350
CREATED:20180214T153327Z
LAST-MODIFIED:20180304T033732Z
UID:10002798-1520208000-1522022399@www.virtuelle-ph.at
SUMMARY:Flipped Classroom
DESCRIPTION:Zur Anmeldung\n						\n\n						Als Flipped Classroom wird eine Unterrichtsmethode bezeichnet\, bei der vor allem durch den Einsatz neuer Medien der Unterricht im wahrsten Sinne des Wortes auf den Kopf gestellt wird.\nMittlerweile gibt es zahlreiche Ausformungen und Entwicklungen dieses Ursprungskonzepts. Möglichkeiten\, die zeigen wie und in welcher Form der Unterricht geflippt wird\, sind bereits vielfältig vorhanden. \nIm Zentrum aller Überlegungen steht das Ziel einen lernzentrierten Unterricht (statt einem lehrzentrierten Unterricht) zu etablieren\, der auf die Vorerfahrungen\, Interessen und Hintergründe der Lernenden Rücksicht nimmt und aufbaut. Die Methode ermöglicht Individualisierung und Differenzierung im Unterricht zu leben und somit die Lernenden individuell zu fördern und fordern. Durch die Methode wurde an manchen Lernorten die Dropout-Quote drastisch reduziert.\nSie bekommen im Rahmen dieses kooperativen Online-Seminars die Möglichkeit gemeinsam verschiedenste Facetten dieses Ansatzes zu erkunden und – getragen von und mit der Seminargruppe – Ihren „Flipped Classroom“ zu entwickeln. \nAblauf des Onlineseminars: \nWoche 1: Entdecken\nIn der ersten gemeinsamen Woche beschäftigen wir uns mit der Idee und dem grundliegenden Konzept des Flipped Classrooms. Wir lernen unterschiedliche Möglichkeiten den Unterricht zu flippen kennen und entdecken die Chancen sowie Herausforderungen dieses Modells.  \nWoche 2: Erstellen\nIm Zentrum der Woche zwei stehen Tools zum flippen des eigenen Unterrichts. Sie werden Ihren eigenen Flipped Classroom Workflow definieren und erste Materialien (z.B. Videos) für Ihren Unterricht gestalten. \nWoche 3: Tools im Unterricht einsetzen und zusammenarbeiten\nDer Schwerpunkt der abschließenden Woche liegt auf den Möglichkeiten der (virtuellen) Vernetzung\, Zusammenarbeit und Weiterentwicklung in der stetig wachsenden Flipped Classroom-Community. Sie lernen verschiedenste Ressourcen kennen und weiter Möglichkeiten der Gestaltung des geflippten Unterrichts. \nwww.virtuelle-ph.at/online-seminare \n\n			\n				\n			\n			Teilnahmekriterien & Info\n		 \n		\n			Lernziele\n		 \n		\n			Voraussetzungen\n		\n		 \n		\n			\n				\n					\n			Anmerkung: Die Teilnahme an allen im Rahmen des Online-Programms angebotenen Online-Seminaren der Virtuellen PH ist für österreichische Lehrkräfte und Studierende eines Lehramts kostenlos. Die Seminarplätze werden nach dem Prinzip first come\, first served – also chronologisch nach dem Zeitpunkt Ihrer Seminarbuchung über PH-Online – vergeben. Bis Mittwoch vor Beginn des jeweiligen Online-Seminars können Sie über PH-Online Ihr gebuchtes Online-Seminar selber kostenlos stornieren. Für ein allfälliges Storno zu einem späteren Zeitpunkt wenden Sie sich bitte an: info@virtuelle-ph.at\n		 \n		\n			Dieses kooperative Online-Seminar soll Lehrkräfte dabei unterstützen\, Ihren Weg ihren eigenen Unterricht zu flippen zu finden.\n		 \n		\n			Grundlegende Computer und Internetkenntnisse
URL:https://www.virtuelle-ph.at/veranstaltung/flipped-classroom-13/
CATEGORIES:Online-Programm Frühjahrsprogramm,Online-Seminar
END:VEVENT
BEGIN:VEVENT
DTSTART;VALUE=DATE:20180108
DTEND;VALUE=DATE:20180129
DTSTAMP:20260420T191350
CREATED:20180105T033702Z
LAST-MODIFIED:20180107T033720Z
UID:10002746-1515369600-1517183999@www.virtuelle-ph.at
SUMMARY:Flipped Classroom
DESCRIPTION:Zur Anmeldung\n						\n\n						Als Flipped Classroom wird eine Unterrichtsmethode bezeichnet\, bei der vor allem durch den Einsatz neuer Medien der Unterricht im wahrsten Sinne des Wortes auf den Kopf gestellt wird.\nMittlerweile gibt es zahlreiche Ausformungen und Entwicklungen dieses Ursprungskonzepts. Möglichkeiten\, die zeigen wie und in welcher Form der Unterricht geflippt wird\, sind bereits vielfältig vorhanden. \nIm Zentrum aller Überlegungen steht das Ziel einen lernzentrierten Unterricht (statt einem lehrzentrierten Unterricht) zu etablieren\, der auf die Vorerfahrungen\, Interessen und Hintergründe der Lernenden Rücksicht nimmt und aufbaut. Die Methode ermöglicht Individualisierung und Differenzierung im Unterricht zu leben und somit die Lernenden individuell zu fördern und fordern. Durch die Methode wurde an manchen Lernorten die Dropout-Quote drastisch reduziert.\nSie bekommen im Rahmen dieses kooperativen Online-Seminars die Möglichkeit gemeinsam verschiedenste Facetten dieses Ansatzes zu erkunden und – getragen von und mit der Seminargruppe – Ihren „Flipped Classroom“ zu entwickeln. \nAblauf des Onlineseminars: \nWoche 1: Entdecken\nIn der ersten gemeinsamen Woche beschäftigen wir uns mit der Idee und dem grundliegenden Konzept des Flipped Classrooms. Wir lernen unterschiedliche Möglichkeiten den Unterricht zu flippen kennen und entdecken die Chancen sowie Herausforderungen dieses Modells.  \nWoche 2: Erstellen\nIm Zentrum der Woche zwei stehen Tools zum flippen des eigenen Unterrichts. Sie werden Ihren eigenen Flipped Classroom Workflow definieren und erste Materialien (z.B. Videos) für Ihren Unterricht gestalten. \nWoche 3: Tools im Unterricht einsetzen und zusammenarbeiten\nDer Schwerpunkt der abschließenden Woche liegt auf den Möglichkeiten der (virtuellen) Vernetzung\, Zusammenarbeit und Weiterentwicklung in der stetig wachsenden Flipped Classroom-Community. Sie lernen verschiedenste Ressourcen kennen und weiter Möglichkeiten der Gestaltung des geflippten Unterrichts. \nwww.virtuelle-ph.at/online-seminare \n\n			\n				\n			\n			Teilnahmekriterien & Info\n		 \n		\n			Lernziele\n		 \n		\n			Voraussetzungen\n		\n		 \n		\n			\n				\n					\n			Anmerkung: Die Teilnahme an allen im Rahmen des Online-Programms angebotenen Online-Seminaren der Virtuellen PH ist für österreichische Lehrkräfte und Studierende eines Lehramts kostenlos. Die Seminarplätze werden nach dem Prinzip first come\, first served – also chronologisch nach dem Zeitpunkt Ihrer Seminarbuchung über PH-Online – vergeben. Bis Mittwoch vor Beginn des jeweiligen Online-Seminars können Sie über PH-Online Ihr gebuchtes Online-Seminar selber kostenlos stornieren. Für ein allfälliges Storno zu einem späteren Zeitpunkt wenden Sie sich bitte an: info@virtuelle-ph.at\n		 \n		\n			Dieses kooperative Online-Seminar soll Lehrkräfte dabei unterstützen\, Ihren Weg ihren eigenen Unterricht zu flippen zu finden.\n		 \n		\n			Grundlegende Computer und Internetkenntnisse
URL:https://www.virtuelle-ph.at/veranstaltung/flipped-classroom-11/
CATEGORIES:Online-Programm HerbstWinterprogramm,Online-Seminar
END:VEVENT
BEGIN:VEVENT
DTSTART;VALUE=DATE:20180108
DTEND;VALUE=DATE:20180129
DTSTAMP:20260420T191350
CREATED:20171108T145446Z
LAST-MODIFIED:20180107T033635Z
UID:10002723-1515369600-1517183999@www.virtuelle-ph.at
SUMMARY:Flipped Classroom
DESCRIPTION:Zur Anmeldung\n						\n\n						Als Flipped Classroom wird eine Unterrichtsmethode bezeichnet\, bei der vor allem durch den Einsatz neuer Medien der Unterricht im wahrsten Sinne des Wortes auf den Kopf gestellt wird.\nMittlerweile gibt es zahlreiche Ausformungen und Entwicklungen dieses Ursprungskonzepts. Möglichkeiten\, die zeigen wie und in welcher Form der Unterricht geflippt wird\, sind bereits vielfältig vorhanden. \nIm Zentrum aller Überlegungen steht das Ziel einen lernzentrierten Unterricht (statt einem lehrzentrierten Unterricht) zu etablieren\, der auf die Vorerfahrungen\, Interessen und Hintergründe der Lernenden Rücksicht nimmt und aufbaut. Die Methode ermöglicht Individualisierung und Differenzierung im Unterricht zu leben und somit die Lernenden individuell zu fördern und fordern. Durch die Methode wurde an manchen Lernorten die Dropout-Quote drastisch reduziert.\nSie bekommen im Rahmen dieses kooperativen Online-Seminars die Möglichkeit gemeinsam verschiedenste Facetten dieses Ansatzes zu erkunden und – getragen von und mit der Seminargruppe – Ihren „Flipped Classroom“ zu entwickeln. \nAblauf des Onlineseminars: \nWoche 1: Entdecken\nIn der ersten gemeinsamen Woche beschäftigen wir uns mit der Idee und dem grundliegenden Konzept des Flipped Classrooms. Wir lernen unterschiedliche Möglichkeiten den Unterricht zu flippen kennen und entdecken die Chancen sowie Herausforderungen dieses Modells.  \nWoche 2: Erstellen\nIm Zentrum der Woche zwei stehen Tools zum flippen des eigenen Unterrichts. Sie werden Ihren eigenen Flipped Classroom Workflow definieren und erste Materialien (z.B. Videos) für Ihren Unterricht gestalten. \nWoche 3: Tools im Unterricht einsetzen und zusammenarbeiten\nDer Schwerpunkt der abschließenden Woche liegt auf den Möglichkeiten der (virtuellen) Vernetzung\, Zusammenarbeit und Weiterentwicklung in der stetig wachsenden Flipped Classroom-Community. Sie lernen verschiedenste Ressourcen kennen und weiter Möglichkeiten der Gestaltung des geflippten Unterrichts. \nwww.virtuelle-ph.at/online-seminare \n\n			\n				\n			\n			Teilnahmekriterien & Info\n		 \n		\n			Lernziele\n		 \n		\n			Voraussetzungen\n		\n		 \n		\n			\n				\n					\n			Anmerkung: Die Teilnahme an allen im Rahmen des Online-Programms angebotenen Online-Seminaren der Virtuellen PH ist für österreichische Lehrkräfte und Studierende eines Lehramts kostenlos. Die Seminarplätze werden nach dem Prinzip first come\, first served – also chronologisch nach dem Zeitpunkt Ihrer Seminarbuchung über PH-Online – vergeben. Bis Mittwoch vor Beginn des jeweiligen Online-Seminars können Sie über PH-Online Ihr gebuchtes Online-Seminar selber kostenlos stornieren. Für ein allfälliges Storno zu einem späteren Zeitpunkt wenden Sie sich bitte an: info@virtuelle-ph.at\n		 \n		\n			Dieses kooperative Online-Seminar soll Lehrkräfte dabei unterstützen\, Ihren Weg ihren eigenen Unterricht zu flippen zu finden.\n		 \n		\n			Grundlegende Computer und Internetkenntnisse
URL:https://www.virtuelle-ph.at/veranstaltung/flipped-classroom-10/
CATEGORIES:Online-Programm HerbstWinterprogramm,Online-Seminar
END:VEVENT
BEGIN:VEVENT
DTSTART;VALUE=DATE:20180108
DTEND;VALUE=DATE:20180129
DTSTAMP:20260420T191350
CREATED:20170929T112214Z
LAST-MODIFIED:20180107T033113Z
UID:10002647-1515369600-1517183999@www.virtuelle-ph.at
SUMMARY:Flipped Classroom
DESCRIPTION:Zur Anmeldung\n						\n\n						Als Flipped Classroom wird eine Unterrichtsmethode bezeichnet\, bei der vor allem durch den Einsatz neuer Medien der Unterricht im wahrsten Sinne des Wortes auf den Kopf gestellt wird.\nMittlerweile gibt es zahlreiche Ausformungen und Entwicklungen dieses Ursprungskonzepts. Möglichkeiten\, die zeigen wie und in welcher Form der Unterricht geflippt wird\, sind bereits vielfältig vorhanden. \nIm Zentrum aller Überlegungen steht das Ziel einen lernzentrierten Unterricht (statt einem lehrzentrierten Unterricht) zu etablieren\, der auf die Vorerfahrungen\, Interessen und Hintergründe der Lernenden Rücksicht nimmt und aufbaut. Die Methode ermöglicht Individualisierung und Differenzierung im Unterricht zu leben und somit die Lernenden individuell zu fördern und fordern. Durch die Methode wurde an manchen Lernorten die Dropout-Quote drastisch reduziert.\nSie bekommen im Rahmen dieses kooperativen Online-Seminars die Möglichkeit gemeinsam verschiedenste Facetten dieses Ansatzes zu erkunden und – getragen von und mit der Seminargruppe – Ihren „Flipped Classroom“ zu entwickeln. \nAblauf des Onlineseminars: \nWoche 1: Entdecken\nIn der ersten gemeinsamen Woche beschäftigen wir uns mit der Idee und dem grundliegenden Konzept des Flipped Classrooms. Wir lernen unterschiedliche Möglichkeiten den Unterricht zu flippen kennen und entdecken die Chancen sowie Herausforderungen dieses Modells.  \nWoche 2: Erstellen\nIm Zentrum der Woche zwei stehen Tools zum flippen des eigenen Unterrichts. Sie werden Ihren eigenen Flipped Classroom Workflow definieren und erste Materialien (z.B. Videos) für Ihren Unterricht gestalten. \nWoche 3: Tools im Unterricht einsetzen und zusammenarbeiten\nDer Schwerpunkt der abschließenden Woche liegt auf den Möglichkeiten der (virtuellen) Vernetzung\, Zusammenarbeit und Weiterentwicklung in der stetig wachsenden Flipped Classroom-Community. Sie lernen verschiedenste Ressourcen kennen und weiter Möglichkeiten der Gestaltung des geflippten Unterrichts. \nwww.virtuelle-ph.at/online-seminare \n\n			\n				\n			\n			Teilnahmekriterien & Info\n		 \n		\n			Lernziele\n		 \n		\n			Voraussetzungen\n		\n		 \n		\n			\n				\n					\n			Anmerkung: Die Teilnahme an allen im Rahmen des Online-Programms angebotenen Online-Seminaren der Virtuellen PH ist für österreichische Lehrkräfte und Studierende eines Lehramts kostenlos. Die Seminarplätze werden nach dem Prinzip first come\, first served – also chronologisch nach dem Zeitpunkt Ihrer Seminarbuchung über PH-Online – vergeben. Bis Mittwoch vor Beginn des jeweiligen Online-Seminars können Sie über PH-Online Ihr gebuchtes Online-Seminar selber kostenlos stornieren. Für ein allfälliges Storno zu einem späteren Zeitpunkt wenden Sie sich bitte an: info@virtuelle-ph.at\n		 \n		\n			Dieses kooperative Online-Seminar soll Lehrkräfte dabei unterstützen\, Ihren Weg ihren eigenen Unterricht zu flippen zu finden.\n		 \n		\n			Grundlegende Computer und Internetkenntnisse
URL:https://www.virtuelle-ph.at/veranstaltung/flipped-classroom-7/
CATEGORIES:Online-Programm HerbstWinterprogramm,Online-Seminar
END:VEVENT
END:VCALENDAR