BEGIN:VCALENDAR
VERSION:2.0
PRODID:-//Virtuelle PH - ECPv6.6.4.2//NONSGML v1.0//EN
CALSCALE:GREGORIAN
METHOD:PUBLISH
X-ORIGINAL-URL:https://www.virtuelle-ph.at
X-WR-CALDESC:Veranstaltungen für Virtuelle PH
REFRESH-INTERVAL;VALUE=DURATION:PT1H
X-Robots-Tag:noindex
X-PUBLISHED-TTL:PT1H
BEGIN:VTIMEZONE
TZID:Europe/Vienna
BEGIN:DAYLIGHT
TZOFFSETFROM:+0100
TZOFFSETTO:+0200
TZNAME:CEST
DTSTART:20240331T010000
END:DAYLIGHT
BEGIN:STANDARD
TZOFFSETFROM:+0200
TZOFFSETTO:+0100
TZNAME:CET
DTSTART:20241027T010000
END:STANDARD
BEGIN:DAYLIGHT
TZOFFSETFROM:+0100
TZOFFSETTO:+0200
TZNAME:CEST
DTSTART:20250330T010000
END:DAYLIGHT
BEGIN:STANDARD
TZOFFSETFROM:+0200
TZOFFSETTO:+0100
TZNAME:CET
DTSTART:20251026T010000
END:STANDARD
END:VTIMEZONE
BEGIN:VEVENT
DTSTART;TZID=Europe/Vienna:20250327T170000
DTEND;TZID=Europe/Vienna:20250327T180000
DTSTAMP:20260425T135440
CREATED:20250328T033132Z
LAST-MODIFIED:20250328T033132Z
UID:10005955-1743094800-1743098400@www.virtuelle-ph.at
SUMMARY:eLecture: FLINK Best Practice
DESCRIPTION:Zur Anmeldung \n\n						Zum virtuellen Lernraum\n						\n\n						Expertinnen: Christina Krenn und Hannah Feischl \nKostenlose\, qualitätsgesicherte FLINK-Materialien bieten eine Möglichkeit\, die digitalen Endgeräte sinnvoll im Mathematik-Unterricht der Sekundarstufe 1 einzusetzen. Das Projekt “FLINK in Mathe” der JKU Linz (www.jku.at/flink)  ist mit dem Gütesiegel Lern-Apps und dem Comenius-EduMedia-Siegel ausgezeichnet und bildet den neuen Lehrplan ab. \nChristina Krenn studierte Lehramt Mathematik und Chemie und ist derzeit als Projektleiterin von “FLINK in Mathe” an der JKU tätig. Hannah Feischl studierte Lehramt für Mathematik\, sowie Psychologie und Philosophie. Sie unterrichtet an einer AHS in Linz und ist im FLINK-Projekt an der Entwicklung der Materialien beteiligt. \nDurch den Einsatz von FLINK-Büchern ist es möglich\, dass Schüler*innen selbständig und im eigenen Tempo neue Inhalte erarbeiten und anschließend üben können. In dieser eLecture bekommen Sie einen Überblick\, wie FLINK-Materialien in Kombination mit verschiedenen Lernplattformen verwendet werden können. Darüber hinaus lernen Sie FLINK-Best Practice Beispiel aus der Praxis kennen und wie Sie FLINK-Bücher an die eigenen Bedürfnisse anpassen können. \nDiese Fortbildung ist für Sie interessant\, wenn Sie\n# Mathematik in der Sekundarstufe 1 unterrichten\n# wissen möchten\, wie FLINK-Bücher im Unterricht optimal eingesetzt werden können \n\nExpert_in: Hannah Feischl\, Christina Krenn \n\n\n			\n				\n			\n			Teilnahmekriterien & Info\n		 \n		\n			Lernziele\n		 \n		\n			Voraussetzungen\n		\n		 \n		\n			\n				\n					\n			So treten Sie der Veranstaltung im virtuellen Lernraum bei: \n1. Rufen Sie 5 min vor Terminstart den Link zum Virtuellen Lernraum auf: \nvirtuelle-ph-at.zoom.us/my/electures \n2. Geben Sie bitte Ihren vollen Namen ein und klicken Sie den Button „Einem Meeting Beitreten“.                              \n3. Klicken Sie den grünen Button „Per Computer dem Audio beitreten“ an. \nDas bewirkt\, dass Sie uns hören und sehen können. Sie werden in Kürze eingelassen. \nDie Teilnahme an allen eLectures der Virtuellen PH ist für österreichische Hochschullehrende\, Lehrkräfte und Studierende eines Lehramts kostenlos.\n		 \n		\n			FLINK-Bücher an die eigenen Bedürfnisse anpassen können\nFLINK-Bücher in Kombination mit Lernplattformen (MS Teams\, Moodle\, etc.) verwenden können\nBest-Practice Beispiele zum Einsatz von FLINK-Büchern kennen
URL:https://www.virtuelle-ph.at/veranstaltung/electure-flink-best-practice-2/
CATEGORIES:eLecture,Reihe flink
END:VEVENT
BEGIN:VEVENT
DTSTART;TZID=Europe/Vienna:20250327T170000
DTEND;TZID=Europe/Vienna:20250327T180000
DTSTAMP:20260425T135440
CREATED:20250211T033022Z
LAST-MODIFIED:20250327T033144Z
UID:10005715-1743094800-1743098400@www.virtuelle-ph.at
SUMMARY:eLecture: FLINK Best Practice
DESCRIPTION:Zur Anmeldung \n\n						Zum virtuellen Lernraum\n						\n\n						Expertinnen: Christina Krenn und Hannah Feischl \nKostenlose\, qualitätsgesicherte FLINK-Materialien bieten eine Möglichkeit\, die digitalen Endgeräte sinnvoll im Mathematik-Unterricht der Sekundarstufe 1 einzusetzen. Das Projekt “FLINK in Mathe” der JKU Linz (www.jku.at/flink)  ist mit dem Gütesiegel Lern-Apps und dem Comenius-EduMedia-Siegel ausgezeichnet und bildet den neuen Lehrplan ab. \nChristina Krenn studierte Lehramt Mathematik und Chemie und ist derzeit als Projektleiterin von “FLINK in Mathe” an der JKU tätig. Hannah Feischl studierte Lehramt für Mathematik\, sowie Psychologie und Philosophie. Sie unterrichtet an einer AHS in Linz und ist im FLINK-Projekt an der Entwicklung der Materialien beteiligt. \nDurch den Einsatz von FLINK-Büchern ist es möglich\, dass Schüler*innen selbständig und im eigenen Tempo neue Inhalte erarbeiten und anschließend üben können. In dieser eLecture bekommen Sie einen Überblick\, wie FLINK-Materialien in Kombination mit verschiedenen Lernplattformen verwendet werden können. Darüber hinaus lernen Sie FLINK-Best Practice Beispiel aus der Praxis kennen und wie Sie FLINK-Bücher an die eigenen Bedürfnisse anpassen können. \nDiese Fortbildung ist für Sie interessant\, wenn Sie\n# Mathematik in der Sekundarstufe 1 unterrichten\n# wissen möchten\, wie FLINK-Bücher im Unterricht optimal eingesetzt werden können \n\nExpert_in: Hannah Feischl\, Christina Krenn \n\n\n			\n				\n			\n			Teilnahmekriterien & Info\n		 \n		\n			Lernziele\n		 \n		\n			Voraussetzungen\n		\n		 \n		\n			\n				\n					\n			So treten Sie der Veranstaltung im virtuellen Lernraum bei: \n1. Rufen Sie 5 min vor Terminstart den Link zum Virtuellen Lernraum auf: \nvirtuelle-ph-at.zoom.us/my/electures \n2. Geben Sie bitte Ihren vollen Namen ein und klicken Sie den Button „Einem Meeting Beitreten“.                              \n3. Klicken Sie den grünen Button „Per Computer dem Audio beitreten“ an. \nDas bewirkt\, dass Sie uns hören und sehen können. Sie werden in Kürze eingelassen. \nDie Teilnahme an allen eLectures der Virtuellen PH ist für österreichische Hochschullehrende\, Lehrkräfte und Studierende eines Lehramts kostenlos.\n		 \n		\n			FLINK-Bücher an die eigenen Bedürfnisse anpassen können\nFLINK-Bücher in Kombination mit Lernplattformen (MS Teams\, Moodle\, etc.) verwenden können\nBest-Practice Beispiele zum Einsatz von FLINK-Büchern kennen
URL:https://www.virtuelle-ph.at/veranstaltung/electure-flink-best-practice/
CATEGORIES:eLecture,Reihe flink
END:VEVENT
BEGIN:VEVENT
DTSTART;TZID=Europe/Vienna:20241204T170000
DTEND;TZID=Europe/Vienna:20241204T180000
DTSTAMP:20260425T135440
CREATED:20241205T033045Z
LAST-MODIFIED:20241205T033045Z
UID:10005643-1733331600-1733335200@www.virtuelle-ph.at
SUMMARY:eLecture: Von Null auf FLINK
DESCRIPTION:Zur Anmeldung \n\n						Zum virtuellen Lernraum\n						\n\n						Expertinnen: Christina Krenn und Hannah Feischl \nKostenlose\, qualitätsgesicherte FLINK-Materialien bieten eine Möglichkeit\, die digitalen Endgeräte sinnvoll im Mathematik-Unterricht der Sekundarstufe 1 einzusetzen. Das Projekt “FLINK in Mathe” der JKU Linz (www.jku.at/flink)  ist mit dem Gütesiegel Lern-Apps und dem Comenius-EduMedia-Siegel ausgezeichnet und bildet den neuen Lehrplan ab. \nChristina Krenn studierte Lehramt Mathematik und Chemie und ist derzeit als Projektleiterin von “FLINK in Mathe” an der JKU tätig. Hannah Feischl studierte Lehramt für Mathematik\, sowie Psychologie und Philosophie. Sie unterrichtet an einer AHS in Linz und ist im FLINK-Projekt an der Entwicklung der Materialien beteiligt.\nIn dieser eLecture erhalten Sie einen praxisorientierten Einstieg in das Projekt “FLINK in Mathe”. Ziel der Fortbildung ist es\, Ihnen den Aufbau der FLINK-Materialien näherzubringen und Ihnen einen Überblick zu geben\, wie FLINK als digitales Werkzeug im Mathematikunterricht der Sekundarstufe 1 eingesetzt werden kann. \nDiese Fortbildung ist für Sie interessant\, wenn Sie Mathematik in der Sekundarstufe 1 unterrichten. \n\nExpert_in: Christina Krenn \n\n\n			\n				\n			\n			Teilnahmekriterien & Info\n		 \n		\n			Lernziele\n		 \n		\n			Voraussetzungen\n		\n		 \n		\n			\n				\n					\n			So treten Sie der Veranstaltung im virtuellen Lernraum bei: \n1. Rufen Sie 5 min vor Terminstart den Link zum Virtuellen Lernraum auf: \nvirtuelle-ph-at.zoom.us/my/electures \n2. Geben Sie bitte Ihren vollen Namen ein und klicken Sie den Button „Einem Meeting Beitreten“.                              \n3. Klicken Sie den grünen Button „Per Computer dem Audio beitreten“ an. \nDas bewirkt\, dass Sie uns hören und sehen können. Sie werden in Kürze eingelassen. \nDie Teilnahme an allen eLectures der Virtuellen PH ist für österreichische Hochschullehrende\, Lehrkräfte und Studierende eines Lehramts kostenlos.\n		 \n		\n			Intentionen des FLINK-Projekts kennen\nFLINK-Materialien im Internet finden\nüber Struktur und Aufbau der FLINK-Materialien Bescheid wissen
URL:https://www.virtuelle-ph.at/veranstaltung/electure-von-null-auf-flink-2/
CATEGORIES:eLecture,Reihe flink
END:VEVENT
BEGIN:VEVENT
DTSTART;TZID=Europe/Vienna:20241204T170000
DTEND;TZID=Europe/Vienna:20241204T180000
DTSTAMP:20260425T135440
CREATED:20241118T092907Z
LAST-MODIFIED:20241204T033045Z
UID:10005615-1733331600-1733335200@www.virtuelle-ph.at
SUMMARY:eLecture: Von Null auf FLINK
DESCRIPTION:Zur Anmeldung \n\n						Zum virtuellen Lernraum\n						\n\n						Expertinnen: Christina Krenn und Hannah Feischl \nKostenlose\, qualitätsgesicherte FLINK-Materialien bieten eine Möglichkeit\, die digitalen Endgeräte sinnvoll im Mathematik-Unterricht der Sekundarstufe 1 einzusetzen. Das Projekt “FLINK in Mathe” der JKU Linz (www.jku.at/flink)  ist mit dem Gütesiegel Lern-Apps und dem Comenius-EduMedia-Siegel ausgezeichnet und bildet den neuen Lehrplan ab. \nChristina Krenn studierte Lehramt Mathematik und Chemie und ist derzeit als Projektleiterin von “FLINK in Mathe” an der JKU tätig. Hannah Feischl studierte Lehramt für Mathematik\, sowie Psychologie und Philosophie. Sie unterrichtet an einer AHS in Linz und ist im FLINK-Projekt an der Entwicklung der Materialien beteiligt.\nIn dieser eLecture erhalten Sie einen praxisorientierten Einstieg in das Projekt “FLINK in Mathe”. Ziel der Fortbildung ist es\, Ihnen den Aufbau der FLINK-Materialien näherzubringen und Ihnen einen Überblick zu geben\, wie FLINK als digitales Werkzeug im Mathematikunterricht der Sekundarstufe 1 eingesetzt werden kann. \nDiese Fortbildung ist für Sie interessant\, wenn Sie Mathematik in der Sekundarstufe 1 unterrichten. \n\nExpert_in: Christina Krenn \n\n\n			\n				\n			\n			Teilnahmekriterien & Info\n		 \n		\n			Lernziele\n		 \n		\n			Voraussetzungen\n		\n		 \n		\n			\n				\n					\n			So treten Sie der Veranstaltung im virtuellen Lernraum bei: \n1. Rufen Sie 5 min vor Terminstart den Link zum Virtuellen Lernraum auf: \nvirtuelle-ph-at.zoom.us/my/electures \n2. Geben Sie bitte Ihren vollen Namen ein und klicken Sie den Button „Einem Meeting Beitreten“.                              \n3. Klicken Sie den grünen Button „Per Computer dem Audio beitreten“ an. \nDas bewirkt\, dass Sie uns hören und sehen können. Sie werden in Kürze eingelassen. \nDie Teilnahme an allen eLectures der Virtuellen PH ist für österreichische Hochschullehrende\, Lehrkräfte und Studierende eines Lehramts kostenlos.\n		 \n		\n			Intentionen des FLINK-Projekts kennen\nFLINK-Materialien im Internet finden\nüber Struktur und Aufbau der FLINK-Materialien Bescheid wissen
URL:https://www.virtuelle-ph.at/veranstaltung/electure-von-null-auf-flink/
CATEGORIES:eLecture,Reihe flink
END:VEVENT
END:VCALENDAR