BEGIN:VCALENDAR
VERSION:2.0
PRODID:-//Virtuelle PH - ECPv6.6.4.2//NONSGML v1.0//EN
CALSCALE:GREGORIAN
METHOD:PUBLISH
X-WR-CALNAME:Virtuelle PH
X-ORIGINAL-URL:https://www.virtuelle-ph.at
X-WR-CALDESC:Veranstaltungen für Virtuelle PH
REFRESH-INTERVAL;VALUE=DURATION:PT1H
X-Robots-Tag:noindex
X-PUBLISHED-TTL:PT1H
BEGIN:VTIMEZONE
TZID:Europe/Berlin
BEGIN:DAYLIGHT
TZOFFSETFROM:+0100
TZOFFSETTO:+0200
TZNAME:CEST
DTSTART:20160327T010000
END:DAYLIGHT
BEGIN:STANDARD
TZOFFSETFROM:+0200
TZOFFSETTO:+0100
TZNAME:CET
DTSTART:20161030T010000
END:STANDARD
END:VTIMEZONE
BEGIN:VEVENT
DTSTART;TZID=Europe/Berlin:20160510T180000
DTEND;TZID=Europe/Berlin:20160510T190000
DTSTAMP:20260420T083954
CREATED:20160418T185708Z
LAST-MODIFIED:20160510T033235Z
UID:10002138-1462903200-1462906800@www.virtuelle-ph.at
SUMMARY:ZLS eLecture: Was ist das: Teacher Leadership?
DESCRIPTION:Die Rollen und Aufgaben von Schule im 21. Jahrhundert sind keine Frage von persönlicher Meinung oder Überzeugung. Ein professioneller\, sachlicher Diskurs über anstehende  Entwicklungen und Veränderungen im pädagogischen Verständnis verlangt eine fachliche Fundierung: solide Forschungsergebnisse und aktuelle Literatur skizzieren eine zeitgemäße soziale Architektur und lernwirksame Rollenverteilung am Standort. \n\n			\n				\n			\n			Teilnahmekriterien & Info\n		 \n		\n			Lernziele\n		 \n		\n			Voraussetzungen\n		\n		 \n		\n			\n				\n					\n			Technische Voraussetzungen: Grundlegende Computerkenntnisse\, gute Internetverbindung\, empfehlenswert: Headset. \nBitte finden Sie sich etwa 10 Minuten vor Start der eLecture im virtuellen Seminarraum unter diesem Link ein:  proj.adobeconnect.com/zls/  \nWichtige Hinweise zum Besuch einer eLecture unter: www.virtuelle-ph.at/electures \nÜber diesen Link können Sie testen\, ob Ihr Computer optimal für den eLectures-Besuch vorbereitet ist\, und vorgeschlagene Aktualisierungen vornehmen: admin.adobeconnect.com/common/help/de/support/meeting_test.htm \nWenn Sie ein Headset besitzen\, stecken Sie es bitte an bevor Sie den Adobe Connect-Raum betreten. \nDie Teilnahme an allen eLectures der Virtuellen PH ist für österreichische Lehrkräfte und Studierende eines Lehramts kostenlos.\n		 \n		\n			Teacher Ledership – Konzept kennenlernen und auf mehrere Funktionen in der Schule beziehen.
URL:https://www.virtuelle-ph.at/veranstaltung/zls-electure-was-ist-das-teacher-leadership/
CATEGORIES:eLecture
END:VEVENT
BEGIN:VEVENT
DTSTART;TZID=Europe/Berlin:20160419T180000
DTEND;TZID=Europe/Berlin:20160419T190000
DTSTAMP:20260420T083954
CREATED:20160418T185709Z
LAST-MODIFIED:20160419T120510Z
UID:10002139-1461088800-1461092400@www.virtuelle-ph.at
SUMMARY:ZLS eLecture: Ist NMS drin\, wo NMS drauf steht? Der School Walkthrough als Werkzeug der Standortentwicklung
DESCRIPTION:Innovationskultur braucht nicht nur die Bereitschaft\, visionäre Zielbilder in den jeweiligen Standort-Kontext zu transferieren\, sondern auch den Mut und den Willen\, sich selbst als Teil von Innovation zu sehen. Die Rolle von Werkzeugen\, Routinen und Strukturen in Schulreformprozessen bestimmen das Handeln von Lehrpersonen – und somit das Lernen der Schüler/innen. Der SWT möchte als Instrument für kriteriengeleitete Schulentwicklung dazu Anleitung und Hilfestellung geben. \n\n			\n				\n			\n			Teilnahmekriterien & Info\n		 \n		\n			Lernziele\n		 \n		\n			Voraussetzungen\n		\n		 \n		\n			\n				\n					\n			Technische Voraussetzungen: Grundlegende Computerkenntnisse\, gute Internetverbindung\, empfehlenswert: Headset. \nBitte finden Sie sich etwa 10 Minuten vor Start der eLecture im virtuellen Seminarraum unter diesem Link ein:  proj.adobeconnect.com/zls/  \nWichtige Hinweise zum Besuch einer eLecture unter: www.virtuelle-ph.at/electures \nÜber diesen Link können Sie testen\, ob Ihr Computer optimal für den eLectures-Besuch vorbereitet ist\, und vorgeschlagene Aktualisierungen vornehmen: admin.adobeconnect.com/common/help/de/support/meeting_test.htm \nWenn Sie ein Headset besitzen\, stecken Sie es bitte an bevor Sie den Adobe Connect-Raum betreten. \nDie Teilnahme an allen eLectures der Virtuellen PH ist für österreichische Lehrkräfte und Studierende eines Lehramts kostenlos.\n		 \n		\n			SWT kennenlernen\, exemplarisch damit arbeiten
URL:https://www.virtuelle-ph.at/veranstaltung/zls-electure-ist-nms-drin-wo-nms-drauf-steht-der-school-walkthrough-als-werkzeug-der-standortentwicklung/
CATEGORIES:eLecture
END:VEVENT
BEGIN:VEVENT
DTSTART;TZID=Europe/Berlin:20160407T163000
DTEND;TZID=Europe/Berlin:20160407T173000
DTSTAMP:20260420T083954
CREATED:20160419T102258Z
LAST-MODIFIED:20160419T102258Z
UID:10002247-1460046600-1460050200@www.virtuelle-ph.at
SUMMARY:ZLS eLecture: Gute Schule. Reden wir einmal übers Gelingen.
DESCRIPTION:Die NMS-Reform löst viel aus. Auch Unsicherheit\, innerhalb und außerhalb des Schulwesens. Verunsicherung gehört zur Lernerfahrung\, gerade dann\, wenn das Alte nicht mehr dient und das Neue erst im Entstehen ist. In der NMS war der Fokus vom Anfang an auf dem Entstehenden: einer zeitgemäßen Schule für alle 10-14 Jährigen\, auf „Guter Schule“. Reden wir darüber. \n\n			\n				\n			\n			Teilnahmekriterien & Info\n		 \n		\n			Lernziele\n		 \n		\n			Voraussetzungen\n		\n		 \n		\n			\n				\n					\n			Technische Voraussetzungen: Grundlegende Computerkenntnisse\, gute Internetverbindung\, empfehlenswert: Headset. \nBitte finden Sie sich etwa 10 Minuten vor Start der eLecture im virtuellen Seminarraum unter diesem Link ein:  proj.adobeconnect.com/zls/  \nWichtige Hinweise zum Besuch einer eLecture unter: www.virtuelle-ph.at/electures-info \nÜber diesen Link können Sie testen\, ob Ihr Computer optimal für den eLectures-Besuch vorbereitet ist\, und vorgeschlagene Aktualisierungen vornehmen: admin.adobeconnect.com/common/help/de/support/meeting_test.htm \nWenn Sie ein Headset besitzen\, stecken Sie es bitte an bevor Sie den Adobe Connect-Raum betreten. \nDie Teilnahme an allen eLectures der Virtuellen PH ist für österreichische Lehrkräfte und Studierende eines Lehramts kostenlos.\n		 \n		\n			Elemente von gelingender Schule für das 21. Jhdt kennenlernen\, verstehen\, dass Lernergebnisse der Schüler/innen von diesen Elementen abhängen und dass diese Faktoren wissenschaftlich fundiert sind.
URL:https://www.virtuelle-ph.at/veranstaltung/zls-electure-gute-schule-reden-wir-einmal-uebers-gelingen/
CATEGORIES:eLecture
END:VEVENT
BEGIN:VEVENT
DTSTART;TZID=Europe/Berlin:20160229T180000
DTEND;TZID=Europe/Berlin:20160229T190000
DTSTAMP:20260420T083954
CREATED:20160419T102240Z
LAST-MODIFIED:20160419T102240Z
UID:10002211-1456768800-1456772400@www.virtuelle-ph.at
SUMMARY:ZLS eLecture: Pädagogisches Argumentarium zu NMS-relevanten Themen
DESCRIPTION:Im Auftrag der NMS-Leitung im BMBWFF und in Abstimmung mit der NMS-Bundessteuergruppe wurde vom ZLS ein pädagogisches Argumentarium zu NMS-relevanten Themen erstellt\, das allen Schulstandorten zugänglich gemacht wurde. Das Argumentarium möchte als Gesprächs- und Diskursgrundlage verstanden werden\, als sachliche Information und als Grundlage für den Umgang mit Widerstand. \n\n			\n				\n			\n			Teilnahmekriterien & Info\n		 \n		\n			Lernziele\n		 \n		\n			Voraussetzungen\n		\n		 \n		\n			\n				\n					\n			Technische Voraussetzungen: Grundlegende Computerkenntnisse\, gute Internetverbindung\, empfehlenswert: Headset. \nBitte finden Sie sich etwa 10 Minuten vor Start der eLecture im virtuellen Seminarraum unter diesem Link ein:  proj.adobeconnect.com/zls/  \nWichtige Hinweise zum Besuch einer eLecture unter: www.virtuelle-ph.at/electures-info \nÜber diesen Link können Sie testen\, ob Ihr Computer optimal für den eLectures-Besuch vorbereitet ist\, und vorgeschlagene Aktualisierungen vornehmen: admin.adobeconnect.com/common/help/de/support/meeting_test.htm \nWenn Sie ein Headset besitzen\, stecken Sie es bitte an bevor Sie den Adobe Connect-Raum betreten. \nDie Teilnahme an allen eLectures der Virtuellen PH ist für österreichische Lehrkräfte und Studierende eines Lehramts kostenlos.\n		 \n		\n			Sachlich entlang der Evidenzen und gesetzlichen Grundlagen zu NMS-Themen argumentieren.
URL:https://www.virtuelle-ph.at/veranstaltung/zls-electure-paedagogisches-argumentarium-zu-nms-relevanten-themen/
CATEGORIES:eLecture
END:VEVENT
BEGIN:VEVENT
DTSTART;TZID=Europe/Berlin:20160225T163000
DTEND;TZID=Europe/Berlin:20160225T173000
DTSTAMP:20260420T083954
CREATED:20160419T102201Z
LAST-MODIFIED:20160419T102201Z
UID:10002204-1456417800-1456421400@www.virtuelle-ph.at
SUMMARY:ZLS eLecture: Leistungs-Beurteilungs-Praxis: Was gehört zu einem Benotungsmodell?
DESCRIPTION:Beurteilung und Leistung in Relation setzen\, den Leistungsbeurteilung ist ein vielschichtiger und komplexer Prozess: Es gilt zu klären\, was als Leistung bezeichnet wird\, wie eine lernförderliche Rückmeldekultur wirksam werden kann\, welche Elemente ein transparentes Benotungsmodell hat und wie die Lernenden zu einer fairen\, rechtskonformen Beurteilung kommen. Und wie der jeweilige derzeitige Praxisbegriff das Tun prägt! \n\n			\n				\n			\n			Teilnahmekriterien & Info\n		 \n		\n			Lernziele\n		 \n		\n			Voraussetzungen\n		\n		 \n		\n			\n				\n					\n			Technische Voraussetzungen: Grundlegende Computerkenntnisse\, gute Internetverbindung\, empfehlenswert: Headset. \nBitte finden Sie sich etwa 10 Minuten vor Start der eLecture im virtuellen Seminarraum unter diesem Link ein:  proj.adobeconnect.com/zls/  \nWichtige Hinweise zum Besuch einer eLecture unter: www.virtuelle-ph.at/electures-info \nÜber diesen Link können Sie testen\, ob Ihr Computer optimal für den eLectures-Besuch vorbereitet ist\, und vorgeschlagene Aktualisierungen vornehmen: admin.adobeconnect.com/common/help/de/support/meeting_test.htm \nWenn Sie ein Headset besitzen\, stecken Sie es bitte an bevor Sie den Adobe Connect-Raum betreten. \nDie Teilnahme an allen eLectures der Virtuellen PH ist für österreichische Lehrkräfte und Studierende eines Lehramts kostenlos.\n		 \n		\n			Beurteilung und Leistung in Relation setzen\, den subjektiven Praxisbegriff beleuchten\, die Elemente des NMS-Benotungsmodells kennenlernen
URL:https://www.virtuelle-ph.at/veranstaltung/zls-electure-leistungs-beurteilungs-praxis-was-gehoert-zu-einem-benotungsmodell/
CATEGORIES:eLecture
END:VEVENT
END:VCALENDAR