BEGIN:VCALENDAR
VERSION:2.0
PRODID:-//Virtuelle PH - ECPv6.6.4.2//NONSGML v1.0//EN
CALSCALE:GREGORIAN
METHOD:PUBLISH
X-WR-CALNAME:Virtuelle PH
X-ORIGINAL-URL:https://www.virtuelle-ph.at
X-WR-CALDESC:Veranstaltungen für Virtuelle PH
REFRESH-INTERVAL;VALUE=DURATION:PT1H
X-Robots-Tag:noindex
X-PUBLISHED-TTL:PT1H
BEGIN:VTIMEZONE
TZID:Europe/Berlin
BEGIN:DAYLIGHT
TZOFFSETFROM:+0100
TZOFFSETTO:+0200
TZNAME:CEST
DTSTART:20170326T010000
END:DAYLIGHT
BEGIN:STANDARD
TZOFFSETFROM:+0200
TZOFFSETTO:+0100
TZNAME:CET
DTSTART:20171029T010000
END:STANDARD
END:VTIMEZONE
BEGIN:VEVENT
DTSTART;VALUE=DATE:20170424
DTEND;VALUE=DATE:20170522
DTSTAMP:20260420T155328
CREATED:20170227T152806Z
LAST-MODIFIED:20170423T033443Z
UID:10002501-1492992000-1495411199@www.virtuelle-ph.at
SUMMARY:Joomla! kennenlernen
DESCRIPTION:Die Gestaltung und Aktualisierung einer Website ist für Schulen ein unverzichtbarer Bestandteil der Öffentlichkeitsarbeit\, wobei man sich aber durch moderne Content-Management-Systeme (CMS) wie Joomla unterstützen lassen kann. Joomla bietet zahlreiche vorgefertigte Designs\, vielfältige Erweiterungsmöglichkeiten und darüber hinaus die Möglichkeit\, mit mehreren Kolleg/innen gemeinsam das „Projekt Schulwebsite“ umzusetzen. In diesem Einsteiger/innen-Seminar wird ein vorinstalliertes Joomla bereitgestellt und innerhalb von 4 Wochen Schritt für Schritt erklärt\, wie Sie mit Joomla eine Website aktualisieren\, verwalten und erweitern können. \nSchwerpunkte sind: \n•	Funktionsweise und Aufbau des CMS Joomla\n•	Beiträge\, Texte und Fotos einfügen\n•	Die Webseite mit Menüs und Kategorien strukturieren\n•	Den Funktionsumfang mit Modulen und Designs erweitern\nHinweise: \n•	Zum erfolgreichen Abschluss des Online-Seminars müssen insgesamt mind. 75% der zu erledigenden Aufgaben erfüllt werden.\n•	Die Installation von Joomla sowie individuelle Designanpassungen werden aus Zeitgründen nur ansatzweise behandelt. \nwww.virtuelle-ph.at/online-seminare \n\n			\n				\n			\n			Teilnahmekriterien & Info\n		 \n		\n			Lernziele\n		 \n		\n			Voraussetzungen\n		\n		 \n		\n			\n				\n					\n			Die Teilnahme an allen im Rahmen des des Onlineprogramms angebotenen Online-Seminaren der Virtuellen PH ist für österreichische Lehrkräfte und Studierende eines Lehramts kostenlos. Die Seminarplätze werden nach dem Prinzip first come\, first served – also chronologisch nach dem Zeitpunkt Ihrer Seminarbuchung über PH-Online – vergeben. Bis Mittwoch vor Beginn des jeweiligen Online-Seminars können Sie über PH-Online Ihr gebuchtes Online-Seminar selber kostenlos stornieren. Für ein allfälliges Storno zu einem späteren Zeitpunkt wenden Sie sich bitte an: info@virtuelle-ph.at\n		 \n		\n			Struktur und Aufbau einer Schulwebsite planen. Bedienung und Administration des CMS Joomla kennenlernen.\n		 \n		\n			Grundlegende Computer- und Internetkenntnisse.
URL:https://www.virtuelle-ph.at/veranstaltung/joomla-kennenlernen-3/
CATEGORIES:Online-Programm Frühjahrsprogramm,Online-Seminar
END:VEVENT
END:VCALENDAR