BEGIN:VCALENDAR
VERSION:2.0
PRODID:-//Virtuelle PH - ECPv6.6.4.2//NONSGML v1.0//EN
CALSCALE:GREGORIAN
METHOD:PUBLISH
X-WR-CALNAME:Virtuelle PH
X-ORIGINAL-URL:https://www.virtuelle-ph.at
X-WR-CALDESC:Veranstaltungen für Virtuelle PH
REFRESH-INTERVAL;VALUE=DURATION:PT1H
X-Robots-Tag:noindex
X-PUBLISHED-TTL:PT1H
BEGIN:VTIMEZONE
TZID:Europe/Vienna
BEGIN:DAYLIGHT
TZOFFSETFROM:+0100
TZOFFSETTO:+0200
TZNAME:CEST
DTSTART:20210328T010000
END:DAYLIGHT
BEGIN:STANDARD
TZOFFSETFROM:+0200
TZOFFSETTO:+0100
TZNAME:CET
DTSTART:20211031T010000
END:STANDARD
END:VTIMEZONE
BEGIN:VEVENT
DTSTART;TZID=Europe/Vienna:20211108T170000
DTEND;TZID=Europe/Vienna:20211108T183000
DTSTAMP:20260420T152240
CREATED:20210705T095352Z
LAST-MODIFIED:20211109T081823Z
UID:10003908-1636390800-1636396200@www.virtuelle-ph.at
SUMMARY:iPad Inspiration Series -  Bild & Ton
DESCRIPTION:Keine Aufzeichnung\n    \n\n						Lernen Sie die Basics kennen und bringen Sie Ihren Unterricht auf ein neues Level!\nNutzen Sie das Tonstudio in der Tasche und produzieren Sie eigene Musik\, Sprachaufnahmen oder ganze Hörbücher! Interviews lassen sich so nicht nur aufzeichnen\, sondern auch mit Bildern dokumentieren. \n——————————-\nDiese eLecture ist Teil der iPad eLecture-Reihe der Virtuellen PH in Kooperation  mit der PH Linz im Herbst 2021. Alle Infos hier:\nwww.virtuelle-ph.at/online-angebot/ipad-inspiration-series \nCoModeration: Gerlinde Schwabl \n\nExpert_in: Thomas Wimmer\, Christoph Wallner \n\n\n			\n				\n			\n			Teilnahmekriterien & Info\n		 \n		\n			Lernziele\n		 \n		\n			Voraussetzungen\n		\n		 \n		\n			\n				\n					\n			So treten Sie der Veranstaltung im virtuellen Lernraum bei: \n1. Rufen Sie 5 min vor Terminstart den Link zum Virtuellen Lernraum auf: \nzoom.us/my/virtuelleph.electureeins \n2. Geben Sie bitte Ihren vollen Namen ein und klicken Sie den Button „Einem Meeting Beitreten“.                              \n3. Klicken Sie den grünen Button „Per Computer dem Audio beitreten“ an. \nDas bewirkt\, dass Sie uns hören und sehen können. Sie werden in Kürze eingelassen. \nDie Teilnahme an allen eLectures der Virtuellen PH ist für österreichische Hochschullehrende\, Lehrkräfte und Studierende eines Lehramts kostenlos.\n		 \n		\n			Die Teilnehmer*innen \n# lernen die App Sprachmemos und die Bearbeitungsmöglichkeiten kennen \n# lernen Aufnahmefunktionen in der App GarageBand kennen und erstellen z.B. ein Interview\, ein kleines Hörspiel\, einen Podcast\,… \n# werden mit vielen praktischen Unterrichtsbeispielen inspiriert
URL:https://www.virtuelle-ph.at/veranstaltung/ipad-inspiration-series-bild-ton/
CATEGORIES:eLecture,Reihe iPad2122
END:VEVENT
END:VCALENDAR