BEGIN:VCALENDAR
VERSION:2.0
PRODID:-//Virtuelle PH - ECPv6.6.4.2//NONSGML v1.0//EN
CALSCALE:GREGORIAN
METHOD:PUBLISH
X-ORIGINAL-URL:https://www.virtuelle-ph.at
X-WR-CALDESC:Veranstaltungen für Virtuelle PH
REFRESH-INTERVAL;VALUE=DURATION:PT1H
X-Robots-Tag:noindex
X-PUBLISHED-TTL:PT1H
BEGIN:VTIMEZONE
TZID:Europe/Berlin
BEGIN:DAYLIGHT
TZOFFSETFROM:+0100
TZOFFSETTO:+0200
TZNAME:CEST
DTSTART:20200329T010000
END:DAYLIGHT
BEGIN:STANDARD
TZOFFSETFROM:+0200
TZOFFSETTO:+0100
TZNAME:CET
DTSTART:20201025T010000
END:STANDARD
END:VTIMEZONE
BEGIN:VEVENT
DTSTART;TZID=Europe/Berlin:20200331T173000
DTEND;TZID=Europe/Berlin:20200331T180000
DTSTAMP:20260420T062818
CREATED:20200210T102225Z
LAST-MODIFIED:20200401T075056Z
UID:10003517-1585675800-1585677600@www.virtuelle-ph.at
SUMMARY:eLecture digiPH3: Digitales Lernlabor –  digitale Medien praxisnah kennenlernen
DESCRIPTION:zur Aufzeichnung\n\n\n						Neben Rechnen\, Schreiben und Lesen sollen Schüler*innen heutzutage einen sicheren und kompetenten Umgang mit digitalen Medien erlernen. Dafür müssen auch Lehrer*innen über Medienkompetenz verfügen und entsprechende didaktische Konzepte kennen. Um diese Fähigkeiten bei Lehramtsstudierenden auszubilden\, wird an der Martin-Luther-Universität in Halle gerade ein digitales Lernlabor eingerichtet.  \n\nDas frei zugängliche Lernlabor ist mit verschiedenen digitalen Medien ausgestattet und möchte durch seinen Werkstattcharakter sowohl Studierende als auch Lehrende dazu einladen\, selbst aktiv zu werden und sich mit digitalen Medien auf produktive und konstruktive Weise auseinandersetzen.  \n\nClaudia Lutsch ist wissenschaftliche Mitarbeiterin in der Initiative Lehramt@digital an der Martin-Luther-Universität Halle-Wittenberg. Sie unterstützt Dozierende beim Einsatz digitaler Medien und hält Seminare für Studierende zu verschiedenen Themen rund um digitale Bildung. Ihre Arbeitsschwerpunkte sind digitale Medien\, Kompetenzerwerb mit digitalen Medien\, Social Media im Unterricht und digitale Bildung für nachhaltige Entwicklung. \n\nIm Webinar wird das Konzept des digitalen Lernlabors näher erläutert und der Aufbau sowie die Ausstattung beschrieben. Außerdem werden Ausschnitte aus den bereits erstellten Materialien gezeigt und die verschiedenen Nutzungsmöglichkeiten des Lernorts aufgezeigt.  \n\nDiese eLecutre ist für Sie geeignet\, wenn Sie  \n– Anregungen zur digitalen Kompetenzförderung von Lehramtsstudierenden suchen \n– wissen wollen\, wie man ein digitales Lernlabor aufbaut \n\nCoModeration: Thomas Winkler \n\n			\n				\n			\n			Teilnahmekriterien & Info\n		 \n		\n			Lernziele\n		 \n		\n			Voraussetzungen\n		\n		 \n		\n			\n				\n					\n			Technische Voraussetzungen: Grundlegende Computerkenntnisse\, gute Internetverbindung; optional: Headset.  \nSo treten Sie der eLecture im virtuellen Lernraum bei:  \n1. Rufen Sie 10 min vor Terminstart folgende Seite auf:  \nvph.adobeconnect.com/digiph2/ \n2. Geben Sie bitte Ihren Vor- und Nachnamen ein und „Betreten Sie den Raum“ mit Klick auf den Button. \n3. Folgen Sie den Anweisungen auf dem Bildschirm. Sie werden in Kürze eingelassen. \nWenn Sie noch an keiner eLecture teilgenommen haben\, finden Sie alle Infos zum Einstieg unter: www.virtuelle-ph.at/electures/#einstieg \nDie Teilnahme an allen eLectures der Virtuellen PH ist für österreichische Lehrkräfte und Studierende eines Lehramts kostenlos.\n		 \n		\n			Die Teilnehmenden lernen das digitale Lernlabor kennen / lernen didaktische Settings zur Kompetenzförderung im Umgang mit digitalen Medien kennen
URL:https://www.virtuelle-ph.at/veranstaltung/electure-digiph3-digitales-lernlabor-digitale-medien-praxisnah-kennenlernen/
CATEGORIES:eLecture,Online-Tagung digiPH3 EL
ATTACH;FMTTYPE=image/png:https://www.virtuelle-ph.at/wp-content/uploads/2020/02/Lutsch-digiph3-fb.png
END:VEVENT
END:VCALENDAR