BEGIN:VCALENDAR
VERSION:2.0
PRODID:-//Virtuelle PH - ECPv6.6.4.2//NONSGML v1.0//EN
CALSCALE:GREGORIAN
METHOD:PUBLISH
X-ORIGINAL-URL:https://www.virtuelle-ph.at
X-WR-CALDESC:Veranstaltungen für Virtuelle PH
REFRESH-INTERVAL;VALUE=DURATION:PT1H
X-Robots-Tag:noindex
X-PUBLISHED-TTL:PT1H
BEGIN:VTIMEZONE
TZID:Europe/Berlin
BEGIN:DAYLIGHT
TZOFFSETFROM:+0100
TZOFFSETTO:+0200
TZNAME:CEST
DTSTART:20200329T010000
END:DAYLIGHT
BEGIN:STANDARD
TZOFFSETFROM:+0200
TZOFFSETTO:+0100
TZNAME:CET
DTSTART:20201025T010000
END:STANDARD
END:VTIMEZONE
BEGIN:VEVENT
DTSTART;VALUE=DATE:20201123
DTEND;VALUE=DATE:20201214
DTSTAMP:20260420T000522
CREATED:20201120T033012Z
LAST-MODIFIED:20201122T033029Z
UID:10003420-1606089600-1607903999@www.virtuelle-ph.at
SUMMARY:Can you dig it? Digitale Lernwelten erstellen
DESCRIPTION:Zur Anmeldung\n						\n\n						In Zeiten der App-Paraden\, Toolshows und des technologischen Determinismus wird es immer wichtiger\, mehr das kollaborative und konstruktivistische Scaffolding und weniger das instruktivistisch-behavioristische Drill-Pattern in den Vordergrund zu stellen. Dieses Online-Seminar versteht sich als didaktischer Katalysator für digitale/blended Lern-/Lehrszenarien. \nDie inhaltlichen Kernthemen sind\n– Einführung in die Online-Didaktik\n– digitale Materialerstellung (OERs und barrierefreie Universal Design-Prinzipien)\n– digital-gestütztes\, selbstgesteuertes und kollaboratives Arbeiten \nPraxisnahe Aufgabenstellungen lassen Sie Ihre Umsetzungsideen in der Seminargruppe ausprobieren. Dabei werden Sie von einer/einem erfahrenen Trainer_in unterstützt und erhalten laufend Feedback – sowohl durch Trainer_in als auch durch die Gruppe.  \nWichtiger Hinweis: Diese kooperative Online-Seminar wird als Intensivkurs geführt. Der Arbeitsaufwand beträgt pro Werktag 1\,5-2 Stunden\, die innerhalb des Werktags frei einteilbar sind.  \n\nExpert_in: Claudia OvrutckiSusanne Hosek \n\n\n			\n				\n			\n			Teilnahmekriterien & Info\n		 \n		\n			Lernziele\n		 \n		\n			Voraussetzungen\n		\n		 \n		\n			\n				\n					\n			Die Teilnahme an allen im Rahmen des Onlineprogramms angebotenen Online-Seminaren der Virtuellen PH ist für österreichische Lehrkräfte und Studierende eines Lehramts kostenlos. Die Seminarplätze werden nach dem Prinzip first come\, first served – also chronologisch nach dem Zeitpunkt Ihrer Seminarbuchung über PH-Online – vergeben. Bis Mittwoch vor Beginn des jeweiligen Online-Seminars können Sie über PH-Online Ihr gebuchtes Online-Seminar selber kostenlos stornieren. Für ein allfälliges Storno zu einem späteren Zeitpunkt wenden Sie sich bitte an: info@virtuelle-ph.at\n		 \n		\n			Die Teilnehmer_innen beschäftigen sich mit den Grundlagen einer digitalen Didaktik und mit Themen aus der digitalen Grundbildung. Sie identifizieren Best Practice Beispiele und wenden die Konzepte im Unterricht an.
URL:https://www.virtuelle-ph.at/veranstaltung/can-you-dig-it-digitale-lernwelten-erstellen-4/
CATEGORIES:Online-Programm HerbstWinterprogramm,Online-Seminar
END:VEVENT
BEGIN:VEVENT
DTSTART;VALUE=DATE:20201123
DTEND;VALUE=DATE:20201214
DTSTAMP:20260420T000522
CREATED:20201120T033012Z
LAST-MODIFIED:20201122T033034Z
UID:10003423-1606089600-1607903999@www.virtuelle-ph.at
SUMMARY:Can you dig it? Digitale Lernwelten erstellen
DESCRIPTION:Zur Anmeldung\n						\n\n						In Zeiten der App-Paraden\, Toolshows und des technologischen Determinismus wird es immer wichtiger\, mehr das kollaborative und konstruktivistische Scaffolding und weniger das instruktivistisch-behavioristische Drill-Pattern in den Vordergrund zu stellen. Dieses Online-Seminar versteht sich als didaktischer Katalysator für digitale/blended Lern-/Lehrszenarien. \nDie inhaltlichen Kernthemen sind\n– Einführung in die Online-Didaktik\n– digitale Materialerstellung (OERs und barrierefreie Universal Design-Prinzipien)\n– digital-gestütztes\, selbstgesteuertes und kollaboratives Arbeiten \nPraxisnahe Aufgabenstellungen lassen Sie Ihre Umsetzungsideen in der Seminargruppe ausprobieren. Dabei werden Sie von einer/einem erfahrenen Trainer_in unterstützt und erhalten laufend Feedback – sowohl durch Trainer_in als auch durch die Gruppe.  \nWichtiger Hinweis: Diese kooperative Online-Seminar wird als Intensivkurs geführt. Der Arbeitsaufwand beträgt pro Werktag 1\,5-2 Stunden\, die innerhalb des Werktags frei einteilbar sind.  \n\nExpert_in: Claudia OvrutckiSusanne Hosek \n\n\n			\n				\n			\n			Teilnahmekriterien & Info\n		 \n		\n			Lernziele\n		 \n		\n			Voraussetzungen\n		\n		 \n		\n			\n				\n					\n			Die Teilnahme an allen im Rahmen des Onlineprogramms angebotenen Online-Seminaren der Virtuellen PH ist für österreichische Lehrkräfte und Studierende eines Lehramts kostenlos. Die Seminarplätze werden nach dem Prinzip first come\, first served – also chronologisch nach dem Zeitpunkt Ihrer Seminarbuchung über PH-Online – vergeben. Bis Mittwoch vor Beginn des jeweiligen Online-Seminars können Sie über PH-Online Ihr gebuchtes Online-Seminar selber kostenlos stornieren. Für ein allfälliges Storno zu einem späteren Zeitpunkt wenden Sie sich bitte an: info@virtuelle-ph.at\n		 \n		\n			Die Teilnehmer_innen beschäftigen sich mit den Grundlagen einer digitalen Didaktik und mit Themen aus der digitalen Grundbildung. Sie identifizieren Best Practice Beispiele und wenden die Konzepte im Unterricht an.
URL:https://www.virtuelle-ph.at/veranstaltung/can-you-dig-it-digitale-lernwelten-erstellen-5/
CATEGORIES:Online-Programm HerbstWinterprogramm,Online-Seminar
END:VEVENT
BEGIN:VEVENT
DTSTART;VALUE=DATE:20201123
DTEND;VALUE=DATE:20201214
DTSTAMP:20260420T000522
CREATED:20200921T091917Z
LAST-MODIFIED:20201122T033056Z
UID:10003800-1606089600-1607903999@www.virtuelle-ph.at
SUMMARY:Can you dig it? Digitale Lernwelten erstellen
DESCRIPTION:Zur Anmeldung\n						\n\n						In Zeiten der App-Paraden\, Toolshows und des technologischen Determinismus wird es immer wichtiger\, mehr das kollaborative und konstruktivistische Scaffolding und weniger das instruktivistisch-behavioristische Drill-Pattern in den Vordergrund zu stellen. Dieses Online-Seminar versteht sich als didaktischer Katalysator für digitale/blended Lern-/Lehrszenarien. \nDie inhaltlichen Kernthemen sind\n– Einführung in die Online-Didaktik\n– digitale Materialerstellung (OERs und barrierefreie Universal Design-Prinzipien)\n– digital-gestütztes\, selbstgesteuertes und kollaboratives Arbeiten \nPraxisnahe Aufgabenstellungen lassen Sie Ihre Umsetzungsideen in der Seminargruppe ausprobieren. Dabei werden Sie von einer/einem erfahrenen Trainer_in unterstützt und erhalten laufend Feedback – sowohl durch Trainer_in als auch durch die Gruppe.  \nWichtiger Hinweis: Diese kooperative Online-Seminar wird als Intensivkurs geführt. Der Arbeitsaufwand beträgt pro Werktag 1\,5-2 Stunden\, die innerhalb des Werktags frei einteilbar sind.  \n\nExpert_in: Claudia OvrutckiSusanne Hosek \n\n\n			\n				\n			\n			Teilnahmekriterien & Info\n		 \n		\n			Lernziele\n		 \n		\n			Voraussetzungen\n		\n		 \n		\n			\n				\n					\n			Die Teilnahme an allen im Rahmen des Onlineprogramms angebotenen Online-Seminaren der Virtuellen PH ist für österreichische Lehrkräfte und Studierende eines Lehramts kostenlos. Die Seminarplätze werden nach dem Prinzip first come\, first served – also chronologisch nach dem Zeitpunkt Ihrer Seminarbuchung über PH-Online – vergeben. Bis Mittwoch vor Beginn des jeweiligen Online-Seminars können Sie über PH-Online Ihr gebuchtes Online-Seminar selber kostenlos stornieren. Für ein allfälliges Storno zu einem späteren Zeitpunkt wenden Sie sich bitte an: info@virtuelle-ph.at\n		 \n		\n			Die Teilnehmer_innen beschäftigen sich mit den Grundlagen einer digitalen Didaktik und mit Themen aus der digitalen Grundbildung. Sie identifizieren Best Practice Beispiele und wenden die Konzepte im Unterricht an.
URL:https://www.virtuelle-ph.at/veranstaltung/can-you-dig-it-digitale-lernwelten-erstellen-3/
CATEGORIES:Online-Programm HerbstWinterprogramm,Online-Seminar
END:VEVENT
END:VCALENDAR