BEGIN:VCALENDAR
VERSION:2.0
PRODID:-//Virtuelle PH - ECPv6.6.4.2//NONSGML v1.0//EN
CALSCALE:GREGORIAN
METHOD:PUBLISH
X-WR-CALNAME:Virtuelle PH
X-ORIGINAL-URL:https://www.virtuelle-ph.at
X-WR-CALDESC:Veranstaltungen für Virtuelle PH
REFRESH-INTERVAL;VALUE=DURATION:PT1H
X-Robots-Tag:noindex
X-PUBLISHED-TTL:PT1H
BEGIN:VTIMEZONE
TZID:Europe/Vienna
BEGIN:DAYLIGHT
TZOFFSETFROM:+0100
TZOFFSETTO:+0200
TZNAME:CEST
DTSTART:20230326T010000
END:DAYLIGHT
BEGIN:STANDARD
TZOFFSETFROM:+0200
TZOFFSETTO:+0100
TZNAME:CET
DTSTART:20231029T010000
END:STANDARD
BEGIN:DAYLIGHT
TZOFFSETFROM:+0100
TZOFFSETTO:+0200
TZNAME:CEST
DTSTART:20240331T010000
END:DAYLIGHT
BEGIN:STANDARD
TZOFFSETFROM:+0200
TZOFFSETTO:+0100
TZNAME:CET
DTSTART:20241027T010000
END:STANDARD
END:VTIMEZONE
BEGIN:VEVENT
DTSTART;VALUE=DATE:20240614
DTEND;VALUE=DATE:20240615
DTSTAMP:20260420T040832
CREATED:20240615T033005Z
LAST-MODIFIED:20240615T033005Z
UID:10005281-1718323200-1718409599@www.virtuelle-ph.at
SUMMARY:Betreuung eLectures
DESCRIPTION:Zur Anmeldung\n						\n\n						Betreuung eLectures \n\nExpert_in: Claudia Schneider \n\n\n			\n				\n			\n			Teilnahmekriterien & Info\n		 \n		\n			Lernziele\n		 \n		\n			Voraussetzungen\n		\n		 \n		\n			\n				\n					\n			\n		 \n		\n			Betreuung eLectures
URL:https://www.virtuelle-ph.at/veranstaltung/betreuung-electures-2/
CATEGORIES:Online-Seminar
END:VEVENT
BEGIN:VEVENT
DTSTART;VALUE=DATE:20240614
DTEND;VALUE=DATE:20240615
DTSTAMP:20260420T040832
CREATED:20231130T033019Z
LAST-MODIFIED:20240613T033001Z
UID:10004754-1718323200-1718409599@www.virtuelle-ph.at
SUMMARY:Betreuung eLectures
DESCRIPTION:Zur Anmeldung\n						\n\n						Betreuung eLectures \n\nExpert_in: Claudia Schneider \n\n\n			\n				\n			\n			Teilnahmekriterien & Info\n		 \n		\n			Lernziele\n		 \n		\n			Voraussetzungen\n		\n		 \n		\n			\n				\n					\n			\n		 \n		\n			Betreuung eLectures
URL:https://www.virtuelle-ph.at/veranstaltung/betreuung-electures/
CATEGORIES:Online-Seminar
END:VEVENT
BEGIN:VEVENT
DTSTART;TZID=Europe/Vienna:20231116T170000
DTEND;TZID=Europe/Vienna:20231116T183000
DTSTAMP:20260420T040832
CREATED:20231117T033034Z
LAST-MODIFIED:20231117T033034Z
UID:10004740-1700154000-1700159400@www.virtuelle-ph.at
SUMMARY:eLecture: Bewerten mit eduvidual.at
DESCRIPTION:Zur Anmeldung \n\n						Zum virtuellen Lernraum\n						\n\n						eduvidual.at ermöglicht über die Bewertungsübersicht und den darin enthaltenen Einstellungsmöglichkeiten ein praktisches Tool\, um Bewertungen verschiedenster Aktivitäten zu einem Notenvorschlag zusammenzufassen. \nSandra Janisch ist Lehrerin für Chemie\, Physik und Informatik und leitet das Zentrum für Lernmanagement (eduvidual.at). \nIn dieser eLecture lernen Sie die Grundeinstellungen der Bewertungsmöglichkeiten auf eduvidual.at kennen\, um diese für Ihre eigenen Kursen nutzen zu können. \nDiese eLecture ist für Sie interessant\, wenn\n– Sie Ihr Wissen zu eduvidual auffrischen bzw. erweitern möchten\n– Sie Ihre Bewertungen gesammelt an einem Ort mit eduvidual.at abwickeln wollen \nCoModeration: Claudia Schneider \n\nExpert_in: Sandra Janisch\, Claudia Schneider \n\n\n			\n				\n			\n			Teilnahmekriterien & Info\n		 \n		\n			Lernziele\n		 \n		\n			Voraussetzungen\n		\n		 \n		\n			\n				\n					\n			So treten Sie der Veranstaltung im virtuellen Lernraum bei: \n1. Rufen Sie 5 min vor Terminstart den Link zum Virtuellen Lernraum auf: \nvirtuelle-ph-at.zoom.us/my/electures \n2. Geben Sie bitte Ihren vollen Namen ein und klicken Sie den Button „Einem Meeting Beitreten“.                              \n3. Klicken Sie den grünen Button „Per Computer dem Audio beitreten“ an. \nDas bewirkt\, dass Sie uns hören und sehen können. Sie werden in Kürze eingelassen. \nDie Teilnahme an allen eLectures der Virtuellen PH ist für österreichische Hochschullehrende\, Lehrkräfte und Studierende eines Lehramts kostenlos.\n		 \n		\n			Bewertungen auf eduvidual.at eingeben\, gewichten und zu einem Notenvorschlag zusammenfassen\nBewertungen den SuS jederzeit zugänglich machen
URL:https://www.virtuelle-ph.at/veranstaltung/electure-bewerten-mit-eduvidual-at-3/
CATEGORIES:eLecture,Reihe eduvidual
END:VEVENT
BEGIN:VEVENT
DTSTART;TZID=Europe/Vienna:20231019T170000
DTEND;TZID=Europe/Vienna:20231019T180000
DTSTAMP:20260420T040832
CREATED:20231020T131235Z
LAST-MODIFIED:20231020T131235Z
UID:10004703-1697734800-1697738400@www.virtuelle-ph.at
SUMMARY:eLecture: Quizze und den zentralen Fragenpool auf eduvidual.at verwenden
DESCRIPTION:Zur Anmeldung \n\n						Zum virtuellen Lernraum\n						\n\n						Quizze sind ein abwechslungsreiches Übungsmaterial\, da sie mit selbst erstellten Fragen oder aus einer Auswahl von schon erprobten (Zufalls-)Fragen zusammengestellt werden können. \nSandra Janisch ist Lehrerein für Chemie\, Physik und Informatik und leitet das Zentrum für Lernmanagement (eduvidual.at). \nDiese eLecture bietet einen Überblick über die gängigsten Fragetypen\, die auf eduvidual.at verwendbar sind und auch einen Einblick in den OER-Fragepool\, der laufend ausgebaut wird. \nDiese eLecture ist für Sie interessant\, wenn\n– Sie abwechslungsreiches Übungsmaterial\, das sich „selbst korrigiert“ erstellen bzw. verwenden möchten\n– Sie bereits erste Erfahrungewn mit eduvidual.at gesammelt haben \nCoModeration: Claudia Schneider \n\nExpert_in: Claudia Schneider\, Sandra Janisch \n\n\n			\n				\n			\n			Teilnahmekriterien & Info\n		 \n		\n			Lernziele\n		 \n		\n			Voraussetzungen\n		\n		 \n		\n			\n				\n					\n			So treten Sie der Veranstaltung im virtuellen Lernraum bei: \n1. Rufen Sie 5 min vor Terminstart den Link zum Virtuellen Lernraum auf: \nvirtuelle-ph-at.zoom.us/my/electures \n2. Geben Sie bitte Ihren vollen Namen ein und klicken Sie den Button „Einem Meeting Beitreten“.                              \n3. Klicken Sie den grünen Button „Per Computer dem Audio beitreten“ an. \nDas bewirkt\, dass Sie uns hören und sehen können. Sie werden in Kürze eingelassen. \nDie Teilnahme an allen eLectures der Virtuellen PH ist für österreichische Hochschullehrende\, Lehrkräfte und Studierende eines Lehramts kostenlos.\n		 \n		\n			Quizze auf eduvidual.at anlegen können\neigene Fragen erstellen können\nFragen aus dem Fragenpool verwenden können\nZufallsfragen im Quiz einfügen können
URL:https://www.virtuelle-ph.at/veranstaltung/electure-quizze-und-den-zentralen-fragenpool-auf-eduvidual-at-verwenden-3/
CATEGORIES:eLecture,Reihe eduvidual
END:VEVENT
BEGIN:VEVENT
DTSTART;TZID=Europe/Vienna:20231019T170000
DTEND;TZID=Europe/Vienna:20231019T180000
DTSTAMP:20260420T040832
CREATED:20231020T033028Z
LAST-MODIFIED:20231020T033028Z
UID:10004697-1697734800-1697738400@www.virtuelle-ph.at
SUMMARY:eLecture: Quizze und den zentralen Fragenpool auf eduvidual.at verwenden
DESCRIPTION:Zur Anmeldung \n\n						Zum virtuellen Lernraum\n						\n\n						Quizze sind ein abwechslungsreiches Übungsmaterial\, da sie mit selbst erstellten Fragen oder aus einer Auswahl von schon erprobten (Zufalls-)Fragen zusammengestellt werden können. \nSandra Janisch ist Lehrerein für Chemie\, Physik und Informatik und leitet das Zentrum für Lernmanagement (eduvidual.at). \nDiese eLecture bietet einen Überblick über die gängigsten Fragetypen\, die auf eduvidual.at verwendbar sind und auch einen Einblick in den OER-Fragepool\, der laufend ausgebaut wird. \nDiese eLecture ist für Sie interessant\, wenn\n– Sie abwechslungsreiches Übungsmaterial\, das sich „selbst korrigiert“ erstellen bzw. verwenden möchten\n– Sie bereits erste Erfahrungewn mit eduvidual.at gesammelt haben \nCoModeration: Claudia Schneider \n\nExpert_in: Claudia Schneider\, Sandra Janisch \n\n\n			\n				\n			\n			Teilnahmekriterien & Info\n		 \n		\n			Lernziele\n		 \n		\n			Voraussetzungen\n		\n		 \n		\n			\n				\n					\n			So treten Sie der Veranstaltung im virtuellen Lernraum bei: \n1. Rufen Sie 5 min vor Terminstart den Link zum Virtuellen Lernraum auf: \nvirtuelle-ph-at.zoom.us/my/electures \n2. Geben Sie bitte Ihren vollen Namen ein und klicken Sie den Button „Einem Meeting Beitreten“.                              \n3. Klicken Sie den grünen Button „Per Computer dem Audio beitreten“ an. \nDas bewirkt\, dass Sie uns hören und sehen können. Sie werden in Kürze eingelassen. \nDie Teilnahme an allen eLectures der Virtuellen PH ist für österreichische Hochschullehrende\, Lehrkräfte und Studierende eines Lehramts kostenlos.\n		 \n		\n			Quizze auf eduvidual.at anlegen können\neigene Fragen erstellen können\nFragen aus dem Fragenpool verwenden können\nZufallsfragen im Quiz einfügen können
URL:https://www.virtuelle-ph.at/veranstaltung/electure-quizze-und-den-zentralen-fragenpool-auf-eduvidual-at-verwenden-2/
CATEGORIES:eLecture,Reihe eduvidual
END:VEVENT
END:VCALENDAR