BEGIN:VCALENDAR
VERSION:2.0
PRODID:-//Virtuelle PH - ECPv6.6.4.2//NONSGML v1.0//EN
CALSCALE:GREGORIAN
METHOD:PUBLISH
X-WR-CALNAME:Virtuelle PH
X-ORIGINAL-URL:https://www.virtuelle-ph.at
X-WR-CALDESC:Veranstaltungen für Virtuelle PH
REFRESH-INTERVAL;VALUE=DURATION:PT1H
X-Robots-Tag:noindex
X-PUBLISHED-TTL:PT1H
BEGIN:VTIMEZONE
TZID:Europe/Berlin
BEGIN:DAYLIGHT
TZOFFSETFROM:+0100
TZOFFSETTO:+0200
TZNAME:CEST
DTSTART:20180325T010000
END:DAYLIGHT
BEGIN:STANDARD
TZOFFSETFROM:+0200
TZOFFSETTO:+0100
TZNAME:CET
DTSTART:20181028T010000
END:STANDARD
END:VTIMEZONE
BEGIN:VEVENT
DTSTART;TZID=Europe/Berlin:20181113T183000
DTEND;TZID=Europe/Berlin:20181113T193000
DTSTAMP:20260420T203749
CREATED:20181010T095423Z
LAST-MODIFIED:20181114T090530Z
UID:10003041-1542133800-1542137400@www.virtuelle-ph.at
SUMMARY:eLecture: Mein erstes E-Buch auf LMS
DESCRIPTION:zur Aufzeichnung\n\n\n						Diese eLecture vermittelt Grundkenntnisse zur Anlegung eines E-Buches. Sie erfahren\, wie man ein E-Buch erstellt\, wie man mit der LMS-Bibliothek arbeitet\, welche interaktiven und multimedialen Gestaltungsmöglichkeiten dafür bereit stehen und erkennen dadurch das E-Buch als Erweiterung bzw. Ergänzung des eigenen Unterrichts an.  \nDaniel Karacsonyi ist seit 2013 Lehrer für Mathematik\, Geografie/Wirtschaftskunde\, Physik\, Chemie und Informatik einer NMS und beschäftigt sich mit 2016 mit dem Thema „Unterrichtsentwicklung“. Hierbei liegt der Arbeitsschwerpunkt auf dem Bereich „Digitale Prüfungskultur“ sowie der Einbindung verschiedener multimedialer und interaktiver Tools für den digitalisierten Unterricht. \nDiese eLecture ist für Sie vor allem dann interessant\, wenn Sie noch wenig bzw. keine Vorkenntnisse im Bereich der LMS-Bibliothek\, sowie mit der Erstellung eines E-Buches haben. \nCoModeration: Thomas Winkler \n___________________________________ \nBei dieser eLecture handelt es sich um ein begleitetes OTA Praktikum.  \nMehr zur OTA unter www.virtuelle-ph.at/ota \n\n			\n				\n			\n			Teilnahmekriterien & Info\n		 \n		\n			Lernziele\n		 \n		\n			Voraussetzungen\n		\n		 \n		\n			\n				\n					\n			Technische Voraussetzungen: Grundlegende Computerkenntnisse\, gute Internetverbindung; optional: Headset. \nSo treten Sie der eLecture im virtuellen Lernraum bei:  \n1. Rufen Sie 10 min vor Terminstart folgende Seite auf:  \nvph.adobeconnect.com/zwei/ \n2. Geben Sie bitte Ihren Vor- und Nachnamen ein und „Betreten Sie den Raum“ mit Klick auf den Button. \n3. Folgen Sie den Anweisungen auf dem Bildschirm. Sie werden in Kürze eingelassen. \nWenn Sie noch an keiner eLecture teilgenommen haben\, finden Sie alle Infos zum Einstieg unter: www.virtuelle-ph.at/electures/#einstieg \nDie Teilnahme an allen eLectures der Virtuellen PH ist für österreichische Lehrkräfte und Studierende eines Lehramts kostenlos.\n		 \n		\n			Die Teilnehmer/innen …   \nlernen weitere Möglichkeiten der Anwendung der LMS-Bibliothek kennen.\nlernen\, wie ein eigenes E-Buch für den eigenen Unterricht auf LMS erstellt werden kann.\nerfahren\, wie Sie mithilfe verschiedener interaktiver und multimedialer Inhalte (Videos\, Apps\, ..) E-Bücher gestalten können.\nlernen und erkennen\, dass E-Bücher den  modernen Unterrichtsalltag sinnvoll ergänzen und erweitern.
URL:https://www.virtuelle-ph.at/veranstaltung/electure-mein-erstes-e-buch-auf-lms/
CATEGORIES:eLecture
END:VEVENT
END:VCALENDAR