BEGIN:VCALENDAR
VERSION:2.0
PRODID:-//Virtuelle PH - ECPv6.6.4.2//NONSGML v1.0//EN
CALSCALE:GREGORIAN
METHOD:PUBLISH
X-ORIGINAL-URL:https://www.virtuelle-ph.at
X-WR-CALDESC:Veranstaltungen für Virtuelle PH
REFRESH-INTERVAL;VALUE=DURATION:PT1H
X-Robots-Tag:noindex
X-PUBLISHED-TTL:PT1H
BEGIN:VTIMEZONE
TZID:Europe/Berlin
BEGIN:DAYLIGHT
TZOFFSETFROM:+0100
TZOFFSETTO:+0200
TZNAME:CEST
DTSTART:20170326T010000
END:DAYLIGHT
BEGIN:STANDARD
TZOFFSETFROM:+0200
TZOFFSETTO:+0100
TZNAME:CET
DTSTART:20171029T010000
END:STANDARD
END:VTIMEZONE
BEGIN:VEVENT
DTSTART;TZID=Europe/Berlin:20170126T170000
DTEND;TZID=Europe/Berlin:20170126T180000
DTSTAMP:20260420T070101
CREATED:20161218T174803Z
LAST-MODIFIED:20170125T083237Z
UID:10002423-1485450000-1485453600@www.virtuelle-ph.at
SUMMARY:LEIDER ABGESAGT: eLecture: Pimp your Moodle
DESCRIPTION:Experte: David Bogner\nCo-Moderation: Walter Fikisz \nEs bedeutet viel Arbeit\, anspruchsvolle Lernressourcen für eine Lernplattform zu erstellen. Um den Einstieg in das Unterrichten mit Moodle zu erleichtern und zu vermeiden\, dass es nur als Dateiablage genutzt wird\, werden in dieser eLecture Möglichkeiten gezeigt\, wie Sie fertige Lernressourcen einfach in Ihren Kurs einbinden können. Aber nicht nur Einsteiger_innen kommen auf ihre Rechnung. Auch erfahrene Nutzer_innen können diese Gelegenheit ergreifen\, um zu erfahren\, wie vorhandene Ressourcen für den eigenen Unterricht mit Moodle optimal nutzbar gemacht werden können. \nDavid Bogner ist erfahrener Moodle-Kursersteller und betreute viele Projekte zur Entwicklung von Open Educational Ressources. An der Virtuellen PH ist er verantwortlich für den Bereich Bildungsinnovation. \nDiese eLecture ist für Sie interessant wenn\n# Sie Moodle aktiv in Ihrem Unterricht verwenden oder zukünftig verwenden wollen\n# Sie neue Ideen für die Unterrichtsgestaltung suchen\n# Sie Moodle (besser) kennen lernen wollen \n\n			\n				\n			\n			Teilnahmekriterien & Info\n		 \n		\n			Lernziele\n		 \n		\n			Voraussetzungen\n		\n		 \n		\n			\n				\n					\n			Technische Voraussetzungen: Grundlegende Computerkenntnisse\, gute Internetverbindung; optional: Headset. \nSo treten Sie der eLecture im virtuellen Lernraum bei: \n1. Rufen Sie 10 min vor Terminstart folgende Seite auf: \nvph.webex.com/vph/k2/j.php?MTID=te9572e97a24021bd100b7434c9a2ebc4 \n2. Geben Sie bitte Ihren Vor- und Nachnamen und Ihre E-Mail-Adresse ein. \n3. Klicken Sie auf „Jetzt beitreten“. \n4. Folgen Sie den Anweisungen auf dem Bildschirm. \nDie Teilnahme an allen eLectures der Virtuellen PH ist für österreichische Lehrkräfte und Studierende eines Lehramts kostenlos.\n		 \n		\n			# Finden von vorhandenen Lernressourcen\n# Nutzen und optimales Integrieren vorhandener Lernmaterialien im eigenen Moodlekurs
URL:https://www.virtuelle-ph.at/veranstaltung/electure-pimp-your-moodle/
CATEGORIES:eLecture
END:VEVENT
BEGIN:VEVENT
DTSTART;TZID=Europe/Berlin:20170116T180000
DTEND;TZID=Europe/Berlin:20170116T190000
DTSTAMP:20260420T070101
CREATED:20161218T174804Z
LAST-MODIFIED:20170116T034139Z
UID:10002414-1484589600-1484593200@www.virtuelle-ph.at
SUMMARY:eLecture: Machen Sie Ihr Moodle fit für Ihre Schule!
DESCRIPTION:Experte: David Bogner\nCo-Moderation: Robert Schrenk \nMoodle bietet eine Menge von Möglichkeiten\, die nützlich für den Unterricht an Ihrer Schule sein können. Aufgrund der vielfachen Einstellungsoptionen ist es oft schwierig\, die optimale Konfiguration für die eigene Schule zu finden. Um Licht in das Dickicht zu bringen\, werden wir einen Blick auf die wichtigsten und nützlichsten Konfigurationsmöglichkeiten werfen. Von Einstellungen\, die die Performance steigern bis zur effizienten Nutzer_innenverwaltung. Vom Erstellen von globalen Notenskalen bis hin zur optimalen Verwendung von Smartphones mit Ihrer Moodle-Installation: Sie erfahren hier viele nützliche Tipps rund um die Administration Ihrer Moodle-Instanz. Aber auch Risiken und Gefahrenquellen\, die manche Moodle-Einstellungen mit sich bringen können\, werden näher beleuchtet. \nDavid Bogner ist verantwortlich für die Moodle-Lernumgebung der Virtuellen PH\, die über 25.000 Nutzer_innen umfasst. Er administriert seit mehr als 10 Jahren verschiedenste Moodle-Installationen als Administrator. Als Berater bei der Implementierung von Moodle an zahlreichen Bildungsinstitutionen konnte er Erfahrung über die individuelle Anpassung von Moodle an die jeweiligen Bedürfnisse sammeln. Als Projektkoordinator für die Entwicklung zahlreicher Moodle-Plugins weiß er zudem auch\, wie Moodle „unter der Haube“ aussieht! \nDiese eLecture ist für Sie interessant wenn \n# Sie Administrator eine Moodle-Instanz an einer Schule sind.\n# Sie Fragen bezüglich der Verwaltung von Moodle haben\n# Sie interessiert am optimalen Einsatz von Moodle in der Schule sind \nUm auf etwaige Wünsche und Fragen optimal einzugehen\, bitten wir Sie schon vorab unter dem Hashtag #moodlefit Fragen an @virtuelleph über Twitter zu stellen\, die Ihnen unter den Nägeln brennen! \n\n			\n				\n			\n			Teilnahmekriterien & Info\n		 \n		\n			Lernziele\n		 \n		\n			Voraussetzungen\n		\n		 \n		\n			\n				\n					\n			Technische Voraussetzungen: Grundlegende Computerkenntnisse\, gute Internetverbindung; optional: Headset.  \nSo treten Sie der eLecture im virtuellen Lernraum bei: \n1. Rufen Sie 10 min vor Terminstart folgende Seite auf:  \nvph.webex.com/vph/k2/j.php?MTID=t39c5bfd7b08be1cfde714757f987220c \n2. Geben Sie bitte Ihren Vor- und Nachnamen und Ihre E-Mail-Adresse ein.  \n3. Klicken Sie auf „Jetzt beitreten“.  \n4. Folgen Sie den Anweisungen auf dem Bildschirm.  \nDie Teilnahme an allen eLectures der Virtuellen PH ist für österreichische Lehrkräfte und Studierende eines Lehramts kostenlos.\n		 \n		\n			# Erlernen der effizienten Administration von Moodle\n# Kennen-Lernen der wichtigsten Konfigurationsmöglichkeiten von Moodle\n# Individuelle Beratung bezüglich der Konfiguration der eigenen Moodle-Instanz erhalten
URL:https://www.virtuelle-ph.at/veranstaltung/electure-machen-sie-ihr-moodle-fit-fuer-ihre-schule/
CATEGORIES:eLecture
END:VEVENT
END:VCALENDAR