BEGIN:VCALENDAR
VERSION:2.0
PRODID:-//Virtuelle PH - ECPv6.6.4.2//NONSGML v1.0//EN
CALSCALE:GREGORIAN
METHOD:PUBLISH
X-ORIGINAL-URL:https://www.virtuelle-ph.at
X-WR-CALDESC:Veranstaltungen für Virtuelle PH
REFRESH-INTERVAL;VALUE=DURATION:PT1H
X-Robots-Tag:noindex
X-PUBLISHED-TTL:PT1H
BEGIN:VTIMEZONE
TZID:Europe/Berlin
BEGIN:DAYLIGHT
TZOFFSETFROM:+0100
TZOFFSETTO:+0200
TZNAME:CEST
DTSTART:20200329T010000
END:DAYLIGHT
BEGIN:STANDARD
TZOFFSETFROM:+0200
TZOFFSETTO:+0100
TZNAME:CET
DTSTART:20201025T010000
END:STANDARD
END:VTIMEZONE
BEGIN:VEVENT
DTSTART;TZID=Europe/Berlin:20200325T190000
DTEND;TZID=Europe/Berlin:20200325T193000
DTSTAMP:20260420T152130
CREATED:20200210T102243Z
LAST-MODIFIED:20200326T081533Z
UID:10003256-1585162800-1585164600@www.virtuelle-ph.at
SUMMARY:eLecture digiPH3: Akademische Digitale Medienkompetenz modular fördern
DESCRIPTION:zur Aufzeichnung\n\n\n						Das ZML des Karlsruher Instituts für Technologie (KIT) hat sich zum Ziel gesetzt\, im Rahmen des digiMINT-Projekts Studierende des Lehramts der MINT-Fächer bei der Entwicklung einer digitalen Medienkompetenz zu unterstützen. Dabei setzt das ZML auf eine modulare Förderung\, die in verschiedenen Lehrveranstaltungen unterschiedliche Kompetenzdimensionen bedient.\nDie fachübergreifende Kompetenzentwicklung in den Veranstaltungen des ZMLs orientiert sich an den von Eichhorn (2017) für Hohschullehrende beschriebenen Kompetenzdimensionen und transferiert diese auf die Bedürfnisse Studierender. Dabei wird stets auf eine sinnvolle Kombination von theoretischer Fundierung und praktischem Exkurs gesetzt. \n\nDabei steht ein „digitaler Makerspace“ im Zentrum der Aktivitäten des ZML\, in dem explorativ mit digitalen Medien gearbeitet werden kann. Verschiedene Lehrveranstaltungen bereiten die Studierenden darauf vor\, im Schuldienst kompetent und reflektiert mit den digitalen Medien umgehen zu können und Kompetenzen ihrer künftigen Schüler*innen zu fördern. Die Schwerpunkte des Makerspaces liegen zum einen auf kommunikativen Fähigkeiten\, wie dem Präsentieren von (wissenschaftlichem) Wissen\, dem praxisorientierten Einsatz von neuartigen Fertigungstechnologien (3D-Druck und Lasercutting) und dem multimedial und digital gestalterischem Produzieren von (Lern-)Videomaterial. Alle studentisch generierten digitalen Artefakte sollen als Open Educational Ressource (OER) bereitgestellt werden\, um einen reibungsfreien Transfer des Materials aus dem Studium in die Schulpraxis zu gewährleisten. \n\nCoModeration: Daniel Handle-Pfeiffer \n\n			\n				\n			\n			Teilnahmekriterien & Info\n		 \n		\n			Lernziele\n		 \n		\n			Voraussetzungen\n		\n		 \n		\n			\n				\n					\n			Technische Voraussetzungen: Grundlegende Computerkenntnisse\, gute Internetverbindung; optional: Headset.  \nSo treten Sie der eLecture im virtuellen Lernraum bei:  \n1. Rufen Sie 10 min vor Terminstart folgende Seite auf:  \nvph.adobeconnect.com/digiph3/ \n2. Geben Sie bitte Ihren Vor- und Nachnamen ein und „Betreten Sie den Raum“ mit Klick auf den Button. \n3. Folgen Sie den Anweisungen auf dem Bildschirm. Sie werden in Kürze eingelassen. \nWenn Sie noch an keiner eLecture teilgenommen haben\, finden Sie alle Infos zum Einstieg unter: www.virtuelle-ph.at/electures/#einstieg \nDie Teilnahme an allen eLectures der Virtuellen PH ist für österreichische Lehrkräfte und Studierende eines Lehramts kostenlos.\n		 \n		\n			– TN lernen\, wie Kompetenzraster für Lehrveranstaltungsplanung angewendet werden \n– TN können eigene Lehrveranstaltungen anhand eines Kompetenzrasters ausrichten
URL:https://www.virtuelle-ph.at/veranstaltung/electure-digiph3-akademische-digitale-medienkompetenz-modular-foerdern/
CATEGORIES:eLecture,Online-Tagung digiPH3 EL
ATTACH;FMTTYPE=image/png:https://www.virtuelle-ph.at/wp-content/uploads/2020/02/Lohner-digiph3-fb.png
END:VEVENT
END:VCALENDAR