BEGIN:VCALENDAR
VERSION:2.0
PRODID:-//Virtuelle PH - ECPv6.6.4.2//NONSGML v1.0//EN
CALSCALE:GREGORIAN
METHOD:PUBLISH
X-WR-CALNAME:Virtuelle PH
X-ORIGINAL-URL:https://www.virtuelle-ph.at
X-WR-CALDESC:Veranstaltungen für Virtuelle PH
REFRESH-INTERVAL;VALUE=DURATION:PT1H
X-Robots-Tag:noindex
X-PUBLISHED-TTL:PT1H
BEGIN:VTIMEZONE
TZID:Europe/Berlin
BEGIN:DAYLIGHT
TZOFFSETFROM:+0100
TZOFFSETTO:+0200
TZNAME:CEST
DTSTART:20170326T010000
END:DAYLIGHT
BEGIN:STANDARD
TZOFFSETFROM:+0200
TZOFFSETTO:+0100
TZNAME:CET
DTSTART:20171029T010000
END:STANDARD
BEGIN:DAYLIGHT
TZOFFSETFROM:+0100
TZOFFSETTO:+0200
TZNAME:CEST
DTSTART:20180325T010000
END:DAYLIGHT
BEGIN:STANDARD
TZOFFSETFROM:+0200
TZOFFSETTO:+0100
TZNAME:CET
DTSTART:20181028T010000
END:STANDARD
END:VTIMEZONE
BEGIN:VEVENT
DTSTART;TZID=Europe/Berlin:20180226T180000
DTEND;TZID=Europe/Berlin:20180226T190000
DTSTAMP:20260420T141226
CREATED:20180219T074035Z
LAST-MODIFIED:20180227T075022Z
UID:10002796-1519668000-1519671600@www.virtuelle-ph.at
SUMMARY:eLecture: Schoolfox - Das Mitteilungsheft wird digital
DESCRIPTION:zur Aufzeichnung \n\n\n						Die Ausbildung von SchülerInnen verlangt Teamwork von Schule und Familie. Voraussetzung dafür ist\, dass Sie als PädagogIn einen guten Draht zu den Eltern haben. Welches Kommunikationsmittel verwenden Sie um mit den Familien Ihrer SchülerInnen zu korrespondieren? Wenn die Antwort WhatsApp\, Facebook\, SMS oder E-Mail lautet\, dann haben Sie bereits den Bedarf an neuen Kommunikationswegen erkannt und sind selbst aktiv geworden – super! In den meisten Bildungseinrichtungen ist Papier nämlich weiterhin das wichtigste Kommunikationsmittel – in Form von Mitteilungsheften\, Elternbriefen\, Aushängen\, etc… Das ist nicht nur für Sie als PädagogIn zeitraubend und teuer (Kopierkosten)\, sondern lässt neben der rein administrativen Korrespondenz\, keine natürliche Kommunikation zu. \nDie privat genutzten Messenger-Dienste wie WhatsApp & Co schaffen hier schnell Abhilfe\, gleichzeitig nehmen Sie damit aber auch eine Menge Nachteile in Kauf: unzureichender Datenschutz\, Aufgeben der Privatsphäre und Auflehnung gegen die Schulleitung sind hier nur einige Schlagwörter. \nDavid Schalkhammer beschäftigt sich seit vielen Jahren mit neuen Technologien und arbeitet seit 2015 intensiv daran\, den Schulalltag mit digitalen Werkzeugen zu vereinfachen. Er leitet die Produktentwicklung bei SchoolFox\, einer App für Smartphone und Computer\, die es PädagogInnen und Eltern ermöglicht\, rasch und sicher miteinander zu kommunizieren. Das als „digitales Mitteilungsheft“ bekannte SchoolFox verbindet das Beste aus zwei Welten: die leichte und intuitive Bedienbarkeit moderner Messenger-Dienste sowie die rechtliche Sicherheit der Papier-Kommunikation. Auch das Thema Integration spielt eine wichtige Rolle. Eine automatische Übersetzungsfunktion ermöglicht die Einbeziehung von Eltern ohne Deutschkenntnisse. SchoolFox wird bereits an 300 Schulen in ganz Österreich verwendet. \nDiese eLecture ist für Sie interessant\, wenn Sie \n\nViel Zeit und Nerven mit der Kontrolle von Mitteilungsheften verbringen und nach Alternativen suchen\n\nSchwierigkeiten haben mit einigen Eltern zu kommunizieren – auch aufgrund der Sprache\n\nBereits moderne Technologien im Schulalltag verwenden und sich für neue Lösungen interessieren\n\nNach Werkzeugen suchen um generell die Elternarbeit zu verbessern\n\n\nCoModeration: Thomas Winkler \n\n			\n				\n			\n			Teilnahmekriterien & Info\n		 \n		\n			Lernziele\n		 \n		\n			Voraussetzungen\n		\n		 \n		\n			\n				\n					\n			Technische Voraussetzungen: Grundlegende Computerkenntnisse\, gute Internetverbindung; optional: Headset.  \nSo treten Sie der eLecture im virtuellen Lernraum bei:  \n1. Rufen Sie 10 min vor Terminstart folgende Seite auf:  \nvph.adobeconnect.com/eins/ \n2. Geben Sie bitte Ihren Vor- und Nachnamen ein und „Betreten Sie den Raum“ mit Klick auf den Button. \n3. Folgen Sie den Anweisungen auf dem Bildschirm. Sie werden in Kürze eingelassen. \nWenn Sie noch an keiner eLecture teilgenommen haben\, finden Sie alle Infos zum Einstieg unter: www.virtuelle-ph.at/electures/#einstieg \nDie Teilnahme an allen eLectures der Virtuellen PH ist für österreichische Lehrkräfte und Studierende eines Lehramts kostenlos.\n		 \n		\n			\nKennenlernen aller Funktionen der SchoolFox App\n\nEinrichten Ihrer SchoolFox Klasse und informieren der Eltern\n\nErfahrungsberichte aus einem Jahr SchoolFox an österreichischen Schulen
URL:https://www.virtuelle-ph.at/veranstaltung/electure-schoolfox-das-mitteilungsheft-wird-digital-3/
CATEGORIES:eLecture
END:VEVENT
BEGIN:VEVENT
DTSTART;TZID=Europe/Berlin:20170315T190000
DTEND;TZID=Europe/Berlin:20170315T200000
DTSTAMP:20260420T141226
CREATED:20170227T085642Z
LAST-MODIFIED:20170315T033542Z
UID:10002479-1489604400-1489608000@www.virtuelle-ph.at
SUMMARY:eLecture: Schoolfox - Das Mitteilungsheft wird digital
DESCRIPTION:CoModeration: Elisabeth Eder-Janca \nDie Ausbildung von SchülerInnen verlangt Teamwork von Schule und Familie. Voraussetzung dafür ist\, dass Sie als PädagogIn einen guten Draht zu den Eltern haben. Welches Kommunikationsmittel verwenden Sie um mit den Familien Ihrer SchülerInnen zu korrespondieren? Wenn die Antwort WhatsApp\, Facebook\, SMS oder E-Mail lautet\, dann haben Sie bereits den Bedarf an neuen Kommunikationswegen erkannt und sind selbst aktiv geworden – super! In den meisten Bildungseinrichtungen ist Papier nämlich weiterhin das wichtigste Kommunikationsmittel – in Form von Mitteilungsheften\, Elternbriefen\, Aushängen\, etc… Das ist nicht nur für Sie als PädagogIn zeitraubend und teuer (Kopierkosten)\, sondern lässt neben der rein administrativen Korrespondenz\, keine natürliche Kommunikation zu. \nDie privat genutzten Messenger-Dienste wie WhatsApp & Co schaffen hier schnell Abhilfe\, gleichzeitig nehmen Sie damit aber auch eine Menge Nachteile in Kauf: unzureichender Datenschutz\, Aufgeben der Privatsphäre und Auflehnung gegen die Schulleitung sind hier nur einige Schlagwörter. \nDavid Schalkhammer beschäftigt sich seit vielen Jahren mit neuen Technologien und arbeitet seit 2015 intensiv daran\, den Schulalltag mit digitalen Werkzeugen zu vereinfachen. Er leitet die Produktentwicklung bei SchoolFox\, einer App für Smartphone und Computer\, die es PädagogInnen und Eltern ermöglicht\, rasch und sicher miteinander zu kommunizieren. Das als „digitales Mitteilungsheft“ bekannte SchoolFox verbindet das Beste aus zwei Welten: die leichte und intuitive Bedienbarkeit moderner Messenger-Dienste sowie die rechtliche Sicherheit der Papier-Kommunikation. Auch das Thema Integration spielt eine wichtige Rolle. Eine automatische Übersetzungsfunktion ermöglicht die Einbeziehung von Eltern ohne Deutschkenntnisse. SchoolFox wird bereits an 300 Schulen in ganz Österreich verwendet. \nDiese eLecture ist für Sie interessant\, wenn Sie \n \nViel Zeit und Nerven mit der Kontrolle von Mitteilungsheften verbringen und nach Alternativen suchen\n \nSchwierigkeiten haben mit einigen Eltern zu kommunizieren – auch aufgrund der Sprache\n \nBereits moderne Technologien im Schulalltag verwenden und sich für neue Lösungen interessieren\n \nNach Werkzeugen suchen um generell die Elternarbeit zu verbessern\n\n\n\n			\n				\n			\n			Teilnahmekriterien & Info\n		 \n		\n			Lernziele\n		 \n		\n			Voraussetzungen\n		\n		 \n		\n			\n				\n					\n			Technische Voraussetzungen: Grundlegende Computerkenntnisse\, gute Internetverbindung; optional: Headset.  \nSo treten Sie der eLecture im virtuellen Lernraum bei:  \n1. Rufen Sie 10 min vor Terminstart folgende Seite auf:  \nvph.adobeconnect.com/zwei/ \n2. Geben Sie bitte Ihren Vor- und Nachnamen ein und „Betreten Sie den Raum“ mit Klick auf den Button. \n3. Folgen Sie den Anweisungen auf dem Bildschirm. Sie werden in Kürze eingelassen. \nWenn Sie noch an keiner eLecture teilgenommen haben\, finden Sie alle Infos zum Einstieg unter:\nwww.virtuelle-ph.at/electures/#einstieg \nDie Teilnahme an allen eLectures der Virtuellen PH ist für österreichische Lehrkräfte und Studierende eines Lehramts kostenlos.\n		 \n		\n			\nKennenlernen aller Funktionen der SchoolFox App\nEinrichten Ihrer SchoolFox Klasse und informieren der Eltern\nErfahrungsberichte aus einem Jahr SchoolFox an österreichischen Schulen
URL:https://www.virtuelle-ph.at/veranstaltung/electure-schoolfox-das-mitteilungsheft-wird-digital/
CATEGORIES:eLecture
END:VEVENT
END:VCALENDAR