BEGIN:VCALENDAR
VERSION:2.0
PRODID:-//Virtuelle PH - ECPv6.6.4.2//NONSGML v1.0//EN
CALSCALE:GREGORIAN
METHOD:PUBLISH
X-ORIGINAL-URL:https://www.virtuelle-ph.at
X-WR-CALDESC:Veranstaltungen für Virtuelle PH
REFRESH-INTERVAL;VALUE=DURATION:PT1H
X-Robots-Tag:noindex
X-PUBLISHED-TTL:PT1H
BEGIN:VTIMEZONE
TZID:Europe/Berlin
BEGIN:DAYLIGHT
TZOFFSETFROM:+0100
TZOFFSETTO:+0200
TZNAME:CEST
DTSTART:20180325T010000
END:DAYLIGHT
BEGIN:STANDARD
TZOFFSETFROM:+0200
TZOFFSETTO:+0100
TZNAME:CET
DTSTART:20181028T010000
END:STANDARD
BEGIN:DAYLIGHT
TZOFFSETFROM:+0100
TZOFFSETTO:+0200
TZNAME:CEST
DTSTART:20190331T010000
END:DAYLIGHT
BEGIN:STANDARD
TZOFFSETFROM:+0200
TZOFFSETTO:+0100
TZNAME:CET
DTSTART:20191027T010000
END:STANDARD
BEGIN:DAYLIGHT
TZOFFSETFROM:+0100
TZOFFSETTO:+0200
TZNAME:CEST
DTSTART:20200329T010000
END:DAYLIGHT
BEGIN:STANDARD
TZOFFSETFROM:+0200
TZOFFSETTO:+0100
TZNAME:CET
DTSTART:20201025T010000
END:STANDARD
END:VTIMEZONE
BEGIN:VEVENT
DTSTART;TZID=Europe/Berlin:20200602T180000
DTEND;TZID=Europe/Berlin:20200602T190000
DTSTAMP:20260420T074629
CREATED:20200218T090459Z
LAST-MODIFIED:20210623T085832Z
UID:10003598-1591120800-1591124400@www.virtuelle-ph.at
SUMMARY:NCoCFlS eLecture: Portfolioarbeit in der Sekundarstufe - Chancen und Gelingensbedingungen
DESCRIPTION:zur Aufzeichnung\n\n\n						Anhand von kurzen Interviewsequenzen mit SchülerInnen und ausgewählten Ergebnissen einer Forschungsstudie werden die TeilnehmerInnen mögliche Chancen und Voraussetzungen gelingender Portfilioarbeit kennen lernen.  \nDas Bundeszentrum für lernende Schulen\, bekannt als ZLS\, wurde in National Competence Center für lernende Schulen (NCoCflS) umbenannt. \nCoModeration: Elke Hasler \n\nExpert_in: Dietmar Bickel \n\n\n			\n				\n			\n			Teilnahmekriterien & Info\n		 \n		\n			Lernziele\n		 \n		\n			Voraussetzungen\n		\n		 \n		\n			\n				\n					\n			Technische Voraussetzungen: Grundlegende Computerkenntnisse\, gute Internetverbindung; optional: Headset.  \nSo treten Sie der eLecture im virtuellen Lernraum bei:  \n1. Rufen Sie 10 min vor Terminstart folgende Seite auf:  \nvph.adobeconnect.com/zls/ \n2. Geben Sie bitte Ihren Vor- und Nachnamen ein und „Betreten Sie den Raum“ mit Klick auf den Button. \n3. Folgen Sie den Anweisungen auf dem Bildschirm. Sie werden in Kürze eingelassen. \nWenn Sie noch an keiner eLecture teilgenommen haben\, finden Sie alle Infos zum Einstieg unter: www.virtuelle-ph.at/electures/#einstieg \nDie Teilnahme an allen eLectures der Virtuellen PH ist für österreichische Lehrkräfte und Studierende eines Lehramts kostenlos.\n		 \n		\n			Die Teilnehmenden lernen anhand von Interviewsequenzen mit SchülerInnen und ausgewählten Ergebnissen einer Forschungsstudie  Chancen und Voraussetzungen für eine gelungene Portfilioarbeit kennen.
URL:https://www.virtuelle-ph.at/veranstaltung/ncocfls-electure-portfolioarbeit-in-der-sekundarstufe-chancen-und-gelingensbedingungen/
CATEGORIES:eLecture
END:VEVENT
BEGIN:VEVENT
DTSTART;TZID=Europe/Berlin:20190425T180000
DTEND;TZID=Europe/Berlin:20190425T190000
DTSTAMP:20260420T074629
CREATED:20190123T125510Z
LAST-MODIFIED:20190426T060012Z
UID:10003112-1556215200-1556218800@www.virtuelle-ph.at
SUMMARY:ZLS eLecture: Portfolioarbeit in der Sekundarstufe – Chancen und Gelingensbedinungen
DESCRIPTION:zur Aufzeichnung\n\n\n						Portfolioarbeit bietet zahlreiche Chancen für gelingende Differenzierung und für die Stärkung wichtiger Handlungskompetenzen von Schülerinnen und Schüler. Insbesondere Eigenständigkeit\, Sozialkompetenz und das interessensgeleitete Lernen können mit Portfolioarbeit gefördert werden. Jedoch auch Fachwissen kann durch Portfolioarbeit auf vertiefende Art und Weise nachhaltig gelernt werden. \nCoModeration: Helga Diendorfer \n\n			\n				\n			\n			Teilnahmekriterien & Info\n		 \n		\n			Lernziele\n		 \n		\n			Voraussetzungen\n		\n		 \n		\n			\n				\n					\n			Technische Voraussetzungen: Grundlegende Computerkenntnisse\, gute Internetverbindung; optional: Headset. \nSo treten Sie der eLecture im virtuellen Lernraum bei:  \n1. Rufen Sie 10 min vor Terminstart folgende Seite auf:  \nvph.adobeconnect.com/zls/ \n2. Geben Sie bitte Ihren Vor- und Nachnamen ein und „Betreten Sie den Raum“ mit Klick auf den Button. \n3. Folgen Sie den Anweisungen auf dem Bildschirm. Sie werden in Kürze eingelassen. \nWenn Sie noch an keiner eLecture teilgenommen haben\, finden Sie alle Infos zum Einstieg unter: www.virtuelle-ph.at/electures/#einstieg \nDie Teilnahme an allen eLectures der Virtuellen PH ist für österreichische Lehrkräfte und Studierende eines Lehramts kostenlos.\n		 \n		\n			In dieser eLecture wird darauf eingegangen\, wie dies durch eine gute organisatorische Vorausplanung und begleitende Unterstützungsmaßnahmen gelingen kann. Im Rückblick auf eine im Fach English durchgeführte Portfolioarbeit spannen Schülerinnen- und Schülerinterviews den  Bogen zur angewendeten Praxis im Unterricht.
URL:https://www.virtuelle-ph.at/veranstaltung/zls-electure-portfolioarbeit-in-der-sekundarstufe-chancen-und-gelingensbedinungen/
CATEGORIES:eLecture
END:VEVENT
BEGIN:VEVENT
DTSTART;TZID=Europe/Berlin:20180613T170000
DTEND;TZID=Europe/Berlin:20180613T180000
DTSTAMP:20260420T074629
CREATED:20180606T085953Z
LAST-MODIFIED:20180614T074651Z
UID:10002917-1528909200-1528912800@www.virtuelle-ph.at
SUMMARY:ZLS eLecture: Portfolioarbeit in der Sekundarstufe - Chancen und Gelingensbedingungen
DESCRIPTION:Keine Aufzeichnung \n\n\n						Portfolioarbeit verfügt in der Sekundarstufe über ein hohes Potential für Differenzierung und interessengeleitetes\, selbsttätiges Lernen dar.  \nCoModeration: Helga Diendorfer \n\n			\n				\n			\n			Teilnahmekriterien & Info\n		 \n		\n			Lernziele\n		 \n		\n			Voraussetzungen\n		\n		 \n		\n			\n				\n					\n			Technische Voraussetzungen: Grundlegende Computerkenntnisse\, gute Internetverbindung; optional: Headset.  \nSo treten Sie der eLecture im virtuellen Lernraum bei:  \n1. Rufen Sie 10 min vor Terminstart folgende Seite auf:  \nvph.adobeconnect.com/zls/ \n2. Geben Sie bitte Ihren Vor- und Nachnamen ein und „Betreten Sie den Raum“ mit Klick auf den Button. \n3. Folgen Sie den Anweisungen auf dem Bildschirm. Sie werden in Kürze eingelassen. \nWenn Sie noch an keiner eLecture teilgenommen haben\, finden Sie alle Infos zum Einstieg unter: www.virtuelle-ph.at/electures/#einstieg \nDie Teilnahme an allen eLectures der Virtuellen PH ist für österreichische Lehrkräfte und Studierende eines Lehramts kostenlos.\n		 \n		\n			Ziel dieser eLecture ist\, Planung\, Einführung und Durchführung zu beleuchten\, damit diese Chancen genutzt werden können.
URL:https://www.virtuelle-ph.at/veranstaltung/zls-electure-portfolioarbeit-in-der-sekundarstufe-chancen-und-gelingensbedingungen/
CATEGORIES:eLecture
END:VEVENT
END:VCALENDAR