BEGIN:VCALENDAR
VERSION:2.0
PRODID:-//Virtuelle PH - ECPv6.6.4.2//NONSGML v1.0//EN
CALSCALE:GREGORIAN
METHOD:PUBLISH
X-WR-CALNAME:Virtuelle PH
X-ORIGINAL-URL:https://www.virtuelle-ph.at
X-WR-CALDESC:Veranstaltungen für Virtuelle PH
REFRESH-INTERVAL;VALUE=DURATION:PT1H
X-Robots-Tag:noindex
X-PUBLISHED-TTL:PT1H
BEGIN:VTIMEZONE
TZID:Europe/Vienna
BEGIN:DAYLIGHT
TZOFFSETFROM:+0100
TZOFFSETTO:+0200
TZNAME:CEST
DTSTART:20230326T010000
END:DAYLIGHT
BEGIN:STANDARD
TZOFFSETFROM:+0200
TZOFFSETTO:+0100
TZNAME:CET
DTSTART:20231029T010000
END:STANDARD
BEGIN:DAYLIGHT
TZOFFSETFROM:+0100
TZOFFSETTO:+0200
TZNAME:CEST
DTSTART:20240331T010000
END:DAYLIGHT
BEGIN:STANDARD
TZOFFSETFROM:+0200
TZOFFSETTO:+0100
TZNAME:CET
DTSTART:20241027T010000
END:STANDARD
END:VTIMEZONE
BEGIN:VEVENT
DTSTART;VALUE=DATE:20240129
DTEND;VALUE=DATE:20240130
DTSTAMP:20260420T152043
CREATED:20240130T084601Z
LAST-MODIFIED:20240130T084601Z
UID:10004820-1706486400-1706572799@www.virtuelle-ph.at
SUMMARY:MINT MOOC
DESCRIPTION:Zur Anmeldung\n						\n\n						Der vorliegende Online-Kurs vermittelt Lehrer:innen und Schulleiter:innen einen ersten Überblick über wichtige MINT-didaktische Themen\, konkrete Umsetzungsmöglichkeiten für Ihren Unterricht und Anregungen zur Weiterentwicklung Ihrer Schule zu einer ausgezeichneten MINT-Schule.  \nDer Kurs ist in 5 Module unterteilt und vermittelt praxisnah aktuelle Themen aus den Bereichen der MINT-Didaktik und der MINT-Schulentwicklung. \nDer Inhalt wurde von Expert:innen des Regionalen Kompetenzzentrum für Mathematik- und Naturwissenschaftsdidaktik\, dem Zentrum für Lerntechnologie und Innovation und dem Zentrum für schulische Entwicklungsprozesse an der Pädagogischen Hochschule Wien erstellt. \n\nExpert_in: Doris Fallheier \n\n\n			\n				\n			\n			Teilnahmekriterien & Info\n		 \n		\n			Lernziele\n		 \n		\n			Voraussetzungen\n		\n		 \n		\n			\n				\n					\n			Für die Anmeldung zur Teilnahme – im PH-Online-System der PPH Burgenland als Studierende/r der Fortbildung identifizieren.  \nAnmerkung: Teilnahme an allen im Rahmen des Online-Programms angebotenen Online-Seminaren der Virtuellen PH ist für österreichische Lehrkräfte\, PH-Lehrende & Studierende eines Lehramts kostenlos. Organisatorische Fragen: info@virtuelle-ph.at \nSIE SIND BEREITS AN EINER PH REGISTRIERT?  \nMelden Sie sich mit Kennwort & Benutzernamen bei jener PH in PH-Online an\, bei der Sie registriert sind. Rechts oben muss neben dem Namen Stud. der Fortbildung stehen. Falls nicht\, bei den bunten Figuren Profil umschalten.  \nIn Ihrer Visitenkarte Immatrikulation an weiteren PHs wählen\, bei Private Pädagogische Hochschule Burgenland auf Aktivieren klicken.  \nFür das Aktivieren folgende 2 Hakerl setzen:\n– Ja\, ich bin damit einverstanden\, dass diese Daten bei der Accountierung FÜR DIE FORTBILDUNG übernommen werden\n– Ja\, meine Daten sind richtig\n		 \n		\n			Ziel des MINT-Online-Kurses ist es\,\n… den Teilnehmerinnen und Teilnehmern innovative und konkrete Unterrichtsbeispiele für die MINT-Fächer zu bieten.\n… Schulen auf dem Weg zur MINT-Schule und bereits ausgezeichnete MINT-Schulen in Ihrer Entwicklung im Rahmen des Moduls „Schulentwicklung“ hilfreiche Inputs zu vermitteln.\n		 \n		\n			Internetzugang und Grundwissen im Umgang mit dem Internet und dem Computer
URL:https://www.virtuelle-ph.at/veranstaltung/mint-mooc-4/
CATEGORIES:Online-Seminar
END:VEVENT
BEGIN:VEVENT
DTSTART;VALUE=DATE:20240129
DTEND;VALUE=DATE:20240130
DTSTAMP:20260420T152043
CREATED:20240130T033005Z
LAST-MODIFIED:20240130T033005Z
UID:10004814-1706486400-1706572799@www.virtuelle-ph.at
SUMMARY:MINT MOOC
DESCRIPTION:Zur Anmeldung\n						\n\n						Der vorliegende Online-Kurs vermittelt Lehrer:innen und Schulleiter:innen einen ersten Überblick über wichtige MINT-didaktische Themen\, konkrete Umsetzungsmöglichkeiten für Ihren Unterricht und Anregungen zur Weiterentwicklung Ihrer Schule zu einer ausgezeichneten MINT-Schule.  \nDer Kurs ist in 5 Module unterteilt und vermittelt praxisnah aktuelle Themen aus den Bereichen der MINT-Didaktik und der MINT-Schulentwicklung. \nDer Inhalt wurde von Expert:innen des Regionalen Kompetenzzentrum für Mathematik- und Naturwissenschaftsdidaktik\, dem Zentrum für Lerntechnologie und Innovation und dem Zentrum für schulische Entwicklungsprozesse an der Pädagogischen Hochschule Wien erstellt. \n\nExpert_in: Doris Fallheier \n\n\n			\n				\n			\n			Teilnahmekriterien & Info\n		 \n		\n			Lernziele\n		 \n		\n			Voraussetzungen\n		\n		 \n		\n			\n				\n					\n			Für die Anmeldung zur Teilnahme – im PH-Online-System der PPH Burgenland als Studierende/r der Fortbildung identifizieren.  \nAnmerkung: Teilnahme an allen im Rahmen des Online-Programms angebotenen Online-Seminaren der Virtuellen PH ist für österreichische Lehrkräfte\, PH-Lehrende & Studierende eines Lehramts kostenlos. Organisatorische Fragen: info@virtuelle-ph.at \nSIE SIND BEREITS AN EINER PH REGISTRIERT?  \nMelden Sie sich mit Kennwort & Benutzernamen bei jener PH in PH-Online an\, bei der Sie registriert sind. Rechts oben muss neben dem Namen Stud. der Fortbildung stehen. Falls nicht\, bei den bunten Figuren Profil umschalten.  \nIn Ihrer Visitenkarte Immatrikulation an weiteren PHs wählen\, bei Private Pädagogische Hochschule Burgenland auf Aktivieren klicken.  \nFür das Aktivieren folgende 2 Hakerl setzen:\n– Ja\, ich bin damit einverstanden\, dass diese Daten bei der Accountierung FÜR DIE FORTBILDUNG übernommen werden\n– Ja\, meine Daten sind richtig\n		 \n		\n			Ziel des MINT-Online-Kurses ist es\,\n… den Teilnehmerinnen und Teilnehmern innovative und konkrete Unterrichtsbeispiele für die MINT-Fächer zu bieten.\n… Schulen auf dem Weg zur MINT-Schule und bereits ausgezeichnete MINT-Schulen in Ihrer Entwicklung im Rahmen des Moduls „Schulentwicklung“ hilfreiche Inputs zu vermitteln.\n		 \n		\n			Internetzugang und Grundwissen im Umgang mit dem Internet und dem Computer
URL:https://www.virtuelle-ph.at/veranstaltung/mint-mooc-3/
CATEGORIES:Online-Seminar
END:VEVENT
BEGIN:VEVENT
DTSTART;VALUE=DATE:20231002
DTEND;VALUE=DATE:20240130
DTSTAMP:20260420T152043
CREATED:20230907T033010Z
LAST-MODIFIED:20231001T033050Z
UID:10004171-1696204800-1706572799@www.virtuelle-ph.at
SUMMARY:MINT MOOC
DESCRIPTION:Zur Anmeldung\n						\n\n						Der vorliegende Online-Kurs vermittelt Lehrer:innen und Schulleiter:innen einen ersten Überblick über wichtige MINT-didaktische Themen\, konkrete Umsetzungsmöglichkeiten für Ihren Unterricht und Anregungen zur Weiterentwicklung Ihrer Schule zu einer ausgezeichneten MINT-Schule.  \nDer Kurs ist in 5 Module unterteilt und vermittelt praxisnah aktuelle Themen aus den Bereichen der MINT-Didaktik und der MINT-Schulentwicklung. \nDer Inhalt wurde von Expert:innen des Regionalen Kompetenzzentrum für Mathematik- und Naturwissenschaftsdidaktik\, dem Zentrum für Lerntechnologie und Innovation und dem Zentrum für schulische Entwicklungsprozesse an der Pädagogischen Hochschule Wien erstellt. \n\nExpert_in: Doris Fallheier \n\n\n			\n				\n			\n			Teilnahmekriterien & Info\n		 \n		\n			Lernziele\n		 \n		\n			Voraussetzungen\n		\n		 \n		\n			\n				\n					\n			Für die Anmeldung zur Teilnahme – im PH-Online-System der PPH Burgenland als Studierende/r der Fortbildung identifizieren.  \nAnmerkung: Teilnahme an allen im Rahmen des Online-Programms angebotenen Online-Seminaren der Virtuellen PH ist für österreichische Lehrkräfte\, PH-Lehrende & Studierende eines Lehramts kostenlos. Organisatorische Fragen: info@virtuelle-ph.at \nSIE SIND BEREITS AN EINER PH REGISTRIERT?  \nMelden Sie sich mit Kennwort & Benutzernamen bei jener PH in PH-Online an\, bei der Sie registriert sind. Rechts oben muss neben dem Namen Stud. der Fortbildung stehen. Falls nicht\, bei den bunten Figuren Profil umschalten.  \nIn Ihrer Visitenkarte Immatrikulation an weiteren PHs wählen\, bei Private Pädagogische Hochschule Burgenland auf Aktivieren klicken.  \nFür das Aktivieren folgende 2 Hakerl setzen:\n– Ja\, ich bin damit einverstanden\, dass diese Daten bei der Accountierung FÜR DIE FORTBILDUNG übernommen werden\n– Ja\, meine Daten sind richtig\n		 \n		\n			Ziel des MINT-Online-Kurses ist es\,\n… den Teilnehmerinnen und Teilnehmern innovative und konkrete Unterrichtsbeispiele für die MINT-Fächer zu bieten.\n… Schulen auf dem Weg zur MINT-Schule und bereits ausgezeichnete MINT-Schulen in Ihrer Entwicklung im Rahmen des Moduls „Schulentwicklung“ hilfreiche Inputs zu vermitteln.\n		 \n		\n			Internetzugang und Grundwissen im Umgang mit dem Internet und dem Computer
URL:https://www.virtuelle-ph.at/veranstaltung/mint-mooc-2/
CATEGORIES:Online-Seminar
END:VEVENT
BEGIN:VEVENT
DTSTART;VALUE=DATE:20230214
DTEND;VALUE=DATE:20230901
DTSTAMP:20260420T152043
CREATED:20230131T033005Z
LAST-MODIFIED:20230215T033125Z
UID:10004111-1676332800-1693526399@www.virtuelle-ph.at
SUMMARY:MINT MOOC
DESCRIPTION:Zur Anmeldung\n						\n\n						Der vorliegende Online-Kurs vermittelt Lehrer:innen und Schulleiter:innen einen ersten Überblick über wichtige MINT-didaktische Themen\, konkrete Umsetzungsmöglichkeiten für Ihren Unterricht und Anregungen zur Weiterentwicklung Ihrer Schule zu einer ausgezeichneten MINT-Schule. Im Video sehen Sie Eindrücke der MINT-Gala 2022 mit der Verleihung des MINT-Gütesiegels an ausgezeichnete Bildungseinrichtungen. \nDer Kurs ist in 5 Module unterteilt und vermittelt praxisnah aktuelle Themen aus den Bereichen der MINT-Didaktik und der MINT-Schulentwicklung. \nDer Inhalt wurde von Expert:innen des Regionalen Kompetenzzentrum für Mathematik- und Naturwissenschaftsdidaktik\, dem Zentrum für Lerntechnologie und Innovation und dem Zentrum für schulische Entwicklungsprozesse an der Pädagogischen Hochschule Wien erstellt. \n\nExpert_in: Doris Fallheier \n\n\n			\n				\n			\n			Teilnahmekriterien & Info\n		 \n		\n			Lernziele\n		 \n		\n			Voraussetzungen\n		\n		 \n		\n			\n				\n					\n			Für die Anmeldung zur Teilnahme – im PH-Online-System der PPH Burgenland als Studierende/r der Fortbildung identifizieren.  \nAnmerkung: Teilnahme an allen im Rahmen des Online-Programms angebotenen Online-Seminaren der Virtuellen PH ist für österreichische Lehrkräfte\, PH-Lehrende & Studierende eines Lehramts kostenlos. Organisatorische Fragen: info@virtuelle-ph.at \nSIE SIND BEREITS AN EINER PH REGISTRIERT?  \nMelden Sie sich mit Kennwort & Benutzernamen bei jener PH in PH-Online an\, bei der Sie registriert sind. Rechts oben muss neben dem Namen Stud. der Fortbildung stehen. Falls nicht\, bei den bunten Figuren Profil umschalten.  \nIn Ihrer Visitenkarte Immatrikulation an weiteren PHs wählen\, bei Private Pädagogische Hochschule Burgenland auf Aktivieren klicken.  \nFür das Aktivieren folgende 2 Hakerl setzen:\n– Ja\, ich bin damit einverstanden\, dass diese Daten bei der Accountierung FÜR DIE FORTBILDUNG übernommen werden\n– Ja\, meine Daten sind richtig\n		 \n		\n			Ziel des MINT-Online-Kurses ist es\,\n… den Teilnehmerinnen und Teilnehmern innovative und konkrete Unterrichtsbeispiele für die MINT-Fächer zu bieten.\n… Schulen auf dem Weg zur MINT-Schule und bereits ausgezeichnete MINT-Schulen in Ihrer Entwicklung im Rahmen des Moduls „Schulentwicklung“ hilfreiche Inputs zu vermitteln.\n		 \n		\n			Internetzugang und Grundwissen im Umgang mit dem Internet und dem Computer
URL:https://www.virtuelle-ph.at/veranstaltung/mint-mooc/
CATEGORIES:Online-Seminar
END:VEVENT
END:VCALENDAR