BEGIN:VCALENDAR
VERSION:2.0
PRODID:-//Virtuelle PH - ECPv6.6.4.2//NONSGML v1.0//EN
CALSCALE:GREGORIAN
METHOD:PUBLISH
X-WR-CALNAME:Virtuelle PH
X-ORIGINAL-URL:https://www.virtuelle-ph.at
X-WR-CALDESC:Veranstaltungen für Virtuelle PH
REFRESH-INTERVAL;VALUE=DURATION:PT1H
X-Robots-Tag:noindex
X-PUBLISHED-TTL:PT1H
BEGIN:VTIMEZONE
TZID:Europe/Vienna
BEGIN:DAYLIGHT
TZOFFSETFROM:+0100
TZOFFSETTO:+0200
TZNAME:CEST
DTSTART:20230326T010000
END:DAYLIGHT
BEGIN:STANDARD
TZOFFSETFROM:+0200
TZOFFSETTO:+0100
TZNAME:CET
DTSTART:20231029T010000
END:STANDARD
END:VTIMEZONE
BEGIN:VEVENT
DTSTART;TZID=Europe/Vienna:20230118T113000
DTEND;TZID=Europe/Vienna:20230118T121500
DTSTAMP:20260420T222050
CREATED:20221114T124359Z
LAST-MODIFIED:20230127T215614Z
UID:10004082-1674041400-1674044100@www.virtuelle-ph.at
SUMMARY:digiPH6 Lecture: Digitalisierung und Inklusive Bildung: MOOC
DESCRIPTION:Aufzeichnung \n\n\n						In diesem #digiPH6 Format stellen Edvina Bešić und Silvana Aureli (PHST) das Erasmus+ Projekt „Digitalisation and inclusive education: Leaving no one behind in the digital era“ vor. Das Projekt zielt darauf ab\, die Qualität eines mediengestützten Unterrichts zu steigern\, sodass auch Kinder mit Behinderungen daran uneingeschränkt teilhaben können. Damit dieses Ziel erreicht werden kann\, sollen Lehrpersonen durch einen DigIn MOOC die Möglichkeit erhalten\, ihre Kompetenzen in der inklusiven Medienbildung zu professionalisieren. Im Beitrag wird der Fokus auf die Vorstellung des MOOCs gelegt. \nCo-Moderation: Gerlinde Schwabl \n\nExpert_in: Edvina Bešić\, Silvana Aureli \n\n\n			\n				\n			\n			Teilnahmekriterien & Info\n		 \n		\n			Lernziele\n		 \n		\n			Voraussetzungen\n		\n		 \n		\n			\n				\n					\n			So treten Sie der Veranstaltung im virtuellen Lernraum bei: \n1. Rufen Sie 5-10 min vor Terminstart den Link zum Virtuellen Lernraum auf: \nvirtuelle-ph-at.zoom.us/my/virtuelleph.electureeins \n2. Geben Sie bitte Ihren vollen Namen ein und klicken Sie den Button „Einem Meeting Beitreten“.                              \n3. Klicken Sie dann auch den grünen Button „Per Computer dem Audio beitreten“ an.\nDas bewirkt\, dass Sie uns hören und sehen können. Sie werden in Kürze eingelassen. \nDie Teilnahme an allen Veranstaltungen der Virtuellen PH ist für österreichische Hochschullehrende\, Lehrkräfte und Studierende eines Lehramts kostenlos.\n		 \n		\n			# Orientierung bezüglich aktueller Hochschulbildungsthemen mit Fokus auf Fortbildung  mit einem MOOC gewinnen \n# Trends in der digitalen Hochschullehre kennenlernen \n# In Austausch und Vernetzung mit Hochschulkolleg_innen kommen
URL:https://www.virtuelle-ph.at/veranstaltung/digiph6-lecture-digitalisierung-und-inklusive-bildung-mooc/
CATEGORIES:eLecture,Online-Tagung digiPH6 EL
END:VEVENT
END:VCALENDAR