BEGIN:VCALENDAR
VERSION:2.0
PRODID:-//Virtuelle PH - ECPv6.6.4.2//NONSGML v1.0//EN
CALSCALE:GREGORIAN
METHOD:PUBLISH
X-ORIGINAL-URL:https://www.virtuelle-ph.at
X-WR-CALDESC:Veranstaltungen für Virtuelle PH
REFRESH-INTERVAL;VALUE=DURATION:PT1H
X-Robots-Tag:noindex
X-PUBLISHED-TTL:PT1H
BEGIN:VTIMEZONE
TZID:Europe/Vienna
BEGIN:DAYLIGHT
TZOFFSETFROM:+0100
TZOFFSETTO:+0200
TZNAME:CEST
DTSTART:20210328T010000
END:DAYLIGHT
BEGIN:STANDARD
TZOFFSETFROM:+0200
TZOFFSETTO:+0100
TZNAME:CET
DTSTART:20211031T010000
END:STANDARD
BEGIN:DAYLIGHT
TZOFFSETFROM:+0100
TZOFFSETTO:+0200
TZNAME:CEST
DTSTART:20220327T010000
END:DAYLIGHT
BEGIN:STANDARD
TZOFFSETFROM:+0200
TZOFFSETTO:+0100
TZNAME:CET
DTSTART:20221030T010000
END:STANDARD
TZID:Europe/Berlin
BEGIN:DAYLIGHT
TZOFFSETFROM:+0100
TZOFFSETTO:+0200
TZNAME:CEST
DTSTART:20200329T010000
END:DAYLIGHT
BEGIN:STANDARD
TZOFFSETFROM:+0200
TZOFFSETTO:+0100
TZNAME:CET
DTSTART:20201025T010000
END:STANDARD
END:VTIMEZONE
BEGIN:VEVENT
DTSTART;TZID=Europe/Vienna:20220203T090000
DTEND;TZID=Europe/Vienna:20220203T103000
DTSTAMP:20260420T134941
CREATED:20220111T145512Z
LAST-MODIFIED:20220204T122832Z
UID:10003991-1643878800-1643884200@www.virtuelle-ph.at
SUMMARY:digiPH5 Hop on\, Hop off: Lernräume der Zukunft
DESCRIPTION:zur Aufzeichnung \n\n ​​  \n\n						In diesem Format können Sie flexibel auf- und abspringen\, wie schon der Name sagt! Mehrere Expert_innen geben einen kurzen Input und stehen dann jeweils in einem eigenen Raum (Breakoutroom) zum Vertiefen und Nachfragen bereit. Diese Vortragenden geben Ihnen folgenden Input rund ums Überthema Lernräume der Zukunft und stehen im Anschluss in Breakout Rooms für Vertiefung und Fragen zur Verfügung: \nRaphael Zender (HU Berlin) & Miriam Mulders (Uni Duisburg-Essen): SocialVR-Tagung: Präsenzveranstaltung in Virtual Reality  \nMittels Social Virtual Reality (SocialVR) können Teilnehmende in eine Online-3D-Umgebung eintauchen und mit anderen Personen interagieren – dabei entsteht nicht selten das psychologische Phänomen der "Sozialen Präsenz"\, das Gefühl tatsächlich mit anderen Personen in einer künstlichen Umgebung anwesend zu sein. Inspiriert durch dieses Potential wurde Ende 2020 eine der ersten wissenschaftlichen Tagungen per SocialVR durchgeführt. Dieser Forschungseinblick thematisiert Konzeption\, Durchführung und Evaluierung der Tagung im Hinblick auf die besonderen Eigenschaften von SocialVR. Welche Stärken und Schwächen SocialVR für wissenschaftliche Online-Tagungen bereithält\, erfahren Sie hier. \nSamira Khodaei & Lea Daling (IMA – RWTH Aachen University): Mixed Reality in der Hochschullehre – ein berechtigter Trend?  \nWelche Möglichkeiten bieten uns Mixed-Reality (MR)-Technologien in der Hochschullehre? Viele Studiengänge an Universitäten sind auf die Einbindung praktischer Erfahrungen angewiesen\, um die Studierenden adäquat auf ihr Berufsleben vorzubereiten. Jedoch sind Exkursionen und Besichtigungen oft mit hohen Aufwänden und Kosten verbunden – ganz zu schweigen von den Herausforderungen digitaler Lehre in Zeiten der Pandemie. Welche Vorteile der Einsatz von bieten kann\, wird hier thematisiert. Der Erfolg in der Lehre hängt jedoch nicht nur von der technischen Gestaltung ab. Es erwarten Sie Ergebnisse des Forschungsprojekts MiReBooks\, sowie aktuelle wissenschaftlich evaluierte und praktisch erprobte Erkenntnisse zum Thema MR basiertes Lehren und Lernen in der Hochschulbildung. Ein besonderer Fokus liegt auf der ganzheitlichen Betrachtung des Themas – von der Befähigung der Lehrenden\, eigene MR-Inhalte zu erstellen bis hin zur Akzeptanz von MR als Lernmedium durch die Studierenden.  \nElfriede Berger (HAUP): Hybride mobile Settings für den Praxisunterricht – Onlineexkursionen  \nGerade in der Zeit der Pandemie haben sich neue Formate für spannende Exkursionen auch ohne Reisekosten entwickelt\, die auch nach-COVID neue spannende Szenarien für den Unterricht und neue Formen der Teilhabe ermöglichen. Hier gibt es einen Überblick zu diversen Einsatzmöglichkeiten! Teilnehmende können dabei mitreden und auch -gestalten\, was sie genau sehen wollen. Didaktische Einsatzszenarien für Lehre und den Praxisunterricht sowie Beispiele von gelungenen Exkursionen & Praxisunterricht-Szenarien erwarten Sie.  \nCoModeration: Thomas Winkler \n\nExpert_in: Miriam Mulders\, Raphael Zender\, Samira Khodaei\, Lea Daling\, Elfriede Berger \n\n\n			\n				\n			\n			Teilnahmekriterien & Info\n		 \n		\n			Lernziele\n		 \n		\n			Voraussetzungen\n		\n		 \n		\n			\n				\n					\n			So treten Sie der Veranstaltung im virtuellen Lernraum bei: \n1. Rufen Sie 5-10 min vor Terminstart den Link zum Virtuellen Lernraum auf: \nvirtuelle-ph-at.zoom.us/my/virtuelleph.electure4  \n2. Geben Sie bitte Ihren vollen Namen ein und klicken Sie den Button „Einem Meeting Beitreten“.                              \n3. Klicken Sie dann auch den grünen Button „Per Computer dem Audio beitreten“ an.\nDas bewirkt\, dass Sie uns hören und sehen können. Sie werden in Kürze eingelassen. \nDie Teilnahme an allen Veranstaltungen der Virtuellen PH ist für österreichische Hochschullehrende\, Lehrkräfte und Studierende eines Lehramts kostenlos.\n		 \n		\n			# Orientierung bezüglich aktueller Hochschulbildungsthemen mit Fokus auf Lehr- und Lernräume der Zukunft gewinnen \n# Trends in der digitalen Hochschullehre kennenlernen \n# In Austausch und Vernetzung mit Hochschulkolleg_innen kommen
URL:https://www.virtuelle-ph.at/veranstaltung/digiph5-hop-on-hop-off-lernraeume-der-zukunft/
CATEGORIES:eLecture,NonSync Ref,Online-Tagung digiPH5 EL
ATTACH;FMTTYPE=image/png:https://www.virtuelle-ph.at/wp-content/uploads/2021/11/09-hopOn-Lernraeumezukunft.png
END:VEVENT
BEGIN:VEVENT
DTSTART;TZID=Europe/Vienna:20211123T170000
DTEND;TZID=Europe/Vienna:20211123T183000
DTSTAMP:20260420T134941
CREATED:20210630T113542Z
LAST-MODIFIED:20220210T122848Z
UID:10003919-1637686800-1637692200@www.virtuelle-ph.at
SUMMARY:eLecture: Exkursionen online abhalten
DESCRIPTION:zur Aufzeichnung\n    \n\n						Gerade in der Zeit der Pandemie haben sich neue Formate für spannende Exkursionen auch ohne Reisekosten entwickelt. Hier soll ein kurzer Überblick zu Einsatzmöglichkeiten von Online Exkursionen ermöglicht werden:  \nKonkret geht es in dieser eLecture um: \nGrundlagen der Exkursionsdidaktik \nVorstellung der Software Zoom  speziell für Exkursionen\nBeispiele von gelungenen online Exkursionen (zB. Live Exkursion nach Tansania) \nVorstellung hybrider Settings\, die im fachpraktischen Unterricht eingesetzt werden können  \nZu den Referent_innen: \nKlaus Karpf leitet das Institut für Schule\, Schulentwicklung und Grüne Pädagogik an der Hochschule für Agrar- und Umweltpädagogik in Wien und hat über 25 Jahre Praxiserfahrung im Schuldienst. Als Initiator und Projektleiter des Entwicklungsprojekts “New Horizon” der Hochschule mit einer secundary school in Tansania Kigoma\, ist es ihm besonders wichtig den Kontakt und Austausch dieser beiden Institutionen bestmöglich zu gestalten.  \nElfriede Berger leitet das Institut für Beratung\, Entwicklungsmanagement\, E-Learning und E-Didaktik an der Hochschule für Agrar- und Umweltpädagogik. Sie war über 20 Jahre in der Beratung und Erwachsenbildung tätig\, ist Lehrende der Lehrveranstaltung “Beratung und Teamarbeit digital” im Masterstudiengang Agrarpädagogik und Beratung und entwickelt mit den Studierenden digitale Bildungs- und Beratungssettings.  \nCoModeration: Thomas Winkler \n\nExpert_in: Elfriede Berger\, Klaus Karpf \n\n\n			\n				\n			\n			Teilnahmekriterien & Info\n		 \n		\n			Lernziele\n		 \n		\n			Voraussetzungen\n		\n		 \n		\n			\n				\n					\n			So treten Sie der Veranstaltung im virtuellen Lernraum bei: \n1. Rufen Sie 5 min vor Terminstart den Link zum Virtuellen Lernraum auf: \nzoom.us/my/virtuelleph.electure2 \n2. Geben Sie bitte Ihren vollen Namen ein und klicken Sie den Button „Einem Meeting Beitreten“.                              \n3. Klicken Sie den grünen Button „Per Computer dem Audio beitreten“ an. \nDas bewirkt\, dass Sie uns hören und sehen können. Sie werden in Kürze eingelassen. \nDie Teilnahme an allen eLectures der Virtuellen PH ist für österreichische Hochschullehrende\, Lehrkräfte und Studierende eines Lehramts kostenlos.\n		 \n		\n			* Exkursionen in Echtzeit “synchron” planen können  \n* Möglichkeiten von online Exkursionen erkennen können \n* Interaktion während einer Exkursion fördern   \n* Exkursionsdidaktik-Grundlagen kennenlernen
URL:https://www.virtuelle-ph.at/veranstaltung/electure-exkursionen-online-abhalten/
CATEGORIES:eLecture,Reihe Speziell für Hochschullehrende geeignet
END:VEVENT
BEGIN:VEVENT
DTSTART;TZID=Europe/Berlin:20200309T180000
DTEND;TZID=Europe/Berlin:20200309T200000
DTSTAMP:20260420T134941
CREATED:20191125T122810Z
LAST-MODIFIED:20200310T092414Z
UID:10003491-1583776800-1583784000@www.virtuelle-ph.at
SUMMARY:Auftaktveranstaltung: Online-Tagung Hochschule digital.innovativ | #digiPH3
DESCRIPTION:zur Aufzeichnung\n\n\n						Diese zweistündige Kickoff-Veranstaltung bildet den Auftakt zur bereits dritten Online-Tagung Hochschule digital.innovativ | #digiPH3\, die vom 9. März bis zum 5. April 2020 stattfindet und unter dem Thema „Hochschulen im digitalen (Klima)Wandel“ stehen wird. Wir laden alle Hochschullehrenden und sonstig Interessierte herzlich ein! \nWas Hochschulen und die Digitalisierung mit dem Klimawandel zu tun haben? Nicht nur auf den ersten Blick – eine ganze Menge. Wir sehen einerseits die Hochschulen in einer zentralen Rolle dabei\, durch Online-Lehre tatsächlich den ökologischen Fußabdruck verkleinern zu helfen. Den Klimawandel erleben wir andererseits auch bereits im übertragenen Sinne\, buchstäblich als Sinneswandel beim Thema Digitalisierung: ein Auf und Ab\, Heiß und Kalt von Fortschritt und Ernüchterung bei der Implementierung.  \nWir möchten im Rahmen dieser Veranstaltung 4 österreichischen Pädagogischen Hochschulen eine Bühne geben\, an Teilaspekten herauszuarbeiten\, wie sie sich dem digitalen (Klima)Wandel stellen und was derzeit konkret an ihren Hochschulen passiert.  \nBlitzvortragende: \nElfriede Berger | Hochschule für Agrar- und Umweltpädagogik\nwww.virtuelle-ph.at/referent_in/elfriede-berger/  \nRobert Mader | Pädagogische Hochschule Tirol\nwww.virtuelle-ph.at/referent_innen/robert-mader/ \nEva Gröstenberger | Pädagogische Hochschule Burgenland\nwww.virtuelle-ph.at/referent_innen/eva-groestenberger/ \nGerhard Brandhofer | Pädagogische Hochschule Niederösterreich\nwww.virtuelle-ph.at/referent_in/gerhard-brandhofer/ \nEine gegenseitige Bereicherung ist schon jetzt gewiss! Alle Expert_innen werden mit einer Fragestellung  zur anschließenden Diskussion anregen\, bei der Sie sich miteinbringen können. Also: stecken Sie vorab ein Headset an und diskutieren Sie rege mit! \n\n			\n				\n			\n			Teilnahmekriterien & Info\n		 \n		\n			Lernziele\n		 \n		\n			Voraussetzungen\n		\n		 \n		\n			\n				\n					\n			So treten Sie der Veranstaltung im virtuellen Lernraum bei:  \n        1. Rufen Sie 5 min vor Terminstart den Link zum Virtuellen Lernraum auf: \n             zoom.us/j/132747183 \n         2. Geben Sie bitte Ihre Email-Adresse und Ihren vollen Namen ein und klicken Sie den Button\n             „Dem Webinar beitreten“. \n         3. Klicken Sie den grünen Button „Per Computer dem Audio beitreten“ an.\n             Das bewirkt\, dass Sie uns hören und sehen können. Sie werden in Kürze eingelassen. \nDie Teilnahme an allen eLectures der Virtuellen PH ist für österreichische Hochschullehrende\, Lehrkräfte und Studierende eines Lehramts kostenlos.\n		 \n		\n			# Einblicke in Forschung und Praxis anderer österreichischer Hochschulen in Sachen digitaler (Klima)Wandel gewinnen \n# Trends in der digitalen Hochschullehre kennenlernen \n# Austausch mit anderen Hochschulen zu aktuellen Themen pflegen und Kontakte knüpfen\n		 \n		\n			Technische Voraussetzungen: Grundlegende Computerkenntnisse\, stabile Internetverbindung. Diese Veranstaltung wird via Zoom abgehalten. Führen Sie bei Aufforderung das Add-in aus. \nHinweis: Sie können als Teilnehmende_r immer via Chat\, hier aber auch via Headset-Audio mitkommunizieren (Headset nötig!).\nWenn Sie live mitdiskutieren möchten\, stecken Sie bitte vorab ein Headset an und bringen Sie sich ein!\nSie können sich zu Wort melden und werden von der CoModeration kurzzeitig zugeschaltet.
URL:https://www.virtuelle-ph.at/veranstaltung/auftaktveranstaltung-online-tagung-hochschule-digital-innovativ-digiph3/
CATEGORIES:eLecture,Online-Tagung digiPH3 AT
ATTACH;FMTTYPE=image/png:https://www.virtuelle-ph.at/wp-content/uploads/2019/11/auftakt-fb.png
END:VEVENT
END:VCALENDAR