BEGIN:VCALENDAR
VERSION:2.0
PRODID:-//Virtuelle PH - ECPv6.6.4.2//NONSGML v1.0//EN
CALSCALE:GREGORIAN
METHOD:PUBLISH
X-ORIGINAL-URL:https://www.virtuelle-ph.at
X-WR-CALDESC:Veranstaltungen für Virtuelle PH
REFRESH-INTERVAL;VALUE=DURATION:PT1H
X-Robots-Tag:noindex
X-PUBLISHED-TTL:PT1H
BEGIN:VTIMEZONE
TZID:Europe/Berlin
BEGIN:DAYLIGHT
TZOFFSETFROM:+0100
TZOFFSETTO:+0200
TZNAME:CEST
DTSTART:20190331T010000
END:DAYLIGHT
BEGIN:STANDARD
TZOFFSETFROM:+0200
TZOFFSETTO:+0100
TZNAME:CET
DTSTART:20191027T010000
END:STANDARD
END:VTIMEZONE
BEGIN:VEVENT
DTSTART;VALUE=DATE:20191104
DTEND;VALUE=DATE:20191125
DTSTAMP:20260420T213629
CREATED:20190924T033147Z
LAST-MODIFIED:20191103T033110Z
UID:10003171-1572825600-1574639999@www.virtuelle-ph.at
SUMMARY:Fachdidaktik: Deutsch digital
DESCRIPTION:Zur Anmeldung\n						\n\n						Die Installierung digitaler Werkzeuge im Unterricht geht Hand in Hand mit der sinnvollen Verknüpfung und Förderungen aller Kompetenzen. Die Lehrkraft ist der wichtigste Teil in der Bereicherung des Unterrichts und wenn es darum geht\, Neues in den Unterricht einfließen zu lassen. Der eindeutige Mehrgewinn für alle Schüler_innen muss immer im Fokus einer Veränderung stehen. \nIn der ersten Woche beginnen Sie die Blended-Learning-Landschaft zu erkunden. Das Durchforsten der Primärliteratur ist hier gleich ans Ausprobieren wichtiger digitaler Tools geknüpft. Ihr bisheriges Know-How wird somit gleich an eine aktive Produktionsphase geknüpft. \nIm Mittelpunkt der zweiten Woche steht das konkrete Ausprobieren und Anwenden digitaler Tools\, um zu erfahren\, wie die Kompetenzen Schreiben\, Lesen\, Hören und Sprechen bei Schüler_innen gezielt gefördert werden können.\nIn der dritten Woche liegt der Fokus auf dem direkten Einsatz der erarbeiteten Tools im Unterricht. Die Seminarteilnehmer_innen erstellen Unterrichtssequenzen und wenden digitale Tools aktiv an und vergleichen die daraus gewonnenen Rückschlüsse untereinander. \nDas Ziel des Online-Seminars ‚Fachdidaktik: Deutsch digital‘ ist demnach\, digitale Tools kennenzulernen und für den Unterricht zu testen\, die \n# einfach und praktikabel einsetzbar sind\,\n# einen eindeutigen Mehrgewinn hinsichtlich SchülerInnenleistungen erzielen\,\n# Sie anschlussfähig für das digitale Zeitalter machen\,\n# den Unterricht bereichern können\,\n# Schülerinnen und Schüler motivieren\,\n# zu gemeinsamen wie individuellen Arbeiten und Lernen anregen\,und vieles mehr. \nUm den Kurs positiv zu absolvieren\, müssen Sie 70% der eTivities in den dafür vorgesehenen Zeiträumen absolvieren. Die Abschlussaufgabe ist dabei verpflichtend durchzuführen. \nwww.virtuelle-ph.at/online-seminare \n\n			\n				\n			\n			Teilnahmekriterien & Info\n		 \n		\n			Lernziele\n		 \n		\n			Voraussetzungen\n		\n		 \n		\n			\n				\n					\n			Für die Anmeldung zur Teilnahme müssen Sie sich in PH-Online als Studierende/r identifizieren.\nAnmerkung: Die Teilnahme an allen im Rahmen des Online-Programms angebotenen Online-Seminaren der Virtuellen PH ist für österreichische Lehrkräfte\, PH-Lehrende und Studierende eines Lehramts kostenlos. Die Seminarplätze werden nach dem Prinzip first come\, first served – also chronologisch nach dem Zeitpunkt Ihrer Seminarbuchung über PH-Online – vergeben. Bis Mittwoch vor Beginn des jeweiligen Online-Seminars können Sie über PH-Online Ihr gebuchtes Online-Seminar selber kostenlos stornieren. Für ein allfälliges Storno zu einem späteren Zeitpunkt wenden Sie sich bitte an: info@virtuelle-ph.at\n		 \n		\n			In diesem Online-Seminar werden Sie lernen\, wie Sie didaktische Szenarien mit digitalen Tools vorbereiten und durchführen können\, sodass ein Mehrwert für die Schüler_innen gegeben ist.\n		 \n		\n			Internetzugang und Grundwissen im Umgang mit dem Internet und dem Computer\, sowie Aufgeschlossenheit für Neues
URL:https://www.virtuelle-ph.at/veranstaltung/fachdidaktik-deutsch-digital-8/
CATEGORIES:Online-Programm HerbstWinterprogramm,Online-Seminar
END:VEVENT
END:VCALENDAR