BEGIN:VCALENDAR
VERSION:2.0
PRODID:-//Virtuelle PH - ECPv6.6.4.2//NONSGML v1.0//EN
CALSCALE:GREGORIAN
METHOD:PUBLISH
X-WR-CALNAME:Virtuelle PH
X-ORIGINAL-URL:https://www.virtuelle-ph.at
X-WR-CALDESC:Veranstaltungen für Virtuelle PH
REFRESH-INTERVAL;VALUE=DURATION:PT1H
X-Robots-Tag:noindex
X-PUBLISHED-TTL:PT1H
BEGIN:VTIMEZONE
TZID:Europe/Berlin
BEGIN:DAYLIGHT
TZOFFSETFROM:+0100
TZOFFSETTO:+0200
TZNAME:CEST
DTSTART:20210328T010000
END:DAYLIGHT
BEGIN:STANDARD
TZOFFSETFROM:+0200
TZOFFSETTO:+0100
TZNAME:CET
DTSTART:20211031T010000
END:STANDARD
END:VTIMEZONE
BEGIN:VEVENT
DTSTART;VALUE=DATE:20210111
DTEND;VALUE=DATE:20210201
DTSTAMP:20260425T165311
CREATED:20210108T033005Z
LAST-MODIFIED:20210110T033020Z
UID:10003822-1610323200-1612137599@www.virtuelle-ph.at
SUMMARY:In the Cloud – Gemeinsam online arbeiten
DESCRIPTION:Zur Anmeldung\n						\n\n						Schon seit einigen Jahren nutzen immer mehr Internet-NutzerInnen die „Cloud“\, die „Datenwolke“ im Internet\, in die wir Dokumente oder Fotos abspeichern\, um sie dann von einem anderen Gerät aus aufzurufen oder mit Freunden und KollegInnen zu teilen.\nAuch in der Schule haben Cloud-Anwendungen wie „Office 365“ oder „Google Docs“ längst Einzug gehalten – sei es\, um Arbeitsprozesse mit KollegInnen zu vereinfachen oder um Lehr-/Lernszenarien mit SchülerInnen zu realisieren. \nIn diesem dreiwöchigen kooperativen Online-Seminar erhalten Sie einen Überblick über die „Cloud“ aus unterschiedlichen Perspektiven: \n• Sie erfahren\, welche Vorteile die Arbeit mit der Datenwolke bietet\, diskutieren aber auch mögliche Nachteile bzw. Gefahren – speziell im Schulkontext.\n• Sie untersuchen verschiedene methodische Zugänge und didaktische Szenarien\, die sich cloudbasierte Anwendungen zunutze machen und lernen innovative Projekte kennen\, die ohne die Datenwolke gar nicht denkbar wären.\n• Schließlich erarbeiten Sie Ihr eigenes Lehr-/Lernszenario unter Nutzung von cloudbasierten Diensten – maßgeschneidert für eine konkrete SchülerInnengruppe\, unterstützt von Ihren KollegInnen im Seminar und Ihrem Tutor / Ihrer Tutorin. \nBegeben Sie sich mit uns auf einen anregenden Flug in die Datenwolke und erleben Sie selbst\, warum die Freiheit dort oben wohl grenzenlos ist… \nwww.virtuelle-ph.at/online-seminare \n\nExpert_in: Elisabeth RudloffMartin Erian \n\n\n			\n				\n			\n			Teilnahmekriterien & Info\n		 \n		\n			Lernziele\n		 \n		\n			Voraussetzungen\n		\n		 \n		\n			\n				\n					\n			Für die Anmeldung zur Teilnahme müssen Sie sich in PH-Online als Studierende/r identifizieren.\nAnmerkung: Anmerkung: Die Teilnahme an allen im Rahmen des Online-Programms angebotenen Online-Seminaren der Virtuellen PH ist für österreichische Lehrkräfte\, PH-Lehrende und Studierende eines Lehramts kostenlos. Die Seminarplätze werden nach dem Prinzip first come\, first served – also chronologisch nach dem Zeitpunkt Ihrer Seminarbuchung über PH-Online – vergeben. Bis Mittwoch vor Beginn des jeweiligen Online-Seminars können Sie über PH-Online Ihr gebuchtes Online-Seminar selber kostenlos stornieren. Für ein allfälliges Storno zu einem späteren Zeitpunkt wenden Sie sich bitte an: info@virtuelle-ph.at\n		 \n		\n			Die Möglichkeiten des Arbeitens mit Cloud-Programmen im Unterricht und im Alltag kennenlernen sowie Potentiale und Gefahren erkennen können.\n		 \n		\n			Grundlegende Internet-Kenntnisse. Das ist ein Einführungsseminar.
URL:https://www.virtuelle-ph.at/veranstaltung/in-the-cloud-gemeinsam-online-arbeiten-15/
CATEGORIES:Online-Programm HerbstWinterprogramm,Online-Seminar
END:VEVENT
BEGIN:VEVENT
DTSTART;VALUE=DATE:20210111
DTEND;VALUE=DATE:20210201
DTSTAMP:20260425T165311
CREATED:20200921T091807Z
LAST-MODIFIED:20210110T033017Z
UID:10003378-1610323200-1612137599@www.virtuelle-ph.at
SUMMARY:In the Cloud – Gemeinsam online arbeiten
DESCRIPTION:Zur Anmeldung\n						\n\n						Schon seit einigen Jahren nutzen immer mehr Internet-NutzerInnen die „Cloud“\, die „Datenwolke“ im Internet\, in die wir Dokumente oder Fotos abspeichern\, um sie dann von einem anderen Gerät aus aufzurufen oder mit Freunden und KollegInnen zu teilen.\nAuch in der Schule haben Cloud-Anwendungen wie „Office 365“ oder „Google Docs“ längst Einzug gehalten – sei es\, um Arbeitsprozesse mit KollegInnen zu vereinfachen oder um Lehr-/Lernszenarien mit SchülerInnen zu realisieren. \nIn diesem dreiwöchigen kooperativen Online-Seminar erhalten Sie einen Überblick über die „Cloud“ aus unterschiedlichen Perspektiven: \n• Sie erfahren\, welche Vorteile die Arbeit mit der Datenwolke bietet\, diskutieren aber auch mögliche Nachteile bzw. Gefahren – speziell im Schulkontext.\n• Sie untersuchen verschiedene methodische Zugänge und didaktische Szenarien\, die sich cloudbasierte Anwendungen zunutze machen und lernen innovative Projekte kennen\, die ohne die Datenwolke gar nicht denkbar wären.\n• Schließlich erarbeiten Sie Ihr eigenes Lehr-/Lernszenario unter Nutzung von cloudbasierten Diensten – maßgeschneidert für eine konkrete SchülerInnengruppe\, unterstützt von Ihren KollegInnen im Seminar und Ihrem Tutor / Ihrer Tutorin. \nBegeben Sie sich mit uns auf einen anregenden Flug in die Datenwolke und erleben Sie selbst\, warum die Freiheit dort oben wohl grenzenlos ist… \nwww.virtuelle-ph.at/online-seminare \n\nExpert_in: Elisabeth RudloffMartin Erian \n\n\n			\n				\n			\n			Teilnahmekriterien & Info\n		 \n		\n			Lernziele\n		 \n		\n			Voraussetzungen\n		\n		 \n		\n			\n				\n					\n			Für die Anmeldung zur Teilnahme müssen Sie sich in PH-Online als Studierende/r identifizieren.\nAnmerkung: Anmerkung: Die Teilnahme an allen im Rahmen des Online-Programms angebotenen Online-Seminaren der Virtuellen PH ist für österreichische Lehrkräfte\, PH-Lehrende und Studierende eines Lehramts kostenlos. Die Seminarplätze werden nach dem Prinzip first come\, first served – also chronologisch nach dem Zeitpunkt Ihrer Seminarbuchung über PH-Online – vergeben. Bis Mittwoch vor Beginn des jeweiligen Online-Seminars können Sie über PH-Online Ihr gebuchtes Online-Seminar selber kostenlos stornieren. Für ein allfälliges Storno zu einem späteren Zeitpunkt wenden Sie sich bitte an: info@virtuelle-ph.at\n		 \n		\n			Die Möglichkeiten des Arbeitens mit Cloud-Programmen im Unterricht und im Alltag kennenlernen sowie Potentiale und Gefahren erkennen können.\n		 \n		\n			Grundlegende Internet-Kenntnisse. Das ist ein Einführungsseminar.
URL:https://www.virtuelle-ph.at/veranstaltung/in-the-cloud-gemeinsam-online-arbeiten-14/
CATEGORIES:Online-Programm HerbstWinterprogramm,Online-Seminar
END:VEVENT
END:VCALENDAR