BEGIN:VCALENDAR
VERSION:2.0
PRODID:-//Virtuelle PH - ECPv6.6.4.2//NONSGML v1.0//EN
CALSCALE:GREGORIAN
METHOD:PUBLISH
X-ORIGINAL-URL:https://www.virtuelle-ph.at
X-WR-CALDESC:Veranstaltungen für Virtuelle PH
REFRESH-INTERVAL;VALUE=DURATION:PT1H
X-Robots-Tag:noindex
X-PUBLISHED-TTL:PT1H
BEGIN:VTIMEZONE
TZID:Europe/Berlin
BEGIN:DAYLIGHT
TZOFFSETFROM:+0100
TZOFFSETTO:+0200
TZNAME:CEST
DTSTART:20170326T010000
END:DAYLIGHT
BEGIN:STANDARD
TZOFFSETFROM:+0200
TZOFFSETTO:+0100
TZNAME:CET
DTSTART:20171029T010000
END:STANDARD
END:VTIMEZONE
BEGIN:VEVENT
DTSTART;TZID=Europe/Berlin:20170515T190000
DTEND;TZID=Europe/Berlin:20170515T200000
DTSTAMP:20260420T155312
CREATED:20170329T060626Z
LAST-MODIFIED:20170515T033337Z
UID:10002512-1494874800-1494878400@www.virtuelle-ph.at
SUMMARY:eLecture Schwerpunkt #digiFD: Musikerziehung Digital
DESCRIPTION:CoModeration: Robert Schrenk \nNeue Medien sind von Grund auf für die Musikerziehung äußerst relevant: kaum ein Musikstil der vergangenen oder gegenwärtigen Strömungen verzichtet auf den Einsatz von Medien; sei es bei der Musikproduktion oder im Marketing (Musikvideos). Prinzipiell sind musikalische Strömungen als kulturelle\, durch mediale Entwicklungen beeinflusste und geprägte Phänomene zu verstehen. Vor diesem Hintergrund schauen Sie sich in dieser eLecture aktuelle Anwendungen genauer an! \nElisabeth Wieland arbeitet seit 2006 aktiv mit digitalen Medien am BORG Bad Hofgastein\, einer multimedialen und musikalischen Schwerpunktschule. \nVerschiedene zusätzliche Ausbildungen und Aktivitäten begleiten diese Tätigkeit\, zudem ist sie mehrfache Preisträgerin und veranstaltete insgesamt 3x den „Österreichweiten Kongress für Musik und eLearning“. Sie ist zudem Universitätsassistentin am Department für Musikpädagogik der Universität Mozarteum Salzburg und ist passionierte Chorleiterin. \nIn dieser eLecture werden sowohl mögliche musikdidaktische Einsatzszenarien von für Allgemeingegenstände bereits gängigen digitalen Anwendungen (z.B. Kahoot\, Prezi\, Learningapps)\, als auch musikpädagogische Spezialanwendungen (z.B. Noteflight\, Soundcloud\, Youtube u.ä.) vorgestellt.  \nDiese eLecture ist geeignet für: \n\ndigital-interessierte und digital-werdende Musik- und Instrumentalmusikerzieher_innen\nEinsteiger_innen jeglicher musikpädagogischer Richtung\nfachverwandte KollegInnen\, die fächerverbindende Elemente auf medialer Ebene zur Musik und Musikerziehung suchen\, \n\nalle Interessierten\n\n\n\n			\n				\n			\n			Teilnahmekriterien & Info\n		 \n		\n			Lernziele\n		 \n		\n			Voraussetzungen\n		\n		 \n		\n			\n				\n					\n			Technische Voraussetzungen: Grundlegende Computerkenntnisse\, gute Internetverbindung; optional: Headset.  \nSo treten Sie der eLecture im virtuellen Lernraum bei:  \n1. Rufen Sie 10 min vor Terminstart folgende Seite auf:  \nvph.adobeconnect.com/eins/ \n2. Geben Sie bitte Ihren Vor- und Nachnamen ein und „Betreten Sie den Raum“ mit Klick auf den Button. \n3. Folgen Sie den Anweisungen auf dem Bildschirm. Sie werden in Kürze eingelassen. \nWenn Sie noch an keiner eLecture teilgenommen haben\, finden Sie alle Infos zum Einstieg unter:\nwww.virtuelle-ph.at/electures/#einstieg \nDie Teilnahme an allen eLectures der Virtuellen PH ist für österreichische Lehrkräfte und Studierende eines Lehramts kostenlos.\n		 \n		\n			# Verschiedene digitale Musik-Anwendungen kennenlernen\n# Digitale Musik-Anwendungen didaktisch reflektiert sinnvoll einsetzen\n# Entwickeln von Neugierde für neue Unterrichtsszenarien und -formen im Sinne  des „Lebenslangen Lernens“\n# Digitale und musikdidaktische Phänomene (zukunftsorientiert) einschätzen und bewerten können
URL:https://www.virtuelle-ph.at/veranstaltung/electure-schwerpunkt-digifd-musikerziehung-digital/
CATEGORIES:eLecture,Themenschwerpunkt digiFD EL
END:VEVENT
END:VCALENDAR