BEGIN:VCALENDAR
VERSION:2.0
PRODID:-//Virtuelle PH - ECPv6.6.4.2//NONSGML v1.0//EN
CALSCALE:GREGORIAN
METHOD:PUBLISH
X-WR-CALNAME:Virtuelle PH
X-ORIGINAL-URL:https://www.virtuelle-ph.at
X-WR-CALDESC:Veranstaltungen für Virtuelle PH
REFRESH-INTERVAL;VALUE=DURATION:PT1H
X-Robots-Tag:noindex
X-PUBLISHED-TTL:PT1H
BEGIN:VTIMEZONE
TZID:Europe/Vienna
BEGIN:DAYLIGHT
TZOFFSETFROM:+0100
TZOFFSETTO:+0200
TZNAME:CEST
DTSTART:20210328T010000
END:DAYLIGHT
BEGIN:STANDARD
TZOFFSETFROM:+0200
TZOFFSETTO:+0100
TZNAME:CET
DTSTART:20211031T010000
END:STANDARD
TZID:Europe/Berlin
BEGIN:DAYLIGHT
TZOFFSETFROM:+0100
TZOFFSETTO:+0200
TZNAME:CEST
DTSTART:20210328T010000
END:DAYLIGHT
BEGIN:STANDARD
TZOFFSETFROM:+0200
TZOFFSETTO:+0100
TZNAME:CET
DTSTART:20211031T010000
END:STANDARD
END:VTIMEZONE
BEGIN:VEVENT
DTSTART;TZID=Europe/Vienna:20210316T150000
DTEND;TZID=Europe/Vienna:20210316T163000
DTSTAMP:20260419T171411
CREATED:20201117T133034Z
LAST-MODIFIED:20210317T085549Z
UID:10003416-1615906800-1615912200@www.virtuelle-ph.at
SUMMARY:eLecture: Kraftquelle: Erholsam schlafen - Pädagoginnen/Pädagogen\, Kindergartenmitarbeiterinnen/-mitarbeiter
DESCRIPTION:Keine Aufzeichnung vorhanden\n\n\n						Wer gesund\, fit\, leistungsfähig und guter Stimmung sein will\, muss auch gut schlafen. \nDieser Workshop gibt Hilfe zur Selbsthilfe mit vielen praktischen und sofort anwendbaren Tipps für Ihren erholsamen Schlaf.\nEin Impulsvortrag weiht Sie in das Geheimnis Schlaf ein. Sie hören über verschiedene Formen von Schlafstörungen und was man dagegen tun kann. Sie üben schlaffördernde Entspannungs- und Atemtechniken. Sie erfahren unter anderem\, was Licht und unsere inneren Uhren mit gutem Schlaf zu tun haben und wie sich der Schlaf im Laufe Ihres Lebens ändert. Sie lernen (wieder) besser ein- und durchzuschlafen. \n\nSollten Sie keinen PH Online Zugang haben\, können Sie sich auch per E-Mail an info@virtuelle-ph.at anmelden. Geben Sie dabei folgende Angaben an:\nVorname\, Nachname\, E-Mail\, Kindergartenname. \nCoModeration: Thomas Winkler \n\nExpert_in: Elke Doppler-Wagner \n\n\n			\n				\n			\n			Teilnahmekriterien & Info\n		 \n		\n			Lernziele\n		 \n		\n			Voraussetzungen\n		\n		 \n		\n			\n				\n					\n			So treten Sie der Veranstaltung im virtuellen Lernraum bei:  \n        1. Rufen Sie 5 min vor Terminstart den Link zum Virtuellen Lernraum auf: \nDer Raumlink wird Ihnen einen Tag vor Abhaltung per Mail bekanntgegeben. \n         2. Geben Sie bitte Ihre Email-Adresse und Ihren vollen Namen ein und klicken Sie den Button\n             „Dem Webinar beitreten“. \n         3. Klicken Sie den grünen Button „Per Computer dem Audio beitreten“ an.\n             Das bewirkt\, dass Sie uns hören und sehen können. Sie werden in Kürze eingelassen. \nDie Teilnahme an allen eLectures der Virtuellen PH ist für österreichische Hochschullehrende\, Lehrkräfte und Studierende eines Lehramts kostenlos.\n		 \n		\n			# Sie lernen verschiedene Formen von Schlafstörungen kennen und was man dagegen tun kann.  \n# Sie üben schlaffördernde Entspannungs- und Atemtechniken.  \n# Sie erfahren unter anderem\, was Licht und unsere inneren Uhren mit gutem Schlaf zu tun haben  \n# Sie lernen (wieder) besser ein- und durchzuschlafen.
URL:https://www.virtuelle-ph.at/veranstaltung/electure-kraftquelle-erholsam-schlafen-paedagoginnen-paedagogen-kindergartenmitarbeiterinnen-mitarbeiter-2/
CATEGORIES:eLecture,Reihe Gesunder Arbeitsplatz Kindergarten
END:VEVENT
BEGIN:VEVENT
DTSTART;TZID=Europe/Vienna:20210315T150000
DTEND;TZID=Europe/Vienna:20210315T163000
DTSTAMP:20260419T171411
CREATED:20201117T133034Z
LAST-MODIFIED:20210316T072150Z
UID:10003415-1615820400-1615825800@www.virtuelle-ph.at
SUMMARY:eLecture: Kraftquelle: Erholsam schlafen - Schulleitung\, Lehrkräfte
DESCRIPTION:Keine Aufzeichnung verfügbar\n\n\nCoModeration: Harald Meyer \n\nExpert_in: Elke Doppler-Wagner \n\n\n			\n				\n			\n			Teilnahmekriterien & Info\n		 \n		\n			Lernziele\n		 \n		\n			Voraussetzungen\n		\n		 \n		\n			\n				\n					\n			So treten Sie der Veranstaltung im virtuellen Lernraum bei: \n1. Rufen Sie 5 min vor Terminstart den Link zum Virtuellen Lernraum auf: \nDer Raumlink wird Ihnen einen Tag vor Abhaltung per Mail bekanntgegeben. \n2. Geben Sie bitte Ihre Email-Adresse und Ihren vollen Namen ein und klicken Sie den Button\n„Dem Webinar beitreten“. \n3. Klicken Sie den grünen Button „Per Computer dem Audio beitreten“ an.\nDas bewirkt\, dass Sie uns hören und sehen können. Sie werden in Kürze eingelassen. \nDie Teilnahme an allen eLectures der Virtuellen PH ist für österreichische Hochschullehrende\, Lehrkräfte und Studierende eines Lehramts kostenlos.\n		 \n		\n			# Sie lernen verschiedene Formen von Schlafstörungen kennen und was man dagegen tun kann. \n# Sie üben schlaffördernde Entspannungs- und Atemtechniken. \n# Sie erfahren unter anderem\, was Licht und unsere inneren Uhren mit gutem Schlaf zu tun haben \n# Sie lernen (wieder) besser ein- und durchzuschlafen.
URL:https://www.virtuelle-ph.at/veranstaltung/electure-kraftquelle-erholsam-schlafen-schulleitung-lehrkraefte-2/
CATEGORIES:eLecture,Reihe Gesunder Arbeitsplatz Schule
END:VEVENT
BEGIN:VEVENT
DTSTART;TZID=Europe/Berlin:20210216T150000
DTEND;TZID=Europe/Berlin:20210216T163000
DTSTAMP:20260419T171411
CREATED:20210126T165103Z
LAST-MODIFIED:20210303T111355Z
UID:10003451-1613487600-1613493000@www.virtuelle-ph.at
SUMMARY:eLecture: Kraftquelle: Erholsam schlafen - Schulleitung\, Lehrkräfte
DESCRIPTION:
URL:https://www.virtuelle-ph.at/veranstaltung/electure-kraftquelle-erholsam-schlafen-schulleitung-lehrkraefte-3/
CATEGORIES:eLecture,Reihe Gesunder Arbeitsplatz Schule
END:VEVENT
BEGIN:VEVENT
DTSTART;TZID=Europe/Berlin:20210121T150000
DTEND;TZID=Europe/Berlin:20210121T163000
DTSTAMP:20260419T171411
CREATED:20201117T133023Z
LAST-MODIFIED:20210122T090421Z
UID:10003784-1611241200-1611246600@www.virtuelle-ph.at
SUMMARY:eLecture: Kraftquelle: Erholsam schlafen - Schulleitung\, Lehrkräfte
DESCRIPTION:
URL:https://www.virtuelle-ph.at/veranstaltung/electure-kraftquelle-erholsam-schlafen-schulleitung-lehrkraefte/
CATEGORIES:eLecture,Reihe Gesunder Arbeitsplatz Schule
END:VEVENT
BEGIN:VEVENT
DTSTART;TZID=Europe/Berlin:20210120T150000
DTEND;TZID=Europe/Berlin:20210120T163000
DTSTAMP:20260419T171411
CREATED:20201117T133021Z
LAST-MODIFIED:20210121T094716Z
UID:10003782-1611154800-1611160200@www.virtuelle-ph.at
SUMMARY:eLecture: Kraftquelle: Erholsam schlafen - Pädagoginnen/Pädagogen\, Kindergartenmitarbeiterinnen/-mitarbeiter
DESCRIPTION:
URL:https://www.virtuelle-ph.at/veranstaltung/electure-kraftquelle-erholsam-schlafen-paedagoginnen-paedagogen-kindergartenmitarbeiterinnen-mitarbeiter/
CATEGORIES:eLecture,Reihe Gesunder Arbeitsplatz Kindergarten
END:VEVENT
END:VCALENDAR