BEGIN:VCALENDAR
VERSION:2.0
PRODID:-//Virtuelle PH - ECPv6.6.4.2//NONSGML v1.0//EN
CALSCALE:GREGORIAN
METHOD:PUBLISH
X-WR-CALNAME:Virtuelle PH
X-ORIGINAL-URL:https://www.virtuelle-ph.at
X-WR-CALDESC:Veranstaltungen für Virtuelle PH
REFRESH-INTERVAL;VALUE=DURATION:PT1H
X-Robots-Tag:noindex
X-PUBLISHED-TTL:PT1H
BEGIN:VTIMEZONE
TZID:Europe/Berlin
BEGIN:DAYLIGHT
TZOFFSETFROM:+0100
TZOFFSETTO:+0200
TZNAME:CEST
DTSTART:20160327T010000
END:DAYLIGHT
BEGIN:STANDARD
TZOFFSETFROM:+0200
TZOFFSETTO:+0100
TZNAME:CET
DTSTART:20161030T010000
END:STANDARD
END:VTIMEZONE
BEGIN:VEVENT
DTSTART;TZID=Europe/Berlin:20160510T160000
DTEND;TZID=Europe/Berlin:20160510T170000
DTSTAMP:20260420T083728
CREATED:20160504T100637Z
LAST-MODIFIED:20160510T033054Z
UID:10002265-1462896000-1462899600@www.virtuelle-ph.at
SUMMARY:eLecture Schwerpunkt Begabungsförderung: Was Sie schon immer über Begabung wissen wollten
DESCRIPTION:„Begabung“ wird als Begriff sehr unterschiedlich verwendet; Konnotationen mit Intelligenz und außergewöhnlichen Leistungen schwingen dabei häufig mit. In der eLecture reflektieren die Teilnehmer/innen ihr eigenes Verständnis von Begabung und lernen theoretische Ansätze dazu kennen. Auch verwandte Begriffe wie Talent und Leistungsexzellenz werden erörtert und darauf aufbauend Modelle zur Begabungsentwicklung in den Blick genommen. Einer kurzen Erläuterung der Hintergründe und Hauptaussagen folgt stets die Frage nach den pädagogischen Konsequenzen\, die aus den theoretischen Ansätzen gezogen werden können. \n\n			\n				\n			\n			Teilnahmekriterien & Info\n		 \n		\n			Lernziele\n		 \n		\n			Voraussetzungen\n		\n		 \n		\n			\n				\n					\n			Technische Voraussetzungen: Grundlegende Computerkenntnisse\, gute Internetverbindung\, empfehlenswert: Headset. \nBitte finden Sie sich etwa 10 Minuten vor Start der eLecture im virtuellen Seminarraum unter diesem Link ein: virtuelle-ph.adobeconnect.com/electures_begabungsfoerderung/ \nWichtige Hinweise zum Besuch einer eLecture unter: www.virtuelle-ph.at/electures-info \nÜber diesen Link können Sie testen\, ob Ihr Computer optimal für den eLectures-Besuch vorbereitet ist\, und vorgeschlagene Aktualisierungen vornehmen: admin.adobeconnect.com/common/help/de/support/meeting_test.htm \nWenn Sie ein Headset besitzen\, stecken Sie es bitte an bevor Sie den Adobe Connect-Raum betreten. \nDie Teilnahme an allen eLectures der Virtuellen PH ist für österreichische Lehrkräfte und Studierende eines Lehramts kostenlos.\n		 \n		\n			* Mit dem eigenen Begabungsbegriff auseinandersetzen\n* Definitionen zu einschlägigen Termini kennenlernen\n* Modelle zur Begabungsentwicklung kennenlernen\n* Rückschlüsse aus den Definitionen und Modellen für den eigenen Unterricht ziehen.
URL:https://www.virtuelle-ph.at/veranstaltung/electure-schwerpunkt-begabungsfoerderung-was-sie-schon-immer-ueber-begabung-wissen-wollten/
CATEGORIES:eLecture,Themenschwerpunkt Begabungsförderung
END:VEVENT
BEGIN:VEVENT
DTSTART;TZID=Europe/Berlin:20160427T163000
DTEND;TZID=Europe/Berlin:20160427T173000
DTSTAMP:20260420T083728
CREATED:20160418T185401Z
LAST-MODIFIED:20160427T033101Z
UID:10002115-1461774600-1461778200@www.virtuelle-ph.at
SUMMARY:eLecture Schwerpunkt Begabungsförderung: Begabungsfördernde Unterrichtsmethoden und Lernsettings - Teil 2
DESCRIPTION:In den letzten Jahren sind Individualisierung und Differenzierung zentrale Elemente einer zeitgemäßen Unterrichtsgestaltung geworden. Lehrpersonen stehen dabei vor der Herausforderung\, Lernarrangements im Unterricht zu schaffen\, die auf die Bedürfnisse heterogener Lerngruppen abgestimmt sind. Dies bedeutet nicht\, dass für 25 Lernende 25 verschiedene Unterrichtsangebote erstellt werden müssen. Vielmehr sind anregende Umwelten zu kreieren\, in denen Schüler/innen Eigenverantwortung für ihre Lernprozesse übernehmen können. Diese eLecture soll Ideen für derartige Umwelten geben. Es werden grundsätzliche didaktische Herangehensweisen in der Begabungsförderung diskutiert und darauf aufbauend Wege aufgezeigt\, wie differenzierende Lernarrangements im Unterricht aussehen können. Dazu wird das interaktive Plakat „Wege in der Begabungsförderung“ des ÖZBF vorgestellt und anhand von Beispielen aus der Praxis erklärt. In diesem zweiten Teil wird besonders auf folgende Unterrichtsmethoden und Lernsettings eingegangen: \n* Contracting – Lernvertrag für eine ganze Klasse\n* Portfolio\n* Flexible Gruppierungen\n* Förderorientierte Leistungsrückmeldung \n\n			\n				\n			\n			Teilnahmekriterien & Info\n		 \n		\n			Lernziele\n		 \n		\n			Voraussetzungen\n		\n		 \n		\n			\n				\n					\n			Technische Voraussetzungen: Grundlegende Computerkenntnisse\, gute Internetverbindung\, empfehlenswert: Headset. \nBitte finden Sie sich etwa 10 Minuten vor Start der eLecture im virtuellen Seminarraum unter diesem Link ein: virtuelle-ph.adobeconnect.com/electures_begabungsfoerderung/ \nWichtige Hinweise zum Besuch einer eLecture unter: www.virtuelle-ph.at/electures-info \nÜber diesen Link können Sie testen\, ob Ihr Computer optimal für den eLectures-Besuch vorbereitet ist\, und vorgeschlagene Aktualisierungen vornehmen: admin.adobeconnect.com/common/help/de/support/meeting_test.htm \nWenn Sie ein Headset besitzen\, stecken Sie es bitte an bevor Sie den Adobe Connect-Raum betreten. \nDie Teilnahme an allen eLectures der Virtuellen PH ist für österreichische Lehrkräfte und Studierende eines Lehramts kostenlos.\n		 \n		\n			* Grundsätze einer begabungsfördernden pädagogischen Haltung kennen\n* „Akzeleration“ und „Enrichment“\, die beiden großen Zugänge begabungsfördernden Unterrichtens kennen\n* Ausgewählte begabungsfördernde Unterrichtsmethoden kennen; mögliche Umsetzungsweisen in ihrer täglichen Praxis reflektieren\n* Begabungsfördernde Unterrichtsmethoden/Lernsettings an die Bedürfnisse ihrer SchülerInnen anpassen und diese zielgerichtet fördern\n* Ausgewählte außerschulische Fördermaßnahmen der Begabtenförderung kennen.
URL:https://www.virtuelle-ph.at/veranstaltung/electure-schwerpunkt-begabungsfoerderung-begabungsfoerdernde-unterrichtsmethoden-und-lernsettings-teil-2/
CATEGORIES:eLecture,Themenschwerpunkt Begabungsförderung
END:VEVENT
BEGIN:VEVENT
DTSTART;TZID=Europe/Berlin:20160420T163000
DTEND;TZID=Europe/Berlin:20160420T173000
DTSTAMP:20260420T083728
CREATED:20160418T185720Z
LAST-MODIFIED:20160420T033439Z
UID:10002195-1461169800-1461173400@www.virtuelle-ph.at
SUMMARY:eLecture Schwerpunkt Begabungsförderung: Begabungsfördernde Unterrichtsmethoden und Lernsettings - Teil 1
DESCRIPTION:In den letzten Jahren sind Individualisierung und Differenzierung zentrale Elemente einer zeitgemäßen Unterrichtsgestaltung geworden. Lehrpersonen stehen dabei vor der Herausforderung\, Lernarrangements im Unterricht zu schaffen\, die auf die Bedürfnisse heterogener Lerngruppen abgestimmt sind. Dies bedeutet nicht\, dass für 25 Lernende 25 verschiedene Unterrichtsangebote erstellt werden müssen. Vielmehr sind anregende Umwelten zu kreieren\, in denen Schüler/innen Eigenverantwortung für ihre Lernprozesse übernehmen können. Diese eLecture soll Ideen für derartige Umwelten geben. Es werden grundsätzliche didaktische Herangehensweisen in der Begabungsförderung diskutiert und darauf aufbauend Wege aufgezeigt\, wie differenzierende Lernarrangements im Unterricht aussehen können. Dazu wird das interaktive Plakat „Wege in der Begabungsförderung“ des ÖZBF vorgestellt und anhand von Beispielen aus der Praxis erklärt. In diesem ersten Teil wird besonders auf folgende Unterrichtsmethoden und Lernsettings eingegangen: \n* Drehtürmodell mit individuellem Lernvertrag\n* Differenzierte Lernziele und Lernprodukte\n* Forschendes Lernen\n* Atelierbetrieb\n* Stationenlernen \n\n			\n				\n			\n			Teilnahmekriterien & Info\n		 \n		\n			Lernziele\n		 \n		\n			Voraussetzungen\n		\n		 \n		\n			\n				\n					\n			Technische Voraussetzungen: Grundlegende Computerkenntnisse\, gute Internetverbindung\, empfehlenswert: Headset. \nBitte finden Sie sich etwa 10 Minuten vor Start der eLecture im virtuellen Seminarraum unter diesem Link ein: virtuelle-ph.adobeconnect.com/electures_begabungsfoerderung/ \nWichtige Hinweise zum Besuch einer eLecture unter: www.virtuelle-ph.at/electures-info \nÜber diesen Link können Sie testen\, ob Ihr Computer optimal für den eLectures-Besuch vorbereitet ist\, und vorgeschlagene Aktualisierungen vornehmen: admin.adobeconnect.com/common/help/de/support/meeting_test.htm \nWenn Sie ein Headset besitzen\, stecken Sie es bitte an bevor Sie den Adobe Connect-Raum betreten. \nDie Teilnahme an allen eLectures der Virtuellen PH ist für österreichische Lehrkräfte und Studierende eines Lehramts kostenlos.\n		 \n		\n			* Grundsätze einer begabungsfördernden pädagogischen Haltung kennen;\n* „Akzeleration“ und „Enrichment“\, die beiden großen Zugänge begabungsfördernden Unterrichtens kennen;\n* Ausgewählte begabungsfördernde Unterrichtsmethoden kennen; mögliche Umsetzungsweisen in ihrer täglichen Praxis reflektieren;\n* Begabungsfördernde Unterrichtsmethoden/Lernsettings an die Bedürfnisse ihrer SchülerInnen anpassen und diese zielgerichtet fördern;\n* Ausgewählte außerschulische Fördermaßnahmen der Begabtenförderung kennen.
URL:https://www.virtuelle-ph.at/veranstaltung/electure-schwerpunkt-begabungsfoerderung-begabungsfoerdernde-unterrichtsmethoden-und-lernsettings-teil-1/
CATEGORIES:eLecture,Themenschwerpunkt Begabungsförderung
END:VEVENT
END:VCALENDAR