BEGIN:VCALENDAR
VERSION:2.0
PRODID:-//Virtuelle PH - ECPv6.6.4.2//NONSGML v1.0//EN
CALSCALE:GREGORIAN
METHOD:PUBLISH
X-ORIGINAL-URL:https://www.virtuelle-ph.at
X-WR-CALDESC:Veranstaltungen für Virtuelle PH
REFRESH-INTERVAL;VALUE=DURATION:PT1H
X-Robots-Tag:noindex
X-PUBLISHED-TTL:PT1H
BEGIN:VTIMEZONE
TZID:Europe/Vienna
BEGIN:DAYLIGHT
TZOFFSETFROM:+0100
TZOFFSETTO:+0200
TZNAME:CEST
DTSTART:20210328T010000
END:DAYLIGHT
BEGIN:STANDARD
TZOFFSETFROM:+0200
TZOFFSETTO:+0100
TZNAME:CET
DTSTART:20211031T010000
END:STANDARD
TZID:Europe/Berlin
BEGIN:DAYLIGHT
TZOFFSETFROM:+0100
TZOFFSETTO:+0200
TZNAME:CEST
DTSTART:20200329T010000
END:DAYLIGHT
BEGIN:STANDARD
TZOFFSETFROM:+0200
TZOFFSETTO:+0100
TZNAME:CET
DTSTART:20201025T010000
END:STANDARD
END:VTIMEZONE
BEGIN:VEVENT
DTSTART;TZID=Europe/Vienna:20210310T150000
DTEND;TZID=Europe/Vienna:20210310T163000
DTSTAMP:20260425T170404
CREATED:20201117T133034Z
LAST-MODIFIED:20210415T151253Z
UID:10003412-1615388400-1615393800@www.virtuelle-ph.at
SUMMARY:eLecture: Resilienz – Wege zu mehr psychischer Widerstandskraft  - Pädagoginnen/Pädagogen\, Kindergartenmitarbeiterinnen/-mitarbeiter
DESCRIPTION:Keine Aufzeichnung verfügbar\n\n\n						Resilienz lässt sich stärken. Doch welche Faktoren spielen dabei eine Rolle und was kann jede/jeder Einzelne dafür tun? Der Vortrag gibt einen Überblick über 7 Einflussbereiche mit praktischen Tipps\, um die persönliche Krisenfestigkeit präventiv zu stärken. \nSollten Sie keinen PH Online Zugang haben\, können Sie sich auch per E-Mail an info@virtuelle-ph.at anmelden.  Geben Sie dabei folgende Angaben an:\nVorname\, Nachname\, E-Mail\, Kindergartenname. \nCoModeration: Thomas Winkler \n\nExpert_in: Eva Maria Deutsch \n\n\n			\n				\n			\n			Teilnahmekriterien & Info\n		 \n		\n			Lernziele\n		 \n		\n			Voraussetzungen\n		\n		 \n		\n			\n				\n					\n			So treten Sie der Veranstaltung im virtuellen Lernraum bei:  \n        1. Rufen Sie 5 min vor Terminstart den Link zum Virtuellen Lernraum auf: \nDer Raumlink wird Ihnen einen Tag vor Abhaltung per Mail bekanntgegeben. \n         2. Geben Sie bitte Ihre Email-Adresse und Ihren vollen Namen ein und klicken Sie den Button\n             „Dem Webinar beitreten“. \n         3. Klicken Sie den grünen Button „Per Computer dem Audio beitreten“ an.\n             Das bewirkt\, dass Sie uns hören und sehen können. Sie werden in Kürze eingelassen. \nDie Teilnahme an allen eLectures der Virtuellen PH ist für österreichische Hochschullehrende\, Lehrkräfte und Studierende eines Lehramts kostenlos.\n		 \n		\n			Bei dieser eLecture … \n# bekommen Sie einen Überblick über 7 relevante Einflussbereiche mit praktischen Tipps \n#  lernen Sie die persönliche Krisenfestigkeit präventiv zu stärken
URL:https://www.virtuelle-ph.at/veranstaltung/electure-resilienz-wege-zu-mehr-psychischer-widerstandskraft-paedagoginnen-paedagogen-kindergartenmitarbeiterinnen-mitarbeiter-2/
CATEGORIES:eLecture,Reihe Gesunder Arbeitsplatz Kindergarten
END:VEVENT
BEGIN:VEVENT
DTSTART;TZID=Europe/Vienna:20210308T150000
DTEND;TZID=Europe/Vienna:20210308T163000
DTSTAMP:20260425T170404
CREATED:20201117T133033Z
LAST-MODIFIED:20210308T033004Z
UID:10003789-1615215600-1615221000@www.virtuelle-ph.at
SUMMARY:eLecture: Resilienz – Wege zu mehr psychischer Widerstandskraft - Schulleitung\, Lehrkräfte
DESCRIPTION:Zur Anmeldung \n\n						Zum virtuellen Lernraum\n						\n\n						Resilienz lässt sich stärken. Doch welche Faktoren spielen dabei eine Rolle und was kann jede/jeder Einzelne dafür tun? Der Vortrag gibt einen Überblick über 7 Einflussbereiche mit praktischen Tipps\, um die persönliche Krisenfestigkeit präventiv zu stärken. \nCoModeration: Thomas Winkler \n\nExpert_in: Eva Maria Deutsch \n\n\n			\n				\n			\n			Teilnahmekriterien & Info\n		 \n		\n			Lernziele\n		 \n		\n			Voraussetzungen\n		\n		 \n		\n			\n				\n					\n			So treten Sie der Veranstaltung im virtuellen Lernraum bei:  \n        1. Rufen Sie 5 min vor Terminstart den Link zum Virtuellen Lernraum auf: \nDer Raumlink wird Ihnen einen Tag vor Abhaltung per Mail bekanntgegeben. \n         2. Geben Sie bitte Ihre Email-Adresse und Ihren vollen Namen ein und klicken Sie den Button\n             „Dem Webinar beitreten“. \n         3. Klicken Sie den grünen Button „Per Computer dem Audio beitreten“ an.\n             Das bewirkt\, dass Sie uns hören und sehen können. Sie werden in Kürze eingelassen. \nDie Teilnahme an allen eLectures der Virtuellen PH ist für österreichische Hochschullehrende\, Lehrkräfte und Studierende eines Lehramts kostenlos.\n		 \n		\n			Bei dieser eLecture … \n# bekommen Sie einen Überblick über 7 relevante Einflussbereiche mit praktischen Tipps \n#  lernen Sie die persönliche Krisenfestigkeit präventiv zu stärken
URL:https://www.virtuelle-ph.at/veranstaltung/electure-resilienz-wege-zu-mehr-psychischer-widerstandskraft-schulleitung-lehrkraefte-2/
CATEGORIES:eLecture,Reihe Gesunder Arbeitsplatz Schule
END:VEVENT
BEGIN:VEVENT
DTSTART;TZID=Europe/Berlin:20201203T150000
DTEND;TZID=Europe/Berlin:20201203T163000
DTSTAMP:20260425T170404
CREATED:20201117T133002Z
LAST-MODIFIED:20201203T184751Z
UID:10003778-1607007600-1607013000@www.virtuelle-ph.at
SUMMARY:eLecture: Resilienz – Wege zu mehr psychischer Widerstandskraft - Schulleitung\, Lehrkräfte
DESCRIPTION:keine Aufzeichnung verfügbar\n\n\n						Resilienz lässt sich stärken. Doch welche Faktoren spielen dabei eine Rolle und was kann jede/jeder Einzelne dafür tun? Der Vortrag gibt einen Überblick über 7 Einflussbereiche mit praktischen Tipps\, um die persönliche Krisenfestigkeit präventiv zu stärken. \nCoModeration: Walter Fikisz \n\nExpert_in: Eva Maria Deutsch \n\n\n			\n				\n			\n			Teilnahmekriterien & Info\n		 \n		\n			Lernziele\n		 \n		\n			Voraussetzungen\n		\n		 \n		\n			\n				\n					\n			So treten Sie der Veranstaltung im virtuellen Lernraum bei:  \n        1. Rufen Sie 5 min vor Terminstart den Link zum Virtuellen Lernraum auf: \nDer Raumlink wird Ihnen einen Tag vor Abhaltung per Mail bekanntgegeben. \n         2. Geben Sie bitte Ihre Email-Adresse und Ihren vollen Namen ein und klicken Sie den Button\n             „Dem Webinar beitreten“. \n         3. Klicken Sie den grünen Button „Per Computer dem Audio beitreten“ an.\n             Das bewirkt\, dass Sie uns hören und sehen können. Sie werden in Kürze eingelassen. \nDie Teilnahme an allen eLectures der Virtuellen PH ist für österreichische Hochschullehrende\, Lehrkräfte und Studierende eines Lehramts kostenlos.\n		 \n		\n			Bei dieser eLecture … \n# bekommen Sie einen Überblick über 7 relevante Einflussbereiche mit praktischen Tipps \n#  lernen Sie die persönliche Krisenfestigkeit präventiv zu stärken
URL:https://www.virtuelle-ph.at/veranstaltung/electure-resilienz-wege-zu-mehr-psychischer-widerstandskraft-schulleitung-lehrkraefte/
CATEGORIES:eLecture,Reihe Gesunder Arbeitsplatz Schule
END:VEVENT
BEGIN:VEVENT
DTSTART;TZID=Europe/Berlin:20201201T150000
DTEND;TZID=Europe/Berlin:20201201T163000
DTSTAMP:20260425T170404
CREATED:20201117T133000Z
LAST-MODIFIED:20201203T184649Z
UID:10003777-1606834800-1606840200@www.virtuelle-ph.at
SUMMARY:eLecture: Resilienz – Wege zu mehr psychischer Widerstandskraft  - Pädagoginnen/Pädagogen\, Kindergartenmitarbeiterinnen/-mitarbeiter
DESCRIPTION:keine Aufzeichnung verfügbar\n\n\n						Resilienz lässt sich stärken. Doch welche Faktoren spielen dabei eine Rolle und was kann jede/jeder Einzelne dafür tun? Der Vortrag gibt einen Überblick über 7 Einflussbereiche mit praktischen Tipps\, um die persönliche Krisenfestigkeit präventiv zu stärken. \nSollten Sie keinen PH Online Zugang haben\, können Sie sich auch per E-Mail an info@virtuelle-ph.at anmelden.  Geben Sie dabei folgende Angaben an:\nVorname\, Nachname\, E-Mail\, Kindergartenname. \nCoModeration: Walter Fikisz \n\nExpert_in: Eva Maria Deutsch \n\n\n			\n				\n			\n			Teilnahmekriterien & Info\n		 \n		\n			Lernziele\n		 \n		\n			Voraussetzungen\n		\n		 \n		\n			\n				\n					\n			So treten Sie der Veranstaltung im virtuellen Lernraum bei:  \n        1. Rufen Sie 5 min vor Terminstart den Link zum Virtuellen Lernraum auf: \nDer Raumlink wird Ihnen einen Tag vor Abhaltung per Mail bekanntgegeben. \n         2. Geben Sie bitte Ihre Email-Adresse und Ihren vollen Namen ein und klicken Sie den Button\n             „Dem Webinar beitreten“. \n         3. Klicken Sie den grünen Button „Per Computer dem Audio beitreten“ an.\n             Das bewirkt\, dass Sie uns hören und sehen können. Sie werden in Kürze eingelassen. \nDie Teilnahme an allen eLectures der Virtuellen PH ist für österreichische Hochschullehrende\, Lehrkräfte und Studierende eines Lehramts kostenlos.\n		 \n		\n			Bei dieser eLecture … \n# bekommen Sie einen Überblick über 7 relevante Einflussbereiche mit praktischen Tipps \n#  lernen Sie die persönliche Krisenfestigkeit präventiv zu stärken
URL:https://www.virtuelle-ph.at/veranstaltung/electure-resilienz-wege-zu-mehr-psychischer-widerstandskraft-paedagoginnen-paedagogen-kindergartenmitarbeiterinnen-mitarbeiter/
CATEGORIES:eLecture,Reihe Gesunder Arbeitsplatz Kindergarten
END:VEVENT
END:VCALENDAR