BEGIN:VCALENDAR
VERSION:2.0
PRODID:-//Virtuelle PH - ECPv6.6.4.2//NONSGML v1.0//EN
CALSCALE:GREGORIAN
METHOD:PUBLISH
X-WR-CALNAME:Virtuelle PH
X-ORIGINAL-URL:https://www.virtuelle-ph.at
X-WR-CALDESC:Veranstaltungen für Virtuelle PH
REFRESH-INTERVAL;VALUE=DURATION:PT1H
X-Robots-Tag:noindex
X-PUBLISHED-TTL:PT1H
BEGIN:VTIMEZONE
TZID:Europe/Berlin
BEGIN:DAYLIGHT
TZOFFSETFROM:+0100
TZOFFSETTO:+0200
TZNAME:CEST
DTSTART:20170326T010000
END:DAYLIGHT
BEGIN:STANDARD
TZOFFSETFROM:+0200
TZOFFSETTO:+0100
TZNAME:CET
DTSTART:20171029T010000
END:STANDARD
END:VTIMEZONE
BEGIN:VEVENT
DTSTART;TZID=Europe/Berlin:20171129T180000
DTEND;TZID=Europe/Berlin:20171129T190000
DTSTAMP:20260420T175404
CREATED:20170918T130417Z
LAST-MODIFIED:20171130T084151Z
UID:10002641-1511978400-1511982000@www.virtuelle-ph.at
SUMMARY:SQA eLecture: Lesson Study als Modell für teamorientierte Unterrichtsentwicklung am Schulstandort im Rahmen von SQA
DESCRIPTION:zur Aufzeichnung \n\n\n						Lesson Study  bietet eine Möglichkeit zur Verbesserung der Wirksamkeit von Unterricht und zur Professionalisierung von Lehrkräften.  Aber was genau verbirgt sich hinter dem Begriff? Diese und andere Fragen beantwortet Gabriele Isak in ihrer eLecture! \nGabriele Isak ist Leiterin des Bundeszentrums für fachbezogene Schulentwicklung\, das sich mit der Implementierung von LS im österreichischen Schulsystem beschäftigt.  \nGemeinsam mit ihr beschäftigen Sie sich damit\, was sich hinter dem Begriff Lesson Study (und dem Begriff Learning Study) verbirgt und wie eine solche abläuft\, was Wirkung und Nutzen sind und welche förderlichen Rahmenbedingungen dazu nötig sind. Sie lernen zudem Fallbeispiele und erfolgreiche Implementierung in Österreich kennen. \nDiese eLecture ist für Sie geeignet\, wenn Sie Interesse an Schul- und Unterrichtsentwicklung haben\, ganz egal auf welcher Ebene des Bildungssytems : als Lehrer/innen\, als Schulleiter/innen\, als Schulaufsicht. \nCoModeration: Harald Meyer \n\n			\n				\n			\n			Teilnahmekriterien & Info\n		 \n		\n			Lernziele\n		 \n		\n			Voraussetzungen\n		\n		 \n		\n			\n				\n					\n			Technische Voraussetzungen: Grundlegende Computerkenntnisse\, gute Internetverbindung; optional: Headset.  \nSo treten Sie der eLecture im virtuellen Lernraum bei:  \n1. Rufen Sie 10 min vor Terminstart folgende Seite auf:  \nvph.adobeconnect.com/sqa/ \n2. Geben Sie bitte Ihren Vor- und Nachnamen ein und „Betreten Sie den Raum“ mit Klick auf den Button. \n3. Folgen Sie den Anweisungen auf dem Bildschirm. Sie werden in Kürze eingelassen. \nWenn Sie noch an keiner eLecture teilgenommen haben\, finden Sie alle Infos zum Einstieg unter: www.virtuelle-ph.at/electures/#einstieg \nDie Teilnahme an allen eLectures der Virtuellen PH ist für österreichische Lehrkräfte und Studierende eines Lehramts kostenlos.\n		 \n		\n			\n Lesson Studies  als Modell für Unterrichtsentwicklung am Schulstandort kennen lernen\nFokussierung auf das Lernen der Schüler_innen als Mittel zur Erhöhung der Wirksamkeit von Unterricht erkennen\ndie Vorteile von professioneller Reflexion im Team sehen\n\nMöglichkeiten zur Durchführung von Lesson Studies an der eigenen Schule erfahren
URL:https://www.virtuelle-ph.at/veranstaltung/sqa-electure-lesson-study-als-modell-fuer-teamorientierte-unterrichtsentwicklung-am-schulstandort-im-rahmen-von-sqa/
CATEGORIES:eLecture
END:VEVENT
END:VCALENDAR