BEGIN:VCALENDAR
VERSION:2.0
PRODID:-//Virtuelle PH - ECPv6.6.4.2//NONSGML v1.0//EN
CALSCALE:GREGORIAN
METHOD:PUBLISH
X-WR-CALNAME:Virtuelle PH
X-ORIGINAL-URL:https://www.virtuelle-ph.at
X-WR-CALDESC:Veranstaltungen für Virtuelle PH
REFRESH-INTERVAL;VALUE=DURATION:PT1H
X-Robots-Tag:noindex
X-PUBLISHED-TTL:PT1H
BEGIN:VTIMEZONE
TZID:Europe/Berlin
BEGIN:DAYLIGHT
TZOFFSETFROM:+0100
TZOFFSETTO:+0200
TZNAME:CEST
DTSTART:20190331T010000
END:DAYLIGHT
BEGIN:STANDARD
TZOFFSETFROM:+0200
TZOFFSETTO:+0100
TZNAME:CET
DTSTART:20191027T010000
END:STANDARD
END:VTIMEZONE
BEGIN:VEVENT
DTSTART;TZID=Europe/Berlin:20190319T183000
DTEND;TZID=Europe/Berlin:20190319T190000
DTSTAMP:20260420T114157
CREATED:20190211T100710Z
LAST-MODIFIED:20190320T084554Z
UID:10003189-1553020200-1553022000@www.virtuelle-ph.at
SUMMARY:digiPH2 eLecture: Möglichkeiten von Opencast im tertiären Bildungsbereich
DESCRIPTION:
URL:https://www.virtuelle-ph.at/veranstaltung/digiph2-electure-moeglichkeiten-von-opencast-im-tertiaeren-bildungsbereich/
CATEGORIES:eLecture,Online-Tagung digiPH2 EL
END:VEVENT
END:VCALENDAR