BEGIN:VCALENDAR
VERSION:2.0
PRODID:-//Virtuelle PH - ECPv6.6.4.2//NONSGML v1.0//EN
CALSCALE:GREGORIAN
METHOD:PUBLISH
X-ORIGINAL-URL:https://www.virtuelle-ph.at
X-WR-CALDESC:Veranstaltungen für Virtuelle PH
REFRESH-INTERVAL;VALUE=DURATION:PT1H
X-Robots-Tag:noindex
X-PUBLISHED-TTL:PT1H
BEGIN:VTIMEZONE
TZID:Europe/Vienna
BEGIN:DAYLIGHT
TZOFFSETFROM:+0100
TZOFFSETTO:+0200
TZNAME:CEST
DTSTART:20240331T010000
END:DAYLIGHT
BEGIN:STANDARD
TZOFFSETFROM:+0200
TZOFFSETTO:+0100
TZNAME:CET
DTSTART:20241027T010000
END:STANDARD
END:VTIMEZONE
BEGIN:VEVENT
DTSTART;TZID=Europe/Vienna:20241114T170000
DTEND;TZID=Europe/Vienna:20241114T180000
DTSTAMP:20260420T103814
CREATED:20241115T033159Z
LAST-MODIFIED:20241115T033159Z
UID:10005557-1731603600-1731607200@www.virtuelle-ph.at
SUMMARY:eLecture: Mit Satelliten die Erde sehen\, verstehen und schützen
DESCRIPTION:Zur Anmeldung \n\n						Zum virtuellen Lernraum\n						\n\n						Bei dieser Veranstaltung erfahren Sie\, wie die Themen Weltraum\, Raumfahrt\, Satelliten\, Klimawandel und Umweltschutz zusammenhängen\, und wie Sie diese in Ihrer Klasse auf spannende und effektive Weise behandeln können. \nDie gebürtige Pariserin Géraldine Fitoussi-Hoffmann war als Expertin für Satellitenbildauswertung jahrelang für die französische Weltraumagentur tätig\, wo Naturkatastrophen und Umweltverschmutzung zu ihrem Spezialgebiet gehörten.\nAus dieser Aufgabe entstand ihr Wunsch\, Naturschutz stärker in Bildung und Pädagogik zu kommunizieren. \nBeantwortet werden u.A. folgende Fragen:\nWelche wertvollen Informationen liefern Satelliten für den Schutz der Erde\, ihrer Wälder\, Böden und Ozeane – und somit auch für den Schutz der Menschheit?\nEs werden kindgerechte Beispiele und Unterrichtsmaterialien vorgestellt. \nDiese eLecture ist für Sie geeignet\, wenn\n# Sie das Thema Umwelt über das Thema Weltraum in Unterricht integrieren möchten\n# Sie ein Basiswissen über das Thema Weltraum lernen möchten \n\nExpert_in: Géraldine Fitoussi-Hoffmann \n\n\n			\n				\n			\n			Teilnahmekriterien & Info\n		 \n		\n			Lernziele\n		 \n		\n			Voraussetzungen\n		\n		 \n		\n			\n				\n					\n			So treten Sie der Veranstaltung im virtuellen Lernraum bei: \n1. Rufen Sie 5 min vor Terminstart den Link zum Virtuellen Lernraum auf: \nvirtuelle-ph-at.zoom.us/my/electures \n2. Geben Sie bitte Ihren vollen Namen ein und klicken Sie den Button „Einem Meeting Beitreten“.                              \n3. Klicken Sie den grünen Button „Per Computer dem Audio beitreten“ an. \nDas bewirkt\, dass Sie uns hören und sehen können. Sie werden in Kürze eingelassen. \nDie Teilnahme an allen eLectures der Virtuellen PH ist für österreichische Hochschullehrende\, Lehrkräfte und Studierende eines Lehramts kostenlos.\n		 \n		\n			Auf Lehrmaterial zugreifen können\, um über den Weltraum zu sprechen.\nSatellitenbilder im Unterricht verwenden können.\nDas Thema Umwelt auf positive Weise behandeln können.\nKinder und Jugendliche für die Weltraumwissenschaften motivieren können.\n		 \n		\n			–
URL:https://www.virtuelle-ph.at/veranstaltung/electure-mit-satelliten-die-erde-sehen-verstehen-und-schuetzen-2/
CATEGORIES:eLecture
END:VEVENT
BEGIN:VEVENT
DTSTART;TZID=Europe/Vienna:20241114T170000
DTEND;TZID=Europe/Vienna:20241114T180000
DTSTAMP:20260420T103814
CREATED:20241014T202051Z
LAST-MODIFIED:20241114T033155Z
UID:10005443-1731603600-1731607200@www.virtuelle-ph.at
SUMMARY:eLecture: Mit Satelliten die Erde sehen\, verstehen und schützen
DESCRIPTION:Zur Anmeldung \n\n						Zum virtuellen Lernraum\n						\n\n						Bei dieser Veranstaltung erfahren Sie\, wie die Themen Weltraum\, Raumfahrt\, Satelliten\, Klimawandel und Umweltschutz zusammenhängen\, und wie Sie diese in Ihrer Klasse auf spannende und effektive Weise behandeln können. \nDie gebürtige Pariserin Géraldine Fitoussi-Hoffmann war als Expertin für Satellitenbildauswertung jahrelang für die französische Weltraumagentur tätig\, wo Naturkatastrophen und Umweltverschmutzung zu ihrem Spezialgebiet gehörten.\nAus dieser Aufgabe entstand ihr Wunsch\, Naturschutz stärker in Bildung und Pädagogik zu kommunizieren. \nBeantwortet werden u.A. folgende Fragen:\nWelche wertvollen Informationen liefern Satelliten für den Schutz der Erde\, ihrer Wälder\, Böden und Ozeane – und somit auch für den Schutz der Menschheit?\nEs werden kindgerechte Beispiele und Unterrichtsmaterialien vorgestellt. \nDiese eLecture ist für Sie geeignet\, wenn\n# Sie das Thema Umwelt über das Thema Weltraum in Unterricht integrieren möchten\n# Sie ein Basiswissen über das Thema Weltraum lernen möchten \n\nExpert_in: Géraldine Fitoussi-Hoffmann \n\n\n			\n				\n			\n			Teilnahmekriterien & Info\n		 \n		\n			Lernziele\n		 \n		\n			Voraussetzungen\n		\n		 \n		\n			\n				\n					\n			So treten Sie der Veranstaltung im virtuellen Lernraum bei: \n1. Rufen Sie 5 min vor Terminstart den Link zum Virtuellen Lernraum auf: \nvirtuelle-ph-at.zoom.us/my/electures \n2. Geben Sie bitte Ihren vollen Namen ein und klicken Sie den Button „Einem Meeting Beitreten“.                              \n3. Klicken Sie den grünen Button „Per Computer dem Audio beitreten“ an. \nDas bewirkt\, dass Sie uns hören und sehen können. Sie werden in Kürze eingelassen. \nDie Teilnahme an allen eLectures der Virtuellen PH ist für österreichische Hochschullehrende\, Lehrkräfte und Studierende eines Lehramts kostenlos.\n		 \n		\n			Auf Lehrmaterial zugreifen können\, um über den Weltraum zu sprechen.\nSatellitenbilder im Unterricht verwenden können.\nDas Thema Umwelt auf positive Weise behandeln können.\nKinder und Jugendliche für die Weltraumwissenschaften motivieren können.\n		 \n		\n			–
URL:https://www.virtuelle-ph.at/veranstaltung/electure-mit-satelliten-die-erde-sehen-verstehen-und-schuetzen/
CATEGORIES:eLecture
END:VEVENT
END:VCALENDAR