BEGIN:VCALENDAR
VERSION:2.0
PRODID:-//Virtuelle PH - ECPv6.6.4.2//NONSGML v1.0//EN
CALSCALE:GREGORIAN
METHOD:PUBLISH
X-ORIGINAL-URL:https://www.virtuelle-ph.at
X-WR-CALDESC:Veranstaltungen für Virtuelle PH
REFRESH-INTERVAL;VALUE=DURATION:PT1H
X-Robots-Tag:noindex
X-PUBLISHED-TTL:PT1H
BEGIN:VTIMEZONE
TZID:Europe/Berlin
BEGIN:DAYLIGHT
TZOFFSETFROM:+0100
TZOFFSETTO:+0200
TZNAME:CEST
DTSTART:20200329T010000
END:DAYLIGHT
BEGIN:STANDARD
TZOFFSETFROM:+0200
TZOFFSETTO:+0100
TZNAME:CET
DTSTART:20201025T010000
END:STANDARD
END:VTIMEZONE
BEGIN:VEVENT
DTSTART;TZID=Europe/Berlin:20200525T180000
DTEND;TZID=Europe/Berlin:20200525T190000
DTSTAMP:20260420T141237
CREATED:20200507T075931Z
LAST-MODIFIED:20200603T050738Z
UID:10003663-1590429600-1590433200@www.virtuelle-ph.at
SUMMARY:eLecture: BigBlueButton - die OpenSource Videokonferenzsoftware für Ihre Lehre
DESCRIPTION:zur Aufzeichnung\n\n\n						Derzeit sind internetbasierte Kommunikationstools unverzichtbar und im Dauereinsatz.\nIn diesem eLecture wird BigBlueButton vorgestellt – eine Open Source Webkonferenzlösung für Online-Lernen\, live Meetings\, Onlinevorträge und virtuelle Zusammenarbeit mit Video\, Audio\, Präsentationen\, Whiteboard\, Chat und Bildschirm und Aufnahmemöglichkeit.\nDas Programm kann über ein Plugin sehr einfach und gut in Moodle integriert werden; es ist aber auch ohne Moodle verwendbar. \n Gerhard Schwed war früher AHS-Lehrer\, von 2000 – 2019 an der Donau-Universität Krems maßgeblich für die eLearning-Systeme zuständig und betreibt seit 2019 eine eigene IT-Firma\, die solche Services anbietet. (Die erste Webkonferenz hat er im Jahr 1999 durchgeführt.) \nIn der eLecture wird BigBlueButton interaktiv vorgestellt und die Integration in Moodle live vorgezeigt.\nJede/r Teilnehmer/in kann danach selbst Meetingräume erstellen und kostenlos für den eigenen Unterricht verwenden.\nErgänzend gibt es Informationen zu Webconferencing allgemein und Tipps für den praktischen Einsatz. \nCoModeration: Gerlinde Schwabl \n\nExpert_in: Gerhard Schwed \n\n\n			\n				\n			\n			Teilnahmekriterien & Info\n		 \n		\n			Lernziele\n		 \n		\n			Voraussetzungen\n		\n		 \n		\n			\n				\n					\n			So treten Sie der Veranstaltung im virtuellen Lernraum bei: \n        1. Rufen Sie 5 min vor Terminstart den Link zum Virtuellen Lernraum auf:\n        meet-modular.com/b/ger-xp7-d62  \n         2. Geben Sie bitte IIhren vollen Namen ein und klicken Sie daneben den Button\n             „Teilnehmen“. \n         3. Wählen Sie im nächsten Schritt\, ob Sie nur zuhören oder auch aktiv mitreden möchten.\n             Bei Auswahl „mit Mikrofon“ müssen Sie anschließend ihr Mikrofon freigeben und die Audioverbindung testen. Dies ist aber nicht unbedingt nötig. \nDie Teilnahme an allen eLectures der Virtuellen PH ist für österreichische Hochschullehrende\, Lehrkräfte und Studierende eines Lehramts kostenlos.\n		 \n		\n			# Kenntnisse über Webconferencing-Systeme:  Funktionen\, Auswahlkriterien\, Anwendungsbeispiele \n# Praktische Erfahrung mit BigBlueButton:  Meeting anlegen\, Funktionen im Raum\, Aufzeichnung\, etc. \n# Wissen\, wie man BigBlueButton ins eigene Moodle integrieren kann
URL:https://www.virtuelle-ph.at/veranstaltung/electure-bigbluebutton-die-opensource-videokonferenzsoftware-fuer-ihre-lehre/
CATEGORIES:eLecture,Reihe Speziell für PH Lehrende empfohlen
END:VEVENT
END:VCALENDAR