BEGIN:VCALENDAR
VERSION:2.0
PRODID:-//Virtuelle PH - ECPv6.6.4.2//NONSGML v1.0//EN
CALSCALE:GREGORIAN
METHOD:PUBLISH
X-WR-CALNAME:Virtuelle PH
X-ORIGINAL-URL:https://www.virtuelle-ph.at
X-WR-CALDESC:Veranstaltungen für Virtuelle PH
REFRESH-INTERVAL;VALUE=DURATION:PT1H
X-Robots-Tag:noindex
X-PUBLISHED-TTL:PT1H
BEGIN:VTIMEZONE
TZID:Europe/Berlin
BEGIN:DAYLIGHT
TZOFFSETFROM:+0100
TZOFFSETTO:+0200
TZNAME:CEST
DTSTART:20180325T010000
END:DAYLIGHT
BEGIN:STANDARD
TZOFFSETFROM:+0200
TZOFFSETTO:+0100
TZNAME:CET
DTSTART:20181028T010000
END:STANDARD
BEGIN:DAYLIGHT
TZOFFSETFROM:+0100
TZOFFSETTO:+0200
TZNAME:CEST
DTSTART:20190331T010000
END:DAYLIGHT
BEGIN:STANDARD
TZOFFSETFROM:+0200
TZOFFSETTO:+0100
TZNAME:CET
DTSTART:20191027T010000
END:STANDARD
BEGIN:DAYLIGHT
TZOFFSETFROM:+0100
TZOFFSETTO:+0200
TZNAME:CEST
DTSTART:20200329T010000
END:DAYLIGHT
BEGIN:STANDARD
TZOFFSETFROM:+0200
TZOFFSETTO:+0100
TZNAME:CET
DTSTART:20201025T010000
END:STANDARD
BEGIN:DAYLIGHT
TZOFFSETFROM:+0100
TZOFFSETTO:+0200
TZNAME:CEST
DTSTART:20210328T010000
END:DAYLIGHT
BEGIN:STANDARD
TZOFFSETFROM:+0200
TZOFFSETTO:+0100
TZNAME:CET
DTSTART:20211031T010000
END:STANDARD
END:VTIMEZONE
BEGIN:VEVENT
DTSTART;TZID=Europe/Berlin:20210204T130000
DTEND;TZID=Europe/Berlin:20210204T143000
DTSTAMP:20260425T121707
CREATED:20210112T130853Z
LAST-MODIFIED:20210205T085029Z
UID:10003818-1612443600-1612449000@www.virtuelle-ph.at
SUMMARY:digiPH4 MethodenWerkstatt: Soziale Präsenz & Webinardidaktik
DESCRIPTION:zur Aufzeichnung\n\n\n						Die Krise der letzten Monate hat uns Lehrende an Pädagogischen Hochschulen sicherlich gezeigt\, dass wir mit den bisher bewährten Lehrmethoden und vielleicht auch Tools an unsere Grenzen im Rahmen von Webinaren und asynchronen Online-Lehrformaten stießen. Besonders die Beteiligung von Teilnehmenden im Sinne der sozialen Präsenz konnte nicht immer mit der aus Präsenzzeiten verglichen werden. Zur Förderung der Online-Kooperation und -Kollaboration im Rahmen der Online-Lehre (in Aus-\, Fort- und Weiterbildung) stellen wir Ihnen das Online-Tool Miro vor.   \nPatrick Pallhuber ist Dozierender an der Pädagogischen Hochschule Tirol und Lehrbeauftragter am Management Center Innsbruck. E-Learning und Webinare begleiten Ihn schon seit vielen Jahren und dabei legt er großen Wert auf die Beteilung der Teilnehmenden und die bewusste Aktivierung dieser. Gerlinde Schwabl ist Dozierender an der Pädagogischen Hochschule Tirol und Co-Moderatorin an der Virtuellen Pädagogischen Hochschule. E-Didaktik und insbesondere die Gestaltung von lernförderlichen Online-Settings beschäftigen Sie sowohl in der hochschulischen Praxis\, als auch in der Forschung. Beide sind an der PH-Tirol im Institut für Digitalisierung\, Bildung für nachhaltige Entwicklung und Qualitätsentwicklung tätig.  \nMiro ist ein digitales Whiteboard für die visuelle (Echtzeit)Zusammenarbeit im Team oder in anderen Worten ein digitaler Moderationskoffer\, der hilft Veranstaltungen und Meetings jeglicher Art (Lehrveranstaltungen\, Schulentwicklungsworkshops\, Projektarbeiten\, Protokolle von Besprechungen\, etc.) zu visualisieren. Das Tool steht Nutzenden aus dem Bildungsbereich kostenlos zur Verfügung.  \nWir zeigen Ihnen wie Sie die Visualisierungsmöglichkeiten von Miro nutzen können. Dabei werden bekannte und vielleicht unbekannte Methoden im Rahmen von Seminaren\, die visuelle Darstellung von Ergebnissen von Gruppenarbeiten und bekannte Kreativitätstechniken (Bsp. Brainstorming\, Storyboard\, etc.) vorgestellt.  \nDas oberste Ziel dieses Online-Workshops ist es\, den Austausch aller beteiligten Personen zu ermöglichen. Daher werden neben den Break-Out-Rooms in Zoom\, die Option zur Nutzung eines alternativen und dem Zweck des Austauschs förderlichen Videokonferenztools (wonder.me) geboten. Hands on – let‘s talk!  \n—————– \nCoModeration: Gerlinde Schwabl \n\nExpert_in: Patrick PallhuberGerlinde Schwabl \n\n\n			\n				\n			\n			Teilnahmekriterien & Info\n		 \n		\n			Lernziele\n		 \n		\n			Voraussetzungen\n		\n		 \n		\n			\n				\n					\n			So treten Sie der Veranstaltung im virtuellen Lernraum bei: \n        1. Rufen Sie 5 min vor Terminstart den Link zum Virtuellen Lernraum auf: \nzoom.us/my/virtuelleph.electure4 \n        2. Geben Sie bitte Ihren vollen Namen ein und klicken Sie den Button\n             „Einem Meeting Beitreten“. \n		3. Klicken Sie den grünen Button „Per Computer dem Audio beitreten“ an.\n             Das bewirkt\, dass Sie uns hören und sehen können. Sie werden in Kürze eingelassen. \nDie Teilnahme an allen eLectures der Virtuellen PH ist für österreichische Hochschullehrende\, Lehrkräfte und Studierende eines Lehramts kostenlos.\n		 \n		\n			Die eLecture ist für Sie geeignet\, wenn … \n# Sie Miro als Tool zur Online-Kooperation und -Kollaboration (für synchrone und asynchrone E-Learning-Szenarien) kennenlernen möchten.  \n# Sie über die konkreten Einsatzszenarien von Miro im hochschulischen Kontext gemeinsam reflektieren wollen (Stichwort: Crowd Learning)  \n# Sie Methoden zur Aktivierung von Teilnehmenden kennenlernen und ausprobieren wollen.  \n# Sie wonder.me als alternatives Videokonferenztool kennenlernen möchten.\n		 \n		\n			Nur für Hochschullehrende!
URL:https://www.virtuelle-ph.at/veranstaltung/digiph4-methodenwerkstatt-soziale-praesenz-webinardidaktik/
CATEGORIES:eLecture,Online-Tagung digiPH4 EL
END:VEVENT
BEGIN:VEVENT
DTSTART;TZID=Europe/Berlin:20210202T130000
DTEND;TZID=Europe/Berlin:20210202T143000
DTSTAMP:20260425T121707
CREATED:20210112T130851Z
LAST-MODIFIED:20210203T090742Z
UID:10003839-1612270800-1612276200@www.virtuelle-ph.at
SUMMARY:digiPH4 Moderiertes Kamingespräch: So funktioniert Distanzlehre-Support an unserer Hochschule
DESCRIPTION:zur Aufzeichnung\n\n\n						Im moderierten Kamingespräch diskutieren Expert_innen in lockerer Runde zum Thema Distanzlehre-Support an Hochschulen. Sie als Teilnehmende können Fragen stellen\, die in einer Abschlussrunde beantwortet werden! \nKarl Peböck (PH Vorarlberg)\, Gertrude Daurach (Hochschule f. Agrar- und Umweltpädagogik)\, Wolf Hilzensauer (PH Salzburg) und weitere Kolleg_innen geben Einblick und tauschen sich aus\, wie der Support an ihrer Hochschule jeweils gehandhabt wird. Aha-Erlebnisse sind somit vorprogrammiert!  \nDie Kamingäste stehen für Austausch und Fragen zur Verfügung.\nDiskutieren Sie mit! \nCoModeration: Thomas Winkler \n\nExpert_in: Peter HarrichGertrude DaurachKarl PeböckWolf HilzensauerGerlinde Schwabl \n\n\n			\n				\n			\n			Teilnahmekriterien & Info\n		 \n		\n			Lernziele\n		 \n		\n			Voraussetzungen\n		\n		 \n		\n			\n				\n					\n			So treten Sie der Veranstaltung im virtuellen Lernraum bei: \n        1. Rufen Sie 5 min vor Terminstart den Link zum Virtuellen Lernraum auf: \nzoom.us/my/virtuelleph.electure2 \n        2. Geben Sie bitte Ihren vollen Namen ein und klicken Sie den Button\n             „Einem Meeting Beitreten“. \n		3. Klicken Sie den grünen Button „Per Computer dem Audio beitreten“ an.\n             Das bewirkt\, dass Sie uns hören und sehen können. Sie werden in Kürze eingelassen. \nDie Teilnahme an allen eLectures der Virtuellen PH ist für österreichische Hochschullehrende\, Lehrkräfte und Studierende eines Lehramts kostenlos.\n		 \n		\n			# Anregungen für den Support von Distanzlehre an Ihrer Hochschule erhalten \n# Austausch und Vernetzung mit anderen Hochschulen vertiefen\n		 \n		\n			Nur für Hochschullehrende!\nWenn Sie mitreden möchten: Headset/Mikrofon aktivieren!
URL:https://www.virtuelle-ph.at/veranstaltung/digiph4-moderiertes-kamingespraech-so-funktioniert-distanzlehre-support-an-unserer-hochschule/
CATEGORIES:eLecture,Online-Tagung digiPH4 EL
END:VEVENT
BEGIN:VEVENT
DTSTART;TZID=Europe/Berlin:20210202T100000
DTEND;TZID=Europe/Berlin:20210202T104500
DTSTAMP:20260425T121707
CREATED:20210112T130851Z
LAST-MODIFIED:20210203T090915Z
UID:10003835-1612260000-1612262700@www.virtuelle-ph.at
SUMMARY:digiPH4 Eröffnung | Krise als Katalysator?!
DESCRIPTION:zur Aufzeichnung\n\n\n						Wir laden zur Eröffnung dieser brandneuen\, kompakten digiPH4!\nNach einer Begrüßung durch das BMBWF führen Sie die Moderator_innen Walter Fikisz und Gerlinde Schwabl virtuell durch die Tagung: in Form von kurzen Pitchsessions werden die Tagungsbeiträge angeteasert\, um Ihnen bei der Qual der Wahl zu helfen. Außerdem freuen wir uns auf eine interaktive und kreative Einstimmung auf die Tagung mit Anna Weghuber (PHDL). Mehr wird noch nicht verraten\, wenn Sie neugierig geworden sind\, schauen Sie jedenfalls vorbei! \nCoModeration: Walter Fikisz\, Gerlinde Schwabl \n\nExpert_in: Anna WeghuberWalter FikiszGerlinde Schwabl \n\n\n			\n				\n			\n			Teilnahmekriterien & Info\n		 \n		\n			Lernziele\n		 \n		\n			Voraussetzungen\n		\n		 \n		\n			\n				\n					\n			So treten Sie der Veranstaltung im virtuellen Lernraum bei: \n        1. Rufen Sie 5 min vor Terminstart den Link zum Virtuellen Lernraum auf: \nzoom.us/my/virtuelleph.electure2 \n        2. Geben Sie bitte Ihren vollen Namen ein und klicken Sie den Button\n             „Einem Meeting Beitreten“. \n		3. Klicken Sie den grünen Button „Per Computer dem Audio beitreten“ an.\n             Das bewirkt\, dass Sie uns hören und sehen können. Sie werden in Kürze eingelassen. \nDie Teilnahme an allen eLectures der Virtuellen PH ist für österreichische Hochschullehrende\, Lehrkräfte und Studierende eines Lehramts kostenlos.\n		 \n		\n			# Überblick über Tagungsangebote erhalten \n# Live-Online lernen interaktiv erleben\n		 \n		\n			Bitte Webcam aktivieren\, wenn Sie bei der Kreativeinlage am Schluss aktiv mitmachen möchten! 🙂 \nNur für Hochschullehrende!
URL:https://www.virtuelle-ph.at/veranstaltung/digiph4-eroeffnung-krise-als-katalysator/
CATEGORIES:eLecture,Online-Tagung digiPH4 EL
END:VEVENT
BEGIN:VEVENT
DTSTART;TZID=Europe/Berlin:20201104T190000
DTEND;TZID=Europe/Berlin:20201104T203000
DTSTAMP:20260425T121707
CREATED:20201001T153119Z
LAST-MODIFIED:20220210T152727Z
UID:10003801-1604516400-1604521800@www.virtuelle-ph.at
SUMMARY:PH-Praxisplausch mit Anja Steiner: Interaktive Webinardidaktik oder wie ich meine Studierenden in Webinar-Szenarien fesseln kann
DESCRIPTION:zur Aufzeichnung\n\n\n						Die Virtuelle PH lädt Sie herzlich zum PH PraxisPlausch ein!  Das bedeutet: ein Online-Plausch in exklusiv aus PH-Lehrenden bestehender Runde. Ein_e PH-Kolleg/in führt moderierend durch den Abend und befragt für Sie und mit Ihnen eine_n Expert_in! Wie\, an welchen Terminen und wozu können Sie hier nachlesen! \nwww.virtuelle-ph.at/praxisplausch \nDarum geht es im PraxisPlausch mit Anja Steiner (PH Tirol): \n„Aktuelle Entwicklungen in der Hochschullehre erfordern zeitgemäße und gelingende Online-Settings.  \nIn meinen Webinaren lege ich großen Wert auf eine kompetenzorientierte Didaktik\, die Lernende motiviert und aktiviert. Meiner Planung liegen kompetenzorientierte\, lernförderliche Lehr-/Lernmodelle zugrunde. Eine zentrale Rolle nehmen dabei gut getaktete Phasen ein. Ein durchdachter Methodenmix in Kombination mit wechselnden Sozialformen und Medien tragen ergänzend mit spannenden Inhalten zum Erfolg eines Webinars bei.“ \nAnja Steiner ist Dozentin an der Pädagogischen Hochschule Tirol und an der Universität Innsbruck. Insbesondere die aktuellen Herausforderungen an die virtuelle Hochschuldidaktik prägen die Planung und Durchführung ihrer Lehrveranstaltungen. Die positiven Rückmeldungen der Lernenden während der intensiven zum Teil ausufernden Webkonferenz-Einheiten (Webinare) motivieren sie diesen Weg enthusiastisch fortzusetzen und diesbezügliche Erfahrungen zu teilen. \nCoModeration: Harald Meyer \n\nExpert_in: Gerlinde SchwablAnja Steiner \n\n\n			\n				\n			\n			Teilnahmekriterien & Info\n		 \n		\n			Lernziele\n		 \n		\n			Voraussetzungen\n		\n		 \n		\n			\n				\n					\n			So treten Sie der Veranstaltung im virtuellen Lernraum bei:  \n        1. Rufen Sie 5 min vor Terminstart den Link zum Virtuellen Lernraum auf. Der link zum virtuellen Lernraum wird Ihnen rechtzeitig vor der Lehveranstaltung per Mail zugesendet. \n         2. Geben Sie bitte Ihre Email-Adresse und Ihren vollen Namen ein und klicken Sie den Button\n             „Dem Webinar beitreten“. \n         3. Klicken Sie den grünen Button „Per Computer dem Audio beitreten“ an.\n             Das bewirkt\, dass Sie uns hören und sehen können. Sie werden in Kürze eingelassen. \nDie Teilnahme an allen eLectures der Virtuellen PH ist für österreichische Hochschullehrende\, Lehrkräfte und Studierende eines Lehramts kostenlos.\n		 \n		\n			Diese eLecture ist für Sie interessant\, wenn \n# Sie erfahren möchten\, wie Webinare aktivierend und motivierend geplant und durchgeführt werden können.\n# Sie ein Rahmenmodell für Ihre Lehrveranstaltungen kennen lernen möchten.\n# Sie Interesse an erprobten Webinar-Szenarien haben.
URL:https://www.virtuelle-ph.at/veranstaltung/ph-praxisplausch-mit-anja-steiner-interaktive-webinardidaktik-oder-wie-ich-meine-studierenden-in-webinar-szenarien-fesseln-kann/
CATEGORIES:eLecture,Reihe PHPraxisPlausch
END:VEVENT
BEGIN:VEVENT
DTSTART;TZID=Europe/Berlin:20200318T180000
DTEND;TZID=Europe/Berlin:20200318T183000
DTSTAMP:20260425T121707
CREATED:20200210T102237Z
LAST-MODIFIED:20200319T072056Z
UID:10003543-1584554400-1584556200@www.virtuelle-ph.at
SUMMARY:eLecture digiPH3: Als Buddy-Team zum gemeinsamen Webinar – ein Erfahrungsbericht
DESCRIPTION:zur Aufzeichnung\n\n\n						Mittels Webinaren lassen sich vielfältige didaktische E-Learning-Szenarien realisieren\, wie beispielsweise interaktive Online-Seminare\, Online-Vorlesungen oder Online-Sprechstunden. Webinare in der eigenen Lehre professionell einzusetzen\, erfordert von den Dozierenden Wissen im Umgang mit einer Videokonferenzsoftware\, Wissen über die Besonderheiten dieses Online-Lehr-/Lernsettings und der daraus resultierenden e-didaktischen Aufbereitung der Inhalte\, sowie Wissen rund um studienorganisatorischen Herausforderungen. Dies ist sehr herausfordernd.  \nAn der PH Tirol werden Dozierende bei ihren Webinaren aktiv begleitet und unterstützt. Durch ein gezieltes E-Learning-Coaching in Form einer Webinar-Buddy-Begleitung lernen die Dozierenden Webinare in der eigenen Lehre selbständig und nach den E-Learning-Standards der Hochschule erfolgreich einzusetzen.  \nSabrina Gerth ist Dozierende an der PH Tirol und beschäftigt sich mit Digitalisierung im Deutschunterricht. Sie wurde von Gerlinde Schwabl (Buddy)\, E-Didaktikerin an der PH Tirol\, bei ihrem ersten Webinar begleitet.  \nIn der eLecture wird der Ablauf des Webinar-Buddy-Konzeptes und die gemachten Erfahrungen des Buddy-Teams anhand einer Roadmap erklärt.  \nDiese eLecture ist Teil des Panels „PH Tirol: Digitalisierungsdynamiken zwischen Anspruch und Wirklichkeit – Praxisbericht einer PH“ \nCoModeration: Daniel Handle-Pfeiffer \n\n			\n				\n			\n			Teilnahmekriterien & Info\n		 \n		\n			Lernziele\n		 \n		\n			Voraussetzungen\n		\n		 \n		\n			\n				\n					\n			Diese Veranstaltung wird via Zoom abgehalten (siehe Voraussetzungen). So treten Sie der eLecture im virtuellen Lernraum bei:  \n1. Rufen Sie 10 min vor Terminstart folgende Seite auf: \nzoom.us/j/113418631 \n2. Geben Sie bitte Ihren vollen Namen und eine Email-Adresse ein und klicken Sie „Dem Webinar beitreten“ an. Bitte klicken Sie im nächsten Schritt auch „Per Computer dem Audio beitreten“ an: das bewirkt\, dass Sie uns hören und sehen können. \n3. Folgen Sie den Anweisungen auf dem Bildschirm. Sie werden in Kürze eingelassen. \nDie Teilnahme an allen eLectures der Virtuellen PH ist für österreichische Hochschullehrende\, Lehrkräfte und Studierende eines Lehramts kostenlos. \nSie können sich via Audio (Headset mit Mikrofon) in einigen Teilen der eLecture zuschalten und mitdiskutieren! \nInfos dazu unter: https://www.virtuelle-ph.at/digigrubi/#el\n		 \n		\n			Diese eLecture ist für Sie geeignet\, wenn Sie  \n    – wissen möchten\, warum es wichtig ist mit einem Webinar-Buddy das erste Webinar durchzuführen.  \n    – wissen möchten\, wie das Webinar-Buddy-Konzept an der PH Tirol funktioniert.
URL:https://www.virtuelle-ph.at/veranstaltung/electure-digiph3-als-buddy-team-zum-gemeinsamen-webinar-ein-erfahrungsbericht/
CATEGORIES:eLecture,Online-Tagung digiPH3 EL,Panel Panel 2
ATTACH;FMTTYPE=image/png:https://www.virtuelle-ph.at/wp-content/uploads/2020/03/gerthschwabl-digiph3-fb.png
END:VEVENT
BEGIN:VEVENT
DTSTART;TZID=Europe/Berlin:20200318T173000
DTEND;TZID=Europe/Berlin:20200318T180000
DTSTAMP:20260425T121707
CREATED:20200210T102221Z
LAST-MODIFIED:20200319T070844Z
UID:10003522-1584552600-1584554400@www.virtuelle-ph.at
SUMMARY:eLecture digiPH3: Interdisziplinäre Partnerschaften zur Implementierung von qualitätsvollen E-Learning-Maßnahmen
DESCRIPTION:zur Aufzeichnung\n\n\n						Bei der Implementierung von E-Learning-Maßnahmen wie z. B. Online-Seminaren und Webinaren an einer Hochschule sind begleitende Change-Management Aktionen essenziell für den nachhaltigen Erfolg. Das Leading-Change Modell von John P. Kotter bietet dafür eine sehr gute Grundlage und muss gleichzeitig auf die Gegebenheiten einer digitalisierten Arbeitswelt angepasst werden. Welche Rolle spielen dabei interdisziplinäre Partnerschaften? Wer kann für eine solche Partnerschaft geeignet sein? Wie können diese die Qualität von E-Learning-Maßnahmen fördern und warum ist das wichtig?  \n\nPatrick Pallhuber und Gerlinde Schwabl sind Dozierende an der PH Tirol und leiten dort die interne Fortbildung. Sie beschäftigen sich in Lehre und Forschung mit eDidaktik\, sowie der Entwicklung von eStandards und digitalen Innovationen. \n\nIn dieser eLecture wird anhand des 8-Phasen-Modells von John P. Kotter die Implementierung von qualitätsvollen E-Learning-Maßnahmen näher erläutert. Dabei werden konkrete Beispiele der PH-Tirol genannt und deren vermeintlicher Erfolg und Misserfolg näher geschildert.  \n\nDiese eLecture ist für Sie geeignet\, wenn Sie \n\n– auf der Suche sind\, wie Sie E-Learning-Maßnahmen in Ihrer (Hoch)Schule implementieren können. \n\n– schon immer mal wissen wollten\, wie Sie bei der Implementierung scheitern können. \nDiese eLecture ist Teil des Panels „PH Tirol: Digitalisierungsdynamiken zwischen Anspruch und Wirklichkeit – Praxisbericht einer PH“ \nCoModeration: Daniel Handle-Pfeiffer \n \n\n			\n				\n			\n			Teilnahmekriterien & Info\n		 \n		\n			Lernziele\n		 \n		\n			Voraussetzungen\n		\n		 \n		\n			\n				\n					\n			Diese Veranstaltung wird via Zoom abgehalten (siehe Voraussetzungen). So treten Sie der eLecture im virtuellen Lernraum bei:  \n1. Rufen Sie 10 min vor Terminstart folgende Seite auf: \nzoom.us/j/113418631 \n2. Geben Sie bitte Ihren vollen Namen und eine Email-Adresse ein und klicken Sie „Dem Webinar beitreten“ an. Bitte klicken Sie im nächsten Schritt auch „Per Computer dem Audio beitreten“ an: das bewirkt\, dass Sie uns hören und sehen können. \n3. Folgen Sie den Anweisungen auf dem Bildschirm. Sie werden in Kürze eingelassen. \nDie Teilnahme an allen eLectures der Virtuellen PH ist für österreichische Hochschullehrende\, Lehrkräfte und Studierende eines Lehramts kostenlos. \nSie können sich via Audio (Headset mit Mikrofon) in einigen Teilen der eLecture zuschalten und mitdiskutieren! \nInfos dazu unter: https://www.virtuelle-ph.at/digigrubi/#el\n		 \n		\n			Die Teilnehmer/innen erkennen die Notwendigkeit von interdisziplinären Partnerschaften bei der Implementierung von E-Learning-Maßnahmen (Bsp. Online-Tutoring-Ausbildung).  \nDie Teilnehmer/innen erkennen die Herausforderungen bei der Implementierung von E-Learning-Maßnahmen.
URL:https://www.virtuelle-ph.at/veranstaltung/electure-digiph3-interdisziplinaere-partnerschaften-zur-implementierung-von-qualitaetsvollen-e-learning-massnahmen/
CATEGORIES:eLecture,Online-Tagung digiPH3 EL,Panel Panel 2
ATTACH;FMTTYPE=image/png:https://www.virtuelle-ph.at/wp-content/uploads/2020/03/pallhuberschwabl-digiph3-fb.png
END:VEVENT
BEGIN:VEVENT
DTSTART;TZID=Europe/Berlin:20190313T180000
DTEND;TZID=Europe/Berlin:20190313T183000
DTSTAMP:20260425T121707
CREATED:20190211T100708Z
LAST-MODIFIED:20190314T072131Z
UID:10003199-1552500000-1552501800@www.virtuelle-ph.at
SUMMARY:digiPH2 eLecture: STARTklar: Onboarding digital fördern am Beispiel eines online Startpakets der PH Tirol
DESCRIPTION:zur Aufzeichnung\n\n\n						Kooperative Online-Seminare sind ein effektives Format zur Umsetzung von distance learning. Warum dieses erprobte Format der Online-Seminare nicht auch für das Onboarding von Mitarbeiterinnen und Mitarbeitern an Hochschulen nutzen und kann dabei das digitale Ankommen im System Hochschule\, im Sinne eines schnellen und reibungslosen Arbeitsbeginns\, gefördert werden? Welchen weiteren Nutzen hat ein derartiges digitales Startprogramm für die Hochschule und für die/den Mitarbeiterin/Mitarbeiter? \nPatrick Pallhuber und Gerlinde Schwabl sind Dozierende an der PH Tirol und leiten dort die interne Fortbildung. Sie beschäftigen sich in Lehre und Forschung mit eDidaktik\, sowie der Entwicklung von eStandards und digitalen Innovationen.\nSeit Frühjahr 2018 sind beide auch zertifizierte Absolvent_innen der Online-Tutoring Ausbildung (OTA). \nIn dieser eLecture wird anhand des digitalen Onboarding-Prozesses der PH Tirol ein konkretes Beispiel zur Implementierung von eLearning-Formaten im tertiären Bildungsbereich präsentiert. Dabei liegt der Fokus auf der methodisch-didaktischen Umsetzung eines kooperativen Online-Seminars und des Aufzeigen von Potenzialen des eLearnings für Hochschuldozierende.  \nDiese eLecture ist für Sie geeignet\, wenn Sie\n– auf der Suche sind\, wie Sie am besten Kolleginnen und Kollegen beim Ankommen im System (Hoch)Schule (online) unterstützen könnten.\n– schon immer mal wissen wollten\, wie distance learning-Formate implementieren kann. \nCoModeration: Daniel Handle-Pfeiffer \n\n			\n				\n			\n			Teilnahmekriterien & Info\n		 \n		\n			Lernziele\n		 \n		\n			Voraussetzungen\n		\n		 \n		\n			\n				\n					\n			Technische Voraussetzungen: Grundlegende Computerkenntnisse\, gute Internetverbindung; optional: Headset. \nSo treten Sie der eLecture im virtuellen Lernraum bei:  \n1. Rufen Sie 10 min vor Terminstart folgende Seite auf:  \nvph.adobeconnect.com/digiph3/ \n2. Geben Sie bitte Ihren Vor- und Nachnamen ein und „Betreten Sie den Raum“ mit Klick auf den Button. \n3. Folgen Sie den Anweisungen auf dem Bildschirm. Sie werden in Kürze eingelassen. \nWenn Sie noch an keiner eLecture teilgenommen haben\, finden Sie alle Infos zum Einstieg unter: www.virtuelle-ph.at/electures/#einstieg \nDie Teilnahme an allen eLectures der Virtuellen PH ist für österreichische Lehrkräfte und Studierende eines Lehramts kostenlos.\n		 \n		\n			Die Teilnehmer/innen wissen über den alternativen Einsatz von kooperativen Online-Seminaren bescheid. Die Teilnehmer/innen erkennen die vielschichtigen Potenziale eines Online-Startpakets im Rahmen eines Onboarding-Prozesses.
URL:https://www.virtuelle-ph.at/veranstaltung/digiph2-electure-startklar-onboarding-digital-foerdern-am-beispiel-eines-online-startpakets-der-ph-tirol/
CATEGORIES:eLecture,Online-Tagung digiPH2 EL
END:VEVENT
BEGIN:VEVENT
DTSTART;VALUE=DATE:20180521
DTEND;VALUE=DATE:20180611
DTSTAMP:20260425T121707
CREATED:20180417T033655Z
LAST-MODIFIED:20180519T033457Z
UID:10002872-1526860800-1528675199@www.virtuelle-ph.at
SUMMARY:PowerPoint - verzaubern Sie Ihr Publikum!
DESCRIPTION:Zur Anmeldung\n						\n\n						PowerPoint ist ein gängiges\, leicht zu erlernendes Programm zum Erstellen von Präsentationen. In diesem Online-Seminar lernen Sie mit Hilfe von PowerPoint Präsentationen für Ihren Privatgebrauch\, aber auch für den Einsatz im Unterricht zu erstellen. Neben vielen technischen Tipps und Tricks\, werden im Seminar auch Präsentationstechniken vermittelt. Der didaktische Einsatz von PowerPoint im Unterricht steht vor allem im Zentrum der letzten Seminarwoche. Sie brauchen keine Vorkenntnisse in PowerPoint\, um an diesem Online-Seminar teilnehmen zu können. Ihr/e Trainer/in führen Sie Schritt für Schritt durch PowerPoint. Im Nu haben Sie den Dreh heraus und schon ist eine eindrucksvolle Präsentation fertig! \nIn diesem Online-Seminar ist Ihre aktive Mitarbeit gefragt. Jede Woche gibt es verschiedene Übungen zu erledigen – so lernen Sie Schritt für Schritt den Umgang mit PowerPoint. Durch die kleinen Übungen zwischendurch gibt es zum Schluss keine große Abschlussarbeit! \nwww.virtuelle-ph.at/online-seminare \nBei diesem Online-Seminar handelt es sich um ein begleitetes OTA Praktikum. Mehr zur OTA unter www.virtuelle-ph.at/ota \n\n			\n				\n			\n			Teilnahmekriterien & Info\n		 \n		\n			Lernziele\n		 \n		\n			Voraussetzungen\n		\n		 \n		\n			\n				\n					\n			Anmerkung: Die Teilnahme an allen im Rahmen des Online-Programms angebotenen Online-Seminaren der Virtuellen PH ist für österreichische Lehrkräfte und Studierende eines Lehramts kostenlos. Die Seminarplätze werden nach dem Prinzip first come\, first served – also chronologisch nach dem Zeitpunkt Ihrer Seminarbuchung über PH-Online – vergeben. Bis Mittwoch vor Beginn des jeweiligen Online-Seminars können Sie über PH-Online Ihr gebuchtes Online-Seminar selber kostenlos stornieren. Für ein allfälliges Storno zu einem späteren Zeitpunkt wenden Sie sich bitte an: info@virtuelle-ph.at\n		 \n		\n			Lernen Sie das Office Programm Powerpoint\, das standardmaßig an vielen Computern zu finden ist\, von einer neuen Seite – nämlich für den optimalen Einsatz in Ihrem Unterricht – kennen. Sammeln Sie dazu selbst Erfahrungen\, entwickeln Sie eigene Ideen und reflektieren Sie Ihre Einfälle mit Kolleginnen und Kollegen.\n		 \n		\n			Grundlegende Internet-Kenntnisse.
URL:https://www.virtuelle-ph.at/veranstaltung/powerpoint-verzaubern-sie-ihr-publikum-8/
CATEGORIES:Online-Programm Frühjahrsprogramm,Online-Seminar
END:VEVENT
BEGIN:VEVENT
DTSTART;TZID=Europe/Berlin:20180502T183000
DTEND;TZID=Europe/Berlin:20180502T193000
DTSTAMP:20260425T121707
CREATED:20180306T033827Z
LAST-MODIFIED:20180503T064209Z
UID:10002862-1525285800-1525289400@www.virtuelle-ph.at
SUMMARY:#digiPH eLecture: Interne Kommunikation und Kooperation an Hochschulen am Beispiel Sharepoint
DESCRIPTION:zur Aufzeichnung \n\n\n						Die Herausforderungen für Hochschulen bzgl. interner Kommunikation haben sich verändert. Digitalisierung ist kein Selbstläufer. Es braucht Mut\, Hochschule anders zu denken (vgl. Barthelmeß\, 2015). Die neuen Kommunikationsmöglichkeiten bieten Chancen\, interne Abläufe transparent zu machen. Aber\, ist das immer gewünscht? Das Potenzial von SharePoint birgt auch die Gefahr\, Mitarbeiter_innen zu überfordern. An der PH Tirol wurden und werden immer mehr Prozessabläufe neu strukturiert und in teils bereits ausschließlich digitale Abläufe umgewandelt. Dabei ergeben sich viele neue Herausforderung\, z. B. begleitende Schulungsprozesse zu entwickeln und umzusetzen\, die Supportstrukturen zu verbessen und Datensicherungskonzepte zu erstellen\, sowie datenschutzrechtliche Vorgaben einzuhalten. \nRobert Mader ist Leiter der Servicestelle Medien und Technik an der Pädagogischen Hochschule Tirol. \nGerlinde Schwabl ist Dozierende am Institut für Berufspädagogik (Studiengang Information und Kommunikation) und Mitverantwortlich für das Professionals`Lab\, eine interne Fortbildungsschiene der PHT.  \nIn dieser eLecture soll gezeigt werden\, wie digitale Kommunikation und Kooperation an Hochschulen gelebt werden kann.Einige\n konkrete Umsetzungsbeispiele werden gezeigt und können als \nDiskussionsgrundlage für die Möglichkeiten in der eigenen Organisations \ndienen. \nGeplante Inhalte der eLecture sind:\n– Kurzbeschreibung der Ausgangslage an der PHT\n– Warum sind Standardisierungen der Abläufe in den verschiedenen Organisationseinheiten erforderlich?\n– Gründe für die Entscheidung\, SharePoint als technische Basis zu verwenden\n– Konkrete Umsetzungsbeispiele einzelner Prozesse \nDiese eLecture ist für Sie geeignet\, wenn Sie Interesse an der internen Kooperation und Kommunikation für Hochschulen haben und gerade an der digitalen Umsetzung von Prozessabläufen arbeiten bzw. diese planen. \nCoModeration: Elke Höfler \n\n			\n				\n			\n			Teilnahmekriterien & Info\n		 \n		\n			Lernziele\n		 \n		\n			Voraussetzungen\n		\n		 \n		\n			\n				\n					\n			Technische Voraussetzungen: Grundlegende Computerkenntnisse\, gute Internetverbindung; optional: Headset.  \nSo treten Sie der eLecture im virtuellen Lernraum bei:  \n1. Rufen Sie 10 min vor Terminstart folgende Seite auf:  \nvph.adobeconnect.com/digiph3/ \n2. Geben Sie bitte Ihren Vor- und Nachnamen ein und „Betreten Sie den Raum“ mit Klick auf den Button. \n3. Folgen Sie den Anweisungen auf dem Bildschirm. Sie werden in Kürze eingelassen. \nWenn Sie noch an keiner eLecture teilgenommen haben\, finden Sie alle Infos zum Einstieg unter: www.virtuelle-ph.at/electures/#einstieg \nDie Teilnahme an allen eLectures der Virtuellen PH ist für österreichische Lehrkräfte und Studierende eines Lehramts kostenlos.\n		 \n		\n			# Einen Überblick über eine praxiserprobte Intranetlösung gewinnen.\n# Einblicke in digital unterstützte Arbeitsabläufe erhalten.\n# Standardisierungsmöglichkeiten trotz unterschiedlicher Kernprozesse kennen lernen.
URL:https://www.virtuelle-ph.at/veranstaltung/digiph-electure-interne-kommunikation-und-kooperation-an-hochschulen-am-beispiel-sharepoint/
CATEGORIES:eLecture,Online-Tagung digiPH EL
END:VEVENT
END:VCALENDAR