BEGIN:VCALENDAR
VERSION:2.0
PRODID:-//Virtuelle PH - ECPv6.6.4.2//NONSGML v1.0//EN
CALSCALE:GREGORIAN
METHOD:PUBLISH
X-WR-CALNAME:Virtuelle PH
X-ORIGINAL-URL:https://www.virtuelle-ph.at
X-WR-CALDESC:Veranstaltungen für Virtuelle PH
REFRESH-INTERVAL;VALUE=DURATION:PT1H
X-Robots-Tag:noindex
X-PUBLISHED-TTL:PT1H
BEGIN:VTIMEZONE
TZID:Europe/Berlin
BEGIN:DAYLIGHT
TZOFFSETFROM:+0100
TZOFFSETTO:+0200
TZNAME:CEST
DTSTART:20180325T010000
END:DAYLIGHT
BEGIN:STANDARD
TZOFFSETFROM:+0200
TZOFFSETTO:+0100
TZNAME:CET
DTSTART:20181028T010000
END:STANDARD
END:VTIMEZONE
BEGIN:VEVENT
DTSTART;TZID=Europe/Berlin:20180418T183000
DTEND;TZID=Europe/Berlin:20180418T190000
DTSTAMP:20260420T092541
CREATED:20180306T033813Z
LAST-MODIFIED:20180419T091326Z
UID:10002816-1524076200-1524078000@www.virtuelle-ph.at
SUMMARY:#digiPH eLecture | kompakt: Blended Social Video Learning im Kontext von Kunst/Gender an der Hochschule
DESCRIPTION:
URL:https://www.virtuelle-ph.at/veranstaltung/digiph-electure-kompakt-blended-social-video-learning-im-kontext-von-kunst-gender-an-der-hochschule/
CATEGORIES:eLecture,Online-Tagung digiPH EL
END:VEVENT
END:VCALENDAR