BEGIN:VCALENDAR
VERSION:2.0
PRODID:-//Virtuelle PH - ECPv6.6.4.2//NONSGML v1.0//EN
CALSCALE:GREGORIAN
METHOD:PUBLISH
X-ORIGINAL-URL:https://www.virtuelle-ph.at
X-WR-CALDESC:Veranstaltungen für Virtuelle PH
REFRESH-INTERVAL;VALUE=DURATION:PT1H
X-Robots-Tag:noindex
X-PUBLISHED-TTL:PT1H
BEGIN:VTIMEZONE
TZID:Europe/Berlin
BEGIN:DAYLIGHT
TZOFFSETFROM:+0100
TZOFFSETTO:+0200
TZNAME:CEST
DTSTART:20200329T010000
END:DAYLIGHT
BEGIN:STANDARD
TZOFFSETFROM:+0200
TZOFFSETTO:+0100
TZNAME:CET
DTSTART:20201025T010000
END:STANDARD
END:VTIMEZONE
BEGIN:VEVENT
DTSTART;TZID=Europe/Berlin:20200311T190000
DTEND;TZID=Europe/Berlin:20200311T193000
DTSTAMP:20260425T152154
CREATED:20200210T102220Z
LAST-MODIFIED:20200312T072307Z
UID:10003503-1583953200-1583955000@www.virtuelle-ph.at
SUMMARY:eLecture digiPH3: Blended Learning in der Hochschullehre: “Basic Military English” an der Milak Wr. Neustadt
DESCRIPTION:zur Aufzeichnung\n\n\n						Im Hochschullehrgang der Theresianischen Militärakademie Wiener Neustadt werden Offiziere des Österreichischen Bundesheeres ausgebildet. Derzeit werden alle Lehrveranstaltungen des Studienganges im Präsenzmodus angeboten.  \nDas Referat für Fremdsprachen möchte eine Einführung eines Blended Learning-Konzeptes für das Fach ‚Basic Military English‘ durchführen. \n\nIm Rahmen eines Praxisprojekts an der Fachhochschule Burgenland wird ein Konzept\, von drei Studierenden\, für eine mögliche Umsetzung der Lehrveranstaltung ‚Basic Military English“ im Blended Learning erarbeitet.  \n\nEs wird ein Themenblock der Lehrveranstaltung exemplarisch auf der Lernplattform Moodle ausgearbeitet und der Theresianischen Militärakademie zur Verfügung gestellt. Er dient als Anregung für die weitere Umsetzung der Online-Begleitung der Lehrveranstaltung. Der konkret ausgearbeitete Themenblock enthält Aufgaben zu den unterschiedlichen Sprachkompetenzen Textverständnis\, Hörverständnis\, mündlicher Gebrauch und schriftlicher Gebrauch\, mit verschiedenen Aktivitäten.  \n\nDas Projekt ist ein exemplarisches Beispiel für ein Blended Learning Konzept in der Vermittlung von Fachsprache im Hochschullehrgang. \n\nDiese eLecture ist für Sie geeignet\, wenn …. \n\n…Sie Blended Learning in Ihrer Institution einführen möchten. \n\n…Sie einen Einblick zu den verschiedenen Aktivitätenmöglichkeiten von Studierenden auf dem Lernplattform Moodle bekommen möchten. \n\n…Sie eine Möglichkeit für die Vermittlung einer Fremdsprache im Blended Learning erfahren möchten. \nCoModeration: Daniel Handle-Pfeiffer \n\n			\n				\n			\n			Teilnahmekriterien & Info\n		 \n		\n			Lernziele\n		 \n		\n			Voraussetzungen\n		\n		 \n		\n			\n				\n					\n			Technische Voraussetzungen: Grundlegende Computerkenntnisse\, gute Internetverbindung; optional: Headset.  \nSo treten Sie der eLecture im virtuellen Lernraum bei:  \n1. Rufen Sie 10 min vor Terminstart folgende Seite auf:  \nvph.adobeconnect.com/digiph3/ \n2. Geben Sie bitte Ihren Vor- und Nachnamen ein und „Betreten Sie den Raum“ mit Klick auf den Button. \n3. Folgen Sie den Anweisungen auf dem Bildschirm. Sie werden in Kürze eingelassen. \nWenn Sie noch an keiner eLecture teilgenommen haben\, finden Sie alle Infos zum Einstieg unter: www.virtuelle-ph.at/electures/#einstieg \nDie Teilnahme an allen eLectures der Virtuellen PH ist für österreichische Lehrkräfte und Studierende eines Lehramts kostenlos.\n		 \n		\n			Für den Fremdsprachenunterricht werden verschiedene Aktivitäten auf dem Lernplattform Moodle konzipiert.  \nEine exemplarische Einführung von Blended Learning im Hochschullehrgang wird dargestellt.
URL:https://www.virtuelle-ph.at/veranstaltung/electure-digiph3-blended-learning-in-der-hochschullehre-basic-military-english-an-der-milak-wr-neustadt/
CATEGORIES:eLecture,Online-Tagung digiPH3 EL
ATTACH;FMTTYPE=image/png:https://www.virtuelle-ph.at/wp-content/uploads/2020/02/erez-dawsonkiss-digiph3-fb.png
END:VEVENT
END:VCALENDAR